BEGIN:VCALENDAR
VERSION:2.0
PRODID:-//METK nõuandeteenistus - ECPv6.15.13//NONSGML v1.0//EN
CALSCALE:GREGORIAN
METHOD:PUBLISH
X-ORIGINAL-URL:https://test.pikk.ee
X-WR-CALDESC:Events for METK nõuandeteenistus
REFRESH-INTERVAL;VALUE=DURATION:PT1H
X-Robots-Tag:noindex
X-PUBLISHED-TTL:PT1H
BEGIN:VTIMEZONE
TZID:Europe/Tallinn
BEGIN:DAYLIGHT
TZOFFSETFROM:+0200
TZOFFSETTO:+0300
TZNAME:EEST
DTSTART:20190331T010000
END:DAYLIGHT
BEGIN:STANDARD
TZOFFSETFROM:+0300
TZOFFSETTO:+0200
TZNAME:EET
DTSTART:20191027T010000
END:STANDARD
BEGIN:DAYLIGHT
TZOFFSETFROM:+0200
TZOFFSETTO:+0300
TZNAME:EEST
DTSTART:20200329T010000
END:DAYLIGHT
BEGIN:STANDARD
TZOFFSETFROM:+0300
TZOFFSETTO:+0200
TZNAME:EET
DTSTART:20201025T010000
END:STANDARD
BEGIN:DAYLIGHT
TZOFFSETFROM:+0200
TZOFFSETTO:+0300
TZNAME:EEST
DTSTART:20210328T010000
END:DAYLIGHT
BEGIN:STANDARD
TZOFFSETFROM:+0300
TZOFFSETTO:+0200
TZNAME:EET
DTSTART:20211031T010000
END:STANDARD
END:VTIMEZONE
BEGIN:VEVENT
DTSTART;VALUE=DATE:20201102
DTEND;VALUE=DATE:20201103
DTSTAMP:20260426T065719
CREATED:20200304T070414Z
LAST-MODIFIED:20201104T080324Z
UID:10009562-1604275200-1604361599@test.pikk.ee
SUMMARY:Täienduskoolitus „Ühistu juhtimine“
DESCRIPTION:GRUPP ON TÄITUNUD. \nEesti Maaülikool korraldab 02.11.2020 ühepäevase täienduskoolituse teemal „Ühistu juhtimine“. Koolitus toimub Muhu Liha Tulundusühistus (Oliveri\, Nõmmküla\, Muhu vald\, Saare maakond\, 94752). Rohkem infot nõuete kohta osalejatele on ürituse kirjelduse lõpus. \nKoolituse päevakava:\n11.15–11.30 Registreerimine ja tervituskohv\n11.30–14.15 Rando Värnik\, Eesti Maaülikool. Sissejuhatus. Koostöö ja majanduslik ühistegevus ning ühistegevuslikud põhimõtted ja ühistute iseloomulikud omadused. Ühistu organisatsioonidisaini eripärad ja selle juhtimismudelid ning ühistu juhtimise ja valitsemise erinevus.\n14.15–14.45 Lõuna\n14.45–16.30 Rando Värnik\, Eesti Maaülikool. Ühistegevuslikud investeeringud ja erinevad kapitali kaasamise võimalused. Investori otsimine ja tema osalemine ühistegevusliku organisatsiooni töös\, juhtimises ja valitsemises. Investori roll ühistu omaniku ehk liikmena.\n16.45–16.45 Tagasiside \nKoolituse viib läbi Rando Värnik\, kes on Eesti Maaülikooli maamajanduse ökonoomika professor ja teadmussiirde pikaajalise programmi ühistegevuse tegevusvaldkonnas juht. \nKoolituse õppekava info asub Eesti Maaülikooli õppeinfosüsteemis SIIN ja päevakava SIIN. \nTäienduskoolitusest võib osa võtta põllumajandustoodete tootmise\, töötlemise või turustamisega\, põllumajandusmaa hooldamisega\, põllumajandustoodetest mittepõllumajandustoodete töötlemisega\, sealhulgas toidu valmistamise või töötlemisega\, või metsa majandamisega seotud või nimetatud tegevusega tegelev füüsilisest isikust ettevõtja ja tema töötaja\, eraõigusliku juriidilise isiku osanik\, aktsionär\, liige\, juhtorgani liige ja tema töötaja\, metsa majandamisega tegelev füüsiline isik ja toidu valmistamise või töötlemisega tegelev avalik-õiguslik juriidilise isiku juhtorgani liige või töötaja. Osavõtt on osalejatele tasuta. \nNB! Eelregistreerimine on tingimata vajalik! \nLisainfot saab programmi assistendi kohusetäitja Taavi Kiisalt meili (taavi.kiisk[ät]emu.ee) või telefoni (+372 5192 9840) teel. Registreerimiseks palume osalejatel saata oma ees- ja perekonnanime\, isikukoodi\, ettevõtte äriregistrikoodi ja ärinime ning osaleja telefoninumbri. \nKoolitus toimub teadmussiirde pikaajalise programmi raames ühistegevuse tegevusvaldkonnas. Seda rahastatakse Euroopa Maaelu Arengu Põllumajandusfondi vahenditest\, mistõttu edastatakse registreerimisandmed Põllumajanduse Registrite ja Informatsiooni Ametile. \nKoostöös teeme paremini! \nfacebook.com/yhistegevus\ninstagram.com/yhistegevus\npikk.ee
URL:https://test.pikk.ee/sundmus/taiendkoolitus-uhistegevuse-olemus-ja-voimalused/
LOCATION:Saaremaa\, Saaremaa
CATEGORIES:Ühistegevus
GEO:58.3705526;22.6876383
END:VEVENT
BEGIN:VEVENT
DTSTART;VALUE=DATE:20201102
DTEND;VALUE=DATE:20201103
DTSTAMP:20260426T065719
CREATED:20201020T134637Z
LAST-MODIFIED:20201020T134637Z
UID:10007772-1604275200-1604361599@test.pikk.ee
SUMMARY:Õpiring lihaveisekasvatajatele
DESCRIPTION:Õpiring lihaveisekasvatajatele 02.november \n  \nUderna Farm OÜ-s Uderna küla\, Männiku\, Elva vald  ja \nJõeääre Farm OÜ Jõeääre\, Kambja vald. \nAjakava \n10.45 – 11.00  Kogunemine  Uderna Farm OÜ \n11.00 – 12.00  Lihaveisekasvatusega tutvumine \n12.30 – 15.00  Jõeääre Farm OÜ\, lihaveisekasvatusega tutvumine. Arutelu ja kokkuvõtted. \nÕpiringi teemaks on aastaringne veiste välitingimustes pidamine. \n  \nÕpiringi juhendab Marika Oeselg\, loomakasvatusnõustaja \nTaludes kasvatatakse Herefordi tõugu lihaveised. Veiste eluolu ja pidamist tutvustab Riido Rõigas. \n  \nOsalemine on tasuta ( maksimum 15 osalejat) registreerimine marika.oeselg@gmail.com
URL:https://test.pikk.ee/sundmus/opiring-lihaveisekasvatajatele/
LOCATION:Tartumaa\, Eesti
ORGANIZER;CN="Maaelu Edendamise Sihtasutus":MAILTO:angelika.nops@pikk.ee
GEO:58.4057128;26.801576
END:VEVENT
END:VCALENDAR