BEGIN:VCALENDAR
VERSION:2.0
PRODID:-//METK nõuandeteenistus - ECPv6.15.13//NONSGML v1.0//EN
CALSCALE:GREGORIAN
METHOD:PUBLISH
X-ORIGINAL-URL:https://test.pikk.ee
X-WR-CALDESC:Events for METK nõuandeteenistus
REFRESH-INTERVAL;VALUE=DURATION:PT1H
X-Robots-Tag:noindex
X-PUBLISHED-TTL:PT1H
BEGIN:VTIMEZONE
TZID:Europe/Tallinn
BEGIN:DAYLIGHT
TZOFFSETFROM:+0200
TZOFFSETTO:+0300
TZNAME:EEST
DTSTART:20190331T010000
END:DAYLIGHT
BEGIN:STANDARD
TZOFFSETFROM:+0300
TZOFFSETTO:+0200
TZNAME:EET
DTSTART:20191027T010000
END:STANDARD
BEGIN:DAYLIGHT
TZOFFSETFROM:+0200
TZOFFSETTO:+0300
TZNAME:EEST
DTSTART:20200329T010000
END:DAYLIGHT
BEGIN:STANDARD
TZOFFSETFROM:+0300
TZOFFSETTO:+0200
TZNAME:EET
DTSTART:20201025T010000
END:STANDARD
BEGIN:DAYLIGHT
TZOFFSETFROM:+0200
TZOFFSETTO:+0300
TZNAME:EEST
DTSTART:20210328T010000
END:DAYLIGHT
BEGIN:STANDARD
TZOFFSETFROM:+0300
TZOFFSETTO:+0200
TZNAME:EET
DTSTART:20211031T010000
END:STANDARD
END:VTIMEZONE
BEGIN:VEVENT
DTSTART;VALUE=DATE:20201118
DTEND;VALUE=DATE:20201121
DTSTAMP:20260425T193214
CREATED:20200917T054310Z
LAST-MODIFIED:20200917T054326Z
UID:10009668-1605657600-1605916799@test.pikk.ee
SUMMARY:Taimekaitse aluskoolitus professionaalsele kasutajale
DESCRIPTION:Päevakava \nI PÄEV  \n9.45-10.00 Koolituse alustamine\, dokumentide täitmine\n10.00-11.30 Taimekaitseseadme tüübid; ohutusnõuded taimekaitseseadme kasutamisel\n11.30-11.45  KOHVIPAUS\n11.45-13.15 Ohutusnõuded taimekaitseseadme kasutamisel;  taimekaitseseadme ettevalmistamine tööks; taimekaitseseadme tehniline kontroll (PRAKTILINE töö koolikeskkonnas)\n13.15-14.00 LÕUNA\n14.00-15.30  Sissejuhatus. Integreeritud taimekaitse põhimõtted; turule lubatud taimekaitsevahendite liigitus\n15.30-15.45 KOHVIPAUS\n15.45-18.00  Piraattaimekaitsevahendid;  tööohutus \nII PÄEV  \n9.00-10.30  Tööohutus; ohutusnõuded taimekaitsevahendite  kasutamisel\n10.30-10.45 KOHVIPAUS\n10.45-13.15 Kultuurtaimede kahjustajad\, umbrohud\, nende tõrjevõimalused\n12.15-13.00 LÕUNA\n13.00- 14.30 Taimekaitsevahendi pakendi märgistuse ja ohutuskaardi lugemine;  taimekaitsevahendi   pakendi käitlemine (PRAKTILINE töö koolikeskkonnas)\n14.30-14.45 KOHVIPAUS\n14.45-17.15 Taimekaitsevahendi pakendi käitlemine; seadusandlus\, isikukaitsevahendid\, (PRAKTILINE töö koolikeskkonnas) \nIII PÄEV  \n9.00-10.30 Ülevaade turule lubatud taimekaitsevahenditest\, nende liigitamine (PRAKTILINE töö koolikeskkonnas)\n10.30-10.45  KOHVIPAUS\n10.45-12.15 Taimekaitsevahendi töölahuse valmistamine\, kulunormi arvutamine (PRAKTILINE töö koolikeskkonnas)\n12.15-13.00 LÕUNA\n13.00-15.00 EKSAM – PMA piirkonna inspektor ja Kaja Marrandi \nLektorid: Kaja Marrandi ja Marek Kõbu \nRegistreerimine koolitustele: http://jkhk.ee/pages/taeienduskoolitused/tasuta-pria-kursused.php \n  \nRuth Türk\nJKHK koolitusjuht\nruth.turk@jkhk.ee\n5329 2188 \n  \nKoolitused toimuvad “Teadmussiirde pikaajaline programm taimekasvatuse tegevusvaldkonnas” raames\, toetab Euroopa Liit.
URL:https://test.pikk.ee/sundmus/taimekaitse-aluskoolitus-professionaalsele-kasutajale-29/
LOCATION:Järvamaa\, Järvamaa\, Eesti
CATEGORIES:Taimekaitse
GEO:58.8866713;25.5000624
END:VEVENT
BEGIN:VEVENT
DTSTART;VALUE=DATE:20201120
DTEND;VALUE=DATE:20201121
DTSTAMP:20260425T193214
CREATED:20200918T094808Z
LAST-MODIFIED:20200918T094808Z
UID:10009678-1605830400-1605916799@test.pikk.ee
SUMMARY:Tasuline koolitus Nõustamismetoodika konsulendile
DESCRIPTION:Toimumiskoht:\nTartu Eesti Maaülikool Kreutzwaldi 56/1 auditoorium A 303 või täpsustub.\nAutoga saabujad saavad parkida maaülikooli linnakus tehnikamaja või spordihoone parklas. \nKoolituskuupäevad on:\nI moodul\n19. november\, neljapäev\n20. november\, reede\n26. november\, neljapäev\n27. november\, reede \nII moodul\n3. detsember\, neljapäev\n4. detsember\, reede\n15. detsember\, teisipäev\n16. detsember\, kolmapäev \nAjakava: algus kõikidel päevadel kell 10.15 ja lõpp orienteeruvalt 15.30\nKoolituse läbimise tulemusena omab õppija ettevalmistust konsulendi 5. taseme kutseeksami sooritamiseks. \nSisu:\nI moodul\nRiiklik nõustamissüsteem ja selle toimimine\nKonsulendi roll\, kutse-eetika\nPeamised suhtlemis- ja nõustamisoskused\, mudelid ja tehnikad nõustamisel\nKonsulendi kutsetegevuseks vajalike andmete ja teabe kogumine ning analüüsimine \nII moodul\nNõustamistoode\, nõustamine\nNõustamistegevuse kui ettevõtluse alused\nKliendisuhtluse alused ja kliendi nõustamine\nNõustaja isiklik efektiivsus ja eneseareng\, sh kompetentsi eneseanalüüs kutseeksamiks \n8-päevase koolituse osalustasu on 922 eurot. \nOsalemissoovi korral on kindlasti vajalik eelnevalt registreeruda\, seda saate teha täites registreerumisvormi SIIT. \nKoolitust korraldab\nEesti Maaülikooli avatud ülikool​\nKreutzwaldi 56/1 (III korrus\, ruumid 303-306)\n51006 Tartu\ntel 731 3174\, 731 3175\, 731 3275\, 5344 1844\ne-post: avayl@emu.ee 
URL:https://test.pikk.ee/sundmus/tasuline-koolitus-noustamismetoodika-konsulendile/2020-11-20/
CATEGORIES:Muu
END:VEVENT
BEGIN:VEVENT
DTSTART;VALUE=DATE:20201120
DTEND;VALUE=DATE:20201121
DTSTAMP:20260425T193214
CREATED:20201012T071337Z
LAST-MODIFIED:20201012T071337Z
UID:10009703-1605830400-1605916799@test.pikk.ee
SUMMARY:Taimekaitse täienduskoolitus professionaalsele taimekaitsevahendite kasutajale (11h)
DESCRIPTION:Räpina Aianduskool korraldab Eesti maaelu arengukava 2014–2020 meetme 1 „Teadmussiirde ja teavituse toetuse (üleriigilise ja maakondliku ulatusega tegevused)“ alameetme 1.1. (koolitustegevuste korraldamine) raames taimekaitse täienduskoolitusi. \nMaaeluministri 17.06.2015 määruse nr 68 „Teadmussiirde ja teavituse toetus“ § 5 lg 7 kohaselt võivad  TASUTA täienduskoolitusest osa võtta põllumajandustoodete tootmise\, töötlemise ja turustamise\, põllumajandusmaa hooldamise\, põllumajandustoodetest mittepõllumajandustoodete töötlemise\, sealhulgas toidu valmistamine või töötlemine\, või metsa majandamisega seotud või tegelev füüsilisest isikust ettevõtja ja tema töötaja\, eraõigusliku juriidilise isiku osanik\, aktsionär\, liige\, juhtorgani liige ja tema töötaja\, metsa majandamisega tegelev füüsiline isik või toidu valmistamise või töötlemisega tegeleva avalik-õigusliku juriidilise isiku juhtorgani liige või töötaja. \n2020 II poolaastal toimuvad veel järgmised taimekaitse täienduskoolitused  \n  \nTaimekaitse täienduskoolitus professionaalsele taimekaitsevahendite kasutajale (11h) \n\nReedel\,  20.novembril 2020 kell 9.00 – 19.00 Tartus\, Tartu Põllumeeste Liidus\, Jalaka 48\, Tartu l\n\nKoolitusel saavad osaleda need\, kelle taimekaitse tunnistus aegus alates ajavahemikus 13.03.2020 – käesoleva ajani  \n\nVajalik eelregistreerimine\, sest kohtade arv on piiratud. Registreerimine kursusele lõpetatakse 5 tööpäeva enne koolituse algust või õppegrupi täitumisel.\n\nKursusele registreerumine toimub Räpina Aianduskooli kodulehel: https://www.aianduskool.ee/ulevaade-kursustest/ \nvõi tel: 796 1549 ja 5346 1209 \n\nKoolitusele võtta kaasa oma sülearvuti eksamile ka isikut tõendav dokument ning arvuti laadimise vajadusel ka pikendusjuhe.\nKoolitus on TASUTA sihtgruppi kuuluvatele inimestele õppegrupi täitumiseni.\n\nMaaeluministri 17.06.2015 määruse nr 68 „Teadmussiirde ja teavituse toetus“ § 5 lg 7 kohaselt võivad  TASUTA täienduskoolitusest osa võtta põllumajandustoodete tootmise\, töötlemise ja turustamise\, põllumajandusmaa hooldamise\, põllumajandustoodetest mittepõllumajandustoodete töötlemise\, sealhulgas toidu valmistamine või töötlemine\, või metsa majandamisega seotud või tegelev füüsilisest isikust ettevõtja ja tema töötaja\, eraõigusliku juriidilise isiku osanik\, aktsionär\, liige\, juhtorgani liige ja tema töötaja\, metsa majandamisega tegelev füüsiline isik või toidu valmistamise või töötlemisega tegeleva avalik-õigusliku juriidilise isiku juhtorgani liige või töötaja. \n\nKui õppegrupp on täitunud\, siis on võimalus registreeruda koolituse tasulisele kohale nii täienduskoolituse kui aluskoolituse puhul kuni õppegrupi täitumiseni. Palun jälgida meie kooli kodulehte https://www.aianduskool.ee/ulevaade-kursustest/\nTäpsem info ja kursusele registreerimine toimub Räpina Aianduskooli kodulehel: https://www.aianduskool.ee/ulevaade-kursustest/\n\nvõi tel: 796 1549 ja 5346 1209 \n 
URL:https://test.pikk.ee/sundmus/taimekaitse-taienduskoolitus-professionaalsele-taimekaitsevahendite-kasutajale-11h-3/
LOCATION:Eesti
END:VEVENT
BEGIN:VEVENT
DTSTART;VALUE=DATE:20201120
DTEND;VALUE=DATE:20201121
DTSTAMP:20260425T193214
CREATED:20201109T070744Z
LAST-MODIFIED:20201109T071913Z
UID:10007792-1605830400-1605916799@test.pikk.ee
SUMMARY:Õpiring lihaveisekasvatajatele
DESCRIPTION:Õpiring lihaveisekasvatajatele toimub 20.novembril Karjakoppel OÜ\, tegevuse asukoht Urge küla\, Tori vald Pärnumaa.  \nGrupp komplekteerunud ! \nAjakava \n9.15 – 9.30  Kogunemine  farmi juurde Link asukohale \n9.30 – 11.00 Farmi visiit\, lihaveisekasvatusega tutvumine. \n11.00 – 12.30 Arutelu ja kokkuvõtted. \nÕpiringi arutelu teemaks on grupeerimine\, võõrutamine\, söötmine. \n  \nÕpiringi juhendab Marika Oeselg\, loomakasvatusnõustaja. \nOma kogemusi jagavad Romek ja Robert Gabor. \n  \nOsalemine on tasuta ( maksimum 15 osalejat) registreerimine marika.oeselg@gmail.com
URL:https://test.pikk.ee/sundmus/opiring-lihaveisekasvatajatele-2/
LOCATION:Pärnumaa\, Pärnumaa\, Eesti
ORGANIZER;CN="Maaelu Edendamise Sihtasutus":MAILTO:angelika.nops@pikk.ee
END:VEVENT
END:VCALENDAR