BEGIN:VCALENDAR
VERSION:2.0
PRODID:-//METK nõuandeteenistus - ECPv6.15.13//NONSGML v1.0//EN
CALSCALE:GREGORIAN
METHOD:PUBLISH
X-ORIGINAL-URL:https://test.pikk.ee
X-WR-CALDESC:Events for METK nõuandeteenistus
REFRESH-INTERVAL;VALUE=DURATION:PT1H
X-Robots-Tag:noindex
X-PUBLISHED-TTL:PT1H
BEGIN:VTIMEZONE
TZID:Europe/Tallinn
BEGIN:DAYLIGHT
TZOFFSETFROM:+0200
TZOFFSETTO:+0300
TZNAME:EEST
DTSTART:20190331T010000
END:DAYLIGHT
BEGIN:STANDARD
TZOFFSETFROM:+0300
TZOFFSETTO:+0200
TZNAME:EET
DTSTART:20191027T010000
END:STANDARD
BEGIN:DAYLIGHT
TZOFFSETFROM:+0200
TZOFFSETTO:+0300
TZNAME:EEST
DTSTART:20200329T010000
END:DAYLIGHT
BEGIN:STANDARD
TZOFFSETFROM:+0300
TZOFFSETTO:+0200
TZNAME:EET
DTSTART:20201025T010000
END:STANDARD
BEGIN:DAYLIGHT
TZOFFSETFROM:+0200
TZOFFSETTO:+0300
TZNAME:EEST
DTSTART:20210328T010000
END:DAYLIGHT
BEGIN:STANDARD
TZOFFSETFROM:+0300
TZOFFSETTO:+0200
TZNAME:EET
DTSTART:20211031T010000
END:STANDARD
END:VTIMEZONE
BEGIN:VEVENT
DTSTART;VALUE=DATE:20201124
DTEND;VALUE=DATE:20201125
DTSTAMP:20260425T180453
CREATED:20201007T124917Z
LAST-MODIFIED:20201007T124917Z
UID:10009697-1606176000-1606262399@test.pikk.ee
SUMMARY:Veebipõhine infopäev "Ravimite vastutustundlik kasutamine - seakasvatus"
DESCRIPTION:Toimumisaeg 24. november 2020\nToimumiskoht veebikeskkond BigBlueButton\nTäpsemad juhised koolituse läbimiseks saadame registreerunud osalejatele meilile.\nKõige üldisemad soovitused veebiseminaril osalemiseks:\n– Veebiseminari sisenemise link saadetakse enne seminari algust registreerumisel märgitud e-postile.\n– BBB kasutamiseks on vaja kiiret internetiühendust (võimalusel kaabliga\, mitte wifit).\n– Audio kuulamiseks on vaja kõrvaklappe või kõlareid\, rääkimiseks mikrofoni ning enda videopildi edastamiseks veebikaamerat. (Kui kahte viimast ei ole\, saab ikkagi õppes osaleda.)\n– BBB kasutamiseks sobib kõige paremini Google Chrome. Sellele järgneb Firefox ning Opera. Teiste veebilehitsejega võib esineda probleeme helikvaliteedis ning ekraanijagamisel. Internet Exploreriga BBB ei tööta.\nAjakava \n\n\n\n11.30 – 11.45 veebiruumi sisenemine ja sissejuhatus\n11.45 – 13.00 õppetöö / Birgit Aasmäe\n13.00 – 13.20 paus\n13.20 – 14.20 õppetöö / Birgit Aasmäe\n14.20 – 14.30 paus\n14.30 – 15.15 õppetöö / Julia Jeremejeva\n\n\n\nSisu\n– Antibiootikumide mõistlik kasutamine\n– Mikroobide resistentsuse ja sellega kaasnevad probleemid \nLektorid\nEesti Maaülikoolist Birgit Aasmäe ja Julia Jeremejeva \nOsalemine on tasuta.\nOsalemissoovi korral on vajalik eelnevalt registreeruda\, seda saate teha SIIT. \nInfopäev toimub programmi\n“Teadmussiirde pikaajaline programm loomakasvatuse valdkonnas” raames\, on rahastatud Eesti maaelu arengukava 2014 – 2020 vahenditest ja on kõigile tasuta. \nKõigi sama meetme raames toimunud infopäevade materjalidega on võimalik tutvuda maaülikooli kodulehel. \nInfopäeva korraldab\nEesti Maaülikooli avatud ülikool​\nKreutzwaldi 56/1 (III korrus\, ruumid 303-306)\,\n51006 Tartu\ntel 731 3174\, 731 3175\, 731 3275\, 5344 1844\ne-post: avayl@emu.ee
URL:https://test.pikk.ee/sundmus/veebipohine-infopaev-ravimite-vastutustundlik-kasutamine-seakasvatus/
LOCATION:Muu\, Eesti
CATEGORIES:Loomakasvatus
ORGANIZER;CN="Eesti Maa%C3%BClikooli avatud %C3%BClikool":MAILTO:avayl@emu.ee
GEO:58.595272;25.0136071
END:VEVENT
BEGIN:VEVENT
DTSTART;VALUE=DATE:20201124
DTEND;VALUE=DATE:20201125
DTSTAMP:20260425T180453
CREATED:20201109T084030Z
LAST-MODIFIED:20201109T084030Z
UID:10007795-1606176000-1606262399@test.pikk.ee
SUMMARY:Infopäev „Lambakasvatus ja lambakasvatussaaduste tootmine ning väärindamine“.
DESCRIPTION:Tartumaa põllumeeste liit korraldab 24. novembril algusega 10.00 Navi seltsimajas infopäeva „Lambakasvatus ja lambakasvatussaaduste tootmine ning väärindamine“. \nLektor Hillar Kalda käsitleb teemasid: \nLambakasvatussaaduste tootmine ja väärindamine \nLammaste iseärasuste mõistmine \nLammaste poegimisperioodi planeerimine ja organiseerimine \nLambakasvatusrajatised \nSuurkiskjate rünnakute ennetamine ja vältimine \nKuidas on lambakasvatajal võimalik saada PRIA poolt toetatavat nõustamist. \nRegistreerimine: https://forms.gle/TnazLWvi9deJ11c69 \nPalun registreerida võimalikult ruttu\, sest peame jälgima tervisenõudeid ja saame saali lubada vaid 30 osalejat – kes ees\, see mees… \nKohapeal olemas desinfitseerimisvahendid ja näomaskid. \nLisainfo: Jaan Sõrra\, 508 7320.
URL:https://test.pikk.ee/sundmus/infopaev-lambakasvatus-ja-lambakasvatussaaduste-tootmine-ning-vaarindamine/
LOCATION:Võrumaa\, Võrumaa
CATEGORIES:Loomakasvatus
GEO:57.7377372;27.1398938
END:VEVENT
BEGIN:VEVENT
DTSTART;VALUE=DATE:20201124
DTEND;VALUE=DATE:20201125
DTSTAMP:20260425T180453
CREATED:20201110T063148Z
LAST-MODIFIED:20201208T173005Z
UID:10009729-1606176000-1606262399@test.pikk.ee
SUMMARY:Jätkusuutlik loomakasvatus - hea algus vasikakasvatuses
DESCRIPTION:Anu Ait OÜ kutsub Sind osa võtma infopäevast \n  \nIga piimakarjakasvatusega tegeleva ettevõtja eesmärk on saada võimalikult palju tulu piima ja tõuloomade müügist. Selle eelduseks on omada tervet ja kõrgetoodangulist piimakarja. Kuidas tagada jätkusuutlik loomakasvatus? Üks võimalus on hea algus vasikakasvatuses. \nKoolitus: Jätkusuutlik loomakasvatus – hea algus vasikakasvatuses \nAeg: 24.11.2020 \nKoht: Märjal Aretuse 2\, Märja 61406 Tartu linn. ETKÜ saalis. Võimalus osaleda koolitusel ka veebi kaudu. \nAjakava: \n10.30 kogunemine ja suhtlemise aeg (kohvi/tee\, kerge eine) \n10.45 LIITUJAD VEEBIS \n11.00 -12.30 DENKAVIT\, Gert van Trierum\, Denkaviti vasikakasvatuse teadustöö- ja arengujuht. \n12.30-13.00 Esimese poegimisvahemiku pikkuse seos piimatoodanguga\, kasvatuse erinevad aspektid – Aadi Remmik EMÜ\, Majandus- ja sotsiaalinstituudi doktorant \n13.00-13.30 Veise heaolu hindamine – vasika tervis ja käitumine. Vasika tervise näitajad on piimaveise heaolu hindamise üks olulisi aspekte. Marko Kass EMÜ veterinaarmeditsiini ja loomakasvatuse instituut\, söötmisteaduse õppetool\, dotsent \n13.30-14.00 Sirutuspaus (kohvi/ tee\, kerge eine) \n14.00-14.30 Lehmade poegimiseelne vaktsineerimine – kas võimalus vähendada antibiootikumide kasutamist vasikate ravis? Dagni-Alice Viidu EMÜ\, Veterinaarmeditsiini ja loomakasvatuse instituut\, Kliinilise veterinaarmeditsiini õppetool\, nooremteadur \n14.30-15.15– Piimaveisekarjade bioturvalisus – kuidas ennetada haiguspuhanguid? Kerli Mõtus EMÜ\, Veterinaarmeditsiini ja loomakasvatuse instituut\, Kliinilise veterinaarmeditsiini õppetool\, karjatervise dotsent \n15.15-15.30 Sirutuspaus \n15.30-16.15 Vasikate hingamisteede haiguse ohjamise meetmed piimaveisekarjades – kuidas jätta kõrvale antibiootikumid? Kerli Mõtus EMÜ\, Veterinaarmeditsiini ja loomakasvatuse instituut\, Kliinilise veterinaarmeditsiini õppetool\, karjatervise dotsent \nKoolitus on tasuta. \nRegistreerimise link https://forms.gle/cpYgpJfnwVYtKmNS6 \n  \nInfopäev toimub MAK 2014-2020 “Teadmussiirde ja teavituse toetuse üleriigilise ulatusega tegevuste” meetme 1 raames\, tegevust toetab Euroopa Liit. \n  \nKõike head soovides/Best regards \nAnu Hellenurme \nJuhatuse liige/CEO \n  \nAnu Ait OÜ \nVinkli 2\, Tartu 50411 \n+ 372 501 0842 \nanu@anuait.ee \nwww.anuait.ee \n 
URL:https://test.pikk.ee/sundmus/pollumajandusettevotte-meeskonna-ja-kommunikatsiooni-juhtimine-jatkusuutlik-loomakasvatus/
LOCATION:Tartumaa\, Eesti
GEO:58.4057128;26.801576
END:VEVENT
BEGIN:VEVENT
DTSTART;VALUE=DATE:20201124
DTEND;VALUE=DATE:20201125
DTSTAMP:20260425T180453
CREATED:20201111T120611Z
LAST-MODIFIED:20201119T074528Z
UID:10009734-1606176000-1606262399@test.pikk.ee
SUMMARY:Ettevõtte külastus „Toormele lisandväärtuse andmine“
DESCRIPTION:NB! Osalejate arv on väga piiratud! \nEesti Maaülikool korraldab 24.11.2020 ettevõtte külastuse teemal „Toormele lisandväärtuse andmine“. Fookuses on marjakasvatus ja külastatakse Kindel Käsi OÜ-d (Maarjakase\, Unipiha küla\, Nõo vald\, Tartu maakond\, 61619). Ettevõtte külastus algab kell 9.00 ja lõpeb orienteeruvalt 14.15\, transport ettevõttesse ja tagasi toimub isiklike sõiduautodega. Rohkem infot nõuete kohta osalejatele on ürituse kirjelduse lõpus. \nPäeva juhib Rando Värnik\, kes on Eesti Maaülikooli maamajanduse ökonoomika professor ja teadmussiirde pikaajalise programmi ühistegevuse tegevusvaldkonnas juht. Külastuse käigus jagatakse kogemusi ja uuritakse võimalusi koostöö tugevdamiseks ja seeläbi toormele väärtuse lisamiseks. Sestap on eriti oodatud marjakasvatuses tegutsevad tootjad. \nEttevõtte külastusest võib osa võtta põllumajandustoodete tootmise\, töötlemise või turustamisega\, põllumajandusmaa hooldamisega\, põllumajandustoodetest mittepõllumajandustoodete töötlemisega\, sealhulgas toidu valmistamise või töötlemisega\, või metsa majandamisega seotud või nimetatud tegevusega tegelev füüsilisest isikust ettevõtja ja tema töötaja\, eraõigusliku juriidilise isiku osanik\, aktsionär\, liige\, juhtorgani liige ja tema töötaja\, metsa majandamisega tegelev füüsiline isik ja toidu valmistamise või töötlemisega tegelev avalik-õiguslik juriidilise isiku juhtorgani liige või töötaja. Osavõtt on osalejatele tasuta. \nLisainfot saab programmi assistendi kohusetäitja Taavi Kiisalt meili (taavi.kiisk[ät]emu.ee) või telefoni (+372 5192 9840) teel. Registreerimiseks palume osalejatel saata oma ees- ja perekonnanime\, isikukoodi\, ettevõtte äriregistrikoodi ja ärinime ning osaleja telefoninumbri. \nEttevõtte külastus toimub teadmussiirde pikaajalise programmi raames ühistegevuse tegevusvaldkonnas. Seda rahastatakse Euroopa Maaelu Arengu Põllumajandusfondi vahenditest\, mistõttu edastatakse registreerimisandmed Põllumajanduse Registrite ja Informatsiooni Ametile. \nKoostöös teeme paremini! \nfacebook.com/yhistegevus\ninstagram.com/yhistegevus\npikk.ee
URL:https://test.pikk.ee/sundmus/ettevotte-kulastus-toormele-lisandvaartuse-andmine/
LOCATION:Tartu\, Eesti
CATEGORIES:Ühistegevus
END:VEVENT
END:VCALENDAR