BEGIN:VCALENDAR
VERSION:2.0
PRODID:-//METK nõuandeteenistus - ECPv6.15.13//NONSGML v1.0//EN
CALSCALE:GREGORIAN
METHOD:PUBLISH
X-ORIGINAL-URL:https://test.pikk.ee
X-WR-CALDESC:Events for METK nõuandeteenistus
REFRESH-INTERVAL;VALUE=DURATION:PT1H
X-Robots-Tag:noindex
X-PUBLISHED-TTL:PT1H
BEGIN:VTIMEZONE
TZID:Europe/Tallinn
BEGIN:DAYLIGHT
TZOFFSETFROM:+0200
TZOFFSETTO:+0300
TZNAME:EEST
DTSTART:20190331T010000
END:DAYLIGHT
BEGIN:STANDARD
TZOFFSETFROM:+0300
TZOFFSETTO:+0200
TZNAME:EET
DTSTART:20191027T010000
END:STANDARD
BEGIN:DAYLIGHT
TZOFFSETFROM:+0200
TZOFFSETTO:+0300
TZNAME:EEST
DTSTART:20200329T010000
END:DAYLIGHT
BEGIN:STANDARD
TZOFFSETFROM:+0300
TZOFFSETTO:+0200
TZNAME:EET
DTSTART:20201025T010000
END:STANDARD
BEGIN:DAYLIGHT
TZOFFSETFROM:+0200
TZOFFSETTO:+0300
TZNAME:EEST
DTSTART:20210328T010000
END:DAYLIGHT
BEGIN:STANDARD
TZOFFSETFROM:+0300
TZOFFSETTO:+0200
TZNAME:EET
DTSTART:20211031T010000
END:STANDARD
END:VTIMEZONE
BEGIN:VEVENT
DTSTART;VALUE=DATE:20201125
DTEND;VALUE=DATE:20201126
DTSTAMP:20260425T180429
CREATED:20201029T144313Z
LAST-MODIFIED:20201030T122257Z
UID:10009717-1606262400-1606348799@test.pikk.ee
SUMMARY:Mitmekesistamise toetusmeetme infopäeva
DESCRIPTION:Hea ettevõtja \n  \nMaapiirkonnas majandustegevuse mitmekesistamise investeeringutoetuse suurus on kuni 150 000 eurot. \nToetust saab kasutada uute seadmete ostmiseks ja tootmis- või teenindusruumide ehitamiseks. \nPRIA võtab taotlusi vastu kahe nädala jooksul 2021. aasta märtsis. Projekti ettevalmistustega tuleks alustada juba varakult. \nKõige sagedamini esitatud küsimused: \n–          milleks saab ja milleks ei saa mitmekesistamise toetust kasutada? \n–          millised ettevõtted saavad mitmekesistamise toetust kasutada? \n–          mida peab silmas pidama toetuse taotlemisel? \nMaakondlike arenduskeskuste ja Leader kohalike tegevusgruppide poolt korraldatava Mitmekesistamise toetusmeetme infopäevad: \nViljandi\, 5. november (täpsem info Viljandimaa Arenduskeskus) \nJõgevamaa\, 25. november (täpsem info Jõgevamaa Arenduskeskus) \nRakvere\, 26. november (täpsem info Lääne-Viru Arenduskeskus) \nKuressaare\, 3. detsember (täpsem info Saare Arenduskeskus) \nRaplamaa\, 6. jaanuar 2021 (täpsem info Raplamaa Partnerluskogu) \nPärnumaa\, jaanuar 2021 (täpsem info Pärnumaa Arenduskeskus) \nVõrumaa\, jaanuar 2021 (täpsem info Võrumaa Arenduskeskus) \n 
URL:https://test.pikk.ee/sundmus/mitmekesistamise-toetusmeetme-infopaeva/
LOCATION:Jõgevamaa\, Jõgevamaa\, Eesti
END:VEVENT
BEGIN:VEVENT
DTSTART;VALUE=DATE:20201125
DTEND;VALUE=DATE:20201126
DTSTAMP:20260425T180429
CREATED:20201104T055107Z
LAST-MODIFIED:20201104T061046Z
UID:10009726-1606262400-1606348799@test.pikk.ee
SUMMARY:Veebipõhine infopäev toidukäitlejale: uued õigusaktid ja järelevalve
DESCRIPTION:Eesti Toiduainetööstuse Liit korraldab ka sel aastal infopäeva\, kus käsitletakse uudiseid\, arenguid ja suundumusi toiduohutuse nõuete ning järelevalve osas. Infopäev korraldatakse koostöös Maaeluministeeriumi ning Veterinaar- ja Toiduametiga. Infopäev toimub veebiülekandena 25. novembril algusega kl 10:00. \nPäevakava*: \n\n\n\n10:00-10:10\nSissejuhatus\n\n\n10:10-10:30\nEuroopa Liidu strateegia „Talust taldrikule“ („Farm to fork“). Anneli Tuvike\, Maaeluministeeriumi toiduohutuse osakonna juhataja asetäitja\n\n\n10:30–10:45\nToidutööstusele olulised aspektid strateegias „Talust taldrikule“. Sirje Potisepp\, Toiduliidu juhataja\n\n\n10:45-11:15\nToiduseaduse muutmise seaduse rakendusaktid. Katrin Kempi\, Maaeluministeeriumi toiduohutuse osakonna toidu keemilise ja bioloogilise ohutuse büroo peaspetsialist\n\n\n11:15-11:30\nKüsimused-vastused\n\n\n11:30-11:40\nPaus\n\n\n11:40-12:00\nEL toiduahela riskihindamise läbipaistvuse ja kestlikkuse määrus. Piret Priisalu\, Maaeluministeeriumi toiduohutuse osakonna nõunik\n\n\n12:00-12:20\nPõllumajandus- ja Toiduameti loomisest. Katrin Reili\, Veterinaar- ja Toiduameti peadirektori asetäitja peadirektori ülesannetes\n\n\n12:20-12:45\nÜlevaade järelevalvetulemustest. Olev Kalda\, Veterinaar- ja Toiduameti peadirektori asetäitja\n\n\n12:45-13:00\nKüsimused-vastused\n\n\n13:00-13:30\nPaus\n\n\n13:30-13:50\nSöödast toidukäitlejale. Söödalisandid. Eda Ernes\, Maaeluministeeriumi toiduohutuse osakonna toidu keemilise ja bioloogilise ohutuse büroo peaspetsialist\n\n\n13:50-14:10\nToidu koostise kaardistamise uuringu tulemused ja edasised tegevused reformuleerimise valdkonnas. Haidi Kanamäe\, Tervise Arengu Instituudi toitumise ja liikumise valdkonna juht\n\n\n14:10-14:20\nKüsimuse-vastused\n\n\n14:20-14:30\nÜlevaade viimasel ajal valminud teabematerjalidest. Kairi Ringo\, teadmussiirde pikaajalise programmi toiduohutuse valdkonnas projektijuht\n\n\n14:30\nInfopäeva lõpetamine\n\n\n\n*Korraldajal on õigus teha päevakavas muudatusi. \nInfopäevast võivad osa võtta kõik valdkonnas tegutsevad või sellest huvitatud isikud. Tegemist on vähese tähtsusega abiga\, abisumma on 70 eurot ühe osaleva inimese kohta. Osalemine on tasuta\, kui ettevõtte vähese tähtsusega abi määr ei ole ületatud. \nRegistreerumine ja täpsem info: toiduteave.ee lehel 
URL:https://test.pikk.ee/sundmus/infopaev-oigusaktid-jarelevalve/
LOCATION:Muu\, Eesti
CATEGORIES:Toiduainete tootmine
GEO:58.595272;25.0136071
END:VEVENT
BEGIN:VEVENT
DTSTART;VALUE=DATE:20201125
DTEND;VALUE=DATE:20201126
DTSTAMP:20260425T180429
CREATED:20201109T095439Z
LAST-MODIFIED:20201109T095439Z
UID:10007796-1606262400-1606348799@test.pikk.ee
SUMMARY:Infopäev „Nutikad lahendused marjakasvatuses (maasikas\, vaarikas\, mustikas)“
DESCRIPTION:Tartumaa põllumeeste liit korraldab 25. novembril algusega 10.00 Jalaka 48 tasuta infopäeva „Nutikad lahendused marjakasvatuses (maasikas\, vaarikas\, mustikas)“. Konsulent Margus Kopp käsitleb teemasid: \nErinevate niisutussüsteemide plussid ja miinused \nMulla happesuse reguleerimine \nIntegreeritud taimekaitse \nUued tehnoloogilised lahendused \nRegistreerimine: https://forms.gle/zpLtTfzXVDgAWmCn8 \nPalun registreerida võimalikult ruttu\, sest peame jälgima tervisenõudeid ja saame saali lubada vaid 25 osalejat – kes ees\, see mees… \nKohapeal olemas desinfitseerimisvahendid ja näomaskid. \nLisainfo: Jaan Sõrra\, 508 7320.
URL:https://test.pikk.ee/sundmus/infopaev-nutikad-lahendused-marjakasvatuses-maasikas-vaarikas-mustikas/
LOCATION:Tartu\, Eesti
CATEGORIES:Aiandus
END:VEVENT
BEGIN:VEVENT
DTSTART;VALUE=DATE:20201125
DTEND;VALUE=DATE:20201127
DTSTAMP:20260425T180429
CREATED:20201012T193123Z
LAST-MODIFIED:20201012T193544Z
UID:10009706-1606262400-1606435199@test.pikk.ee
SUMMARY:Kitsekasvatuse põhitõed (60 t)
DESCRIPTION:Kitsekasvatuse põhitõed (60 tundi) esimesed koolituspäevad 21 ja 22 oktoober 2020 Järvamaa Kutsehariduskeskuse Särevere õppekohas. \nKoolitajateks Marge Salumäe\, Liilia Tali\, Katrin Tähepõld.
URL:https://test.pikk.ee/sundmus/kitsekasvatuse-pohitoed-60-t/2020-11-25/
LOCATION:Järvamaa\, Järvamaa\, Eesti
CATEGORIES:Loomakasvatus
GEO:58.8866713;25.5000624
END:VEVENT
BEGIN:VEVENT
DTSTART;VALUE=DATE:20201125
DTEND;VALUE=DATE:20201127
DTSTAMP:20260425T180429
CREATED:20201103T123722Z
LAST-MODIFIED:20201103T123736Z
UID:10009724-1606262400-1606435199@test.pikk.ee
SUMMARY:Koolitus MESi konsulentidele
DESCRIPTION:Koolituse ajakava: \n25. november  2020 kell 10.00-17.00  \n26. november 2020 kell 9.00-17.55 \nSihtrühmale on info edastatud meili teel.
URL:https://test.pikk.ee/sundmus/koolitus-mesi-konsulentidele/
LOCATION:Järvamaa\, Järvamaa\, Eesti
ORGANIZER;CN="Maaelu Edendamise Sihtasutus":MAILTO:angelika.nops@pikk.ee
GEO:58.8866713;25.5000624
END:VEVENT
END:VCALENDAR