BEGIN:VCALENDAR
VERSION:2.0
PRODID:-//METK nõuandeteenistus - ECPv6.15.13//NONSGML v1.0//EN
CALSCALE:GREGORIAN
METHOD:PUBLISH
X-ORIGINAL-URL:https://test.pikk.ee
X-WR-CALDESC:Events for METK nõuandeteenistus
REFRESH-INTERVAL;VALUE=DURATION:PT1H
X-Robots-Tag:noindex
X-PUBLISHED-TTL:PT1H
BEGIN:VTIMEZONE
TZID:Europe/Tallinn
BEGIN:DAYLIGHT
TZOFFSETFROM:+0200
TZOFFSETTO:+0300
TZNAME:EEST
DTSTART:20190331T010000
END:DAYLIGHT
BEGIN:STANDARD
TZOFFSETFROM:+0300
TZOFFSETTO:+0200
TZNAME:EET
DTSTART:20191027T010000
END:STANDARD
BEGIN:DAYLIGHT
TZOFFSETFROM:+0200
TZOFFSETTO:+0300
TZNAME:EEST
DTSTART:20200329T010000
END:DAYLIGHT
BEGIN:STANDARD
TZOFFSETFROM:+0300
TZOFFSETTO:+0200
TZNAME:EET
DTSTART:20201025T010000
END:STANDARD
BEGIN:DAYLIGHT
TZOFFSETFROM:+0200
TZOFFSETTO:+0300
TZNAME:EEST
DTSTART:20210328T010000
END:DAYLIGHT
BEGIN:STANDARD
TZOFFSETFROM:+0300
TZOFFSETTO:+0200
TZNAME:EET
DTSTART:20211031T010000
END:STANDARD
END:VTIMEZONE
BEGIN:VEVENT
DTSTART;VALUE=DATE:20201125
DTEND;VALUE=DATE:20201127
DTSTAMP:20260425T193150
CREATED:20201012T193123Z
LAST-MODIFIED:20201012T193544Z
UID:10009706-1606262400-1606435199@test.pikk.ee
SUMMARY:Kitsekasvatuse põhitõed (60 t)
DESCRIPTION:Kitsekasvatuse põhitõed (60 tundi) esimesed koolituspäevad 21 ja 22 oktoober 2020 Järvamaa Kutsehariduskeskuse Särevere õppekohas. \nKoolitajateks Marge Salumäe\, Liilia Tali\, Katrin Tähepõld.
URL:https://test.pikk.ee/sundmus/kitsekasvatuse-pohitoed-60-t/2020-11-25/
LOCATION:Järvamaa\, Järvamaa\, Eesti
CATEGORIES:Loomakasvatus
GEO:58.8866713;25.5000624
END:VEVENT
BEGIN:VEVENT
DTSTART;VALUE=DATE:20201125
DTEND;VALUE=DATE:20201127
DTSTAMP:20260425T193150
CREATED:20201103T123722Z
LAST-MODIFIED:20201103T123736Z
UID:10009724-1606262400-1606435199@test.pikk.ee
SUMMARY:Koolitus MESi konsulentidele
DESCRIPTION:Koolituse ajakava: \n25. november  2020 kell 10.00-17.00  \n26. november 2020 kell 9.00-17.55 \nSihtrühmale on info edastatud meili teel.
URL:https://test.pikk.ee/sundmus/koolitus-mesi-konsulentidele/
LOCATION:Järvamaa\, Järvamaa\, Eesti
ORGANIZER;CN="Maaelu Edendamise Sihtasutus":MAILTO:angelika.nops@pikk.ee
GEO:58.8866713;25.5000624
END:VEVENT
BEGIN:VEVENT
DTSTART;VALUE=DATE:20201126
DTEND;VALUE=DATE:20201127
DTSTAMP:20260425T193150
CREATED:20200918T094808Z
LAST-MODIFIED:20200918T094808Z
UID:10009679-1606348800-1606435199@test.pikk.ee
SUMMARY:Tasuline koolitus Nõustamismetoodika konsulendile
DESCRIPTION:Toimumiskoht:\nTartu Eesti Maaülikool Kreutzwaldi 56/1 auditoorium A 303 või täpsustub.\nAutoga saabujad saavad parkida maaülikooli linnakus tehnikamaja või spordihoone parklas. \nKoolituskuupäevad on:\nI moodul\n19. november\, neljapäev\n20. november\, reede\n26. november\, neljapäev\n27. november\, reede \nII moodul\n3. detsember\, neljapäev\n4. detsember\, reede\n15. detsember\, teisipäev\n16. detsember\, kolmapäev \nAjakava: algus kõikidel päevadel kell 10.15 ja lõpp orienteeruvalt 15.30\nKoolituse läbimise tulemusena omab õppija ettevalmistust konsulendi 5. taseme kutseeksami sooritamiseks. \nSisu:\nI moodul\nRiiklik nõustamissüsteem ja selle toimimine\nKonsulendi roll\, kutse-eetika\nPeamised suhtlemis- ja nõustamisoskused\, mudelid ja tehnikad nõustamisel\nKonsulendi kutsetegevuseks vajalike andmete ja teabe kogumine ning analüüsimine \nII moodul\nNõustamistoode\, nõustamine\nNõustamistegevuse kui ettevõtluse alused\nKliendisuhtluse alused ja kliendi nõustamine\nNõustaja isiklik efektiivsus ja eneseareng\, sh kompetentsi eneseanalüüs kutseeksamiks \n8-päevase koolituse osalustasu on 922 eurot. \nOsalemissoovi korral on kindlasti vajalik eelnevalt registreeruda\, seda saate teha täites registreerumisvormi SIIT. \nKoolitust korraldab\nEesti Maaülikooli avatud ülikool​\nKreutzwaldi 56/1 (III korrus\, ruumid 303-306)\n51006 Tartu\ntel 731 3174\, 731 3175\, 731 3275\, 5344 1844\ne-post: avayl@emu.ee 
URL:https://test.pikk.ee/sundmus/tasuline-koolitus-noustamismetoodika-konsulendile/2020-11-26/
CATEGORIES:Muu
END:VEVENT
BEGIN:VEVENT
DTSTART;VALUE=DATE:20201126
DTEND;VALUE=DATE:20201127
DTSTAMP:20260425T193150
CREATED:20201002T114540Z
LAST-MODIFIED:20201117T120642Z
UID:10007759-1606348800-1606435199@test.pikk.ee
SUMMARY:Veebipõhine koolitus Põllumajandusloomade söötmine
DESCRIPTION:Koolitus toimub veebikeskkonnas BigBlueButton \n– BBB kasutamiseks on vaja kiiret internetiühendust (võimalusel kaabliga\, mitte wifit).\n– Audio kuulamiseks on vaja kõrvaklappe või kõlareid\, rääkimiseks mikrofoni ning enda videopildi edastamiseks veebikaamerat. (Kui kahte viimast ei ole\, saab ikkagi õppes osaleda.)\n– BBB kasutamiseks sobib kõige paremini Google Chrome. Sellele järgneb Firefox ning Opera. Teiste veebilehitsejega võib esineda probleeme helikvaliteedis ning ekraanijagamisel. Internet Exploreriga BBB ei tööta. \nTäpsemad juhised saadetakse registreerujatele meilile. \nToimumisaeg 26.11.2020 \nAjakava\n9.15 – 9.30 veebiruumi sisse logimine ja sissejuhatus\n9.30 – 11.00 õppetöö\n11.00 – 11.45 lõuna\n11.45 – 13.15 õppetöö\n13.15 – 13.30 paus\n13.30 – 15.00 õppetöö \nLektorid: \nMeelis Ots\, Eesti Maaülikooli söötmisteaduse õppetooli professor\nPriit Karis\,Eesti Maaülikooli söötmisteaduse õppetooli nooremteadur \nSisu: \n“Põllumajandusloomade söötmine – piimaveiste söötmine” \n* Piimaveiste uuendnoorkarja söötmine\n* Lüpsilehmade söötmine laktatsiooniperioodil\, sh ainevahetuslikud muutused üleminekuperioodil\n* Lüpsilehmade söötmine kinnisperioodil \n\n\n\nKoolitus toimub programmi “Teadmussiirde pikaajaline programm loomakasvatuse valdkonnas” raames ja on sihtrühmale tasuta. Koolitus on rahastatud Eesti maaelu arengukava 2014 – 2020 vahenditest.\n\n\n\nOsalemissoovi korral on vajalik eelregistreerimine\, seda saate teha SIIT. \nEesti Maaülikooli avatud ülikool​\nKreutzwaldi 56/1 (III korrus\, ruumid 303-306)\,\n51006 Tartu\ntel 731 3174\, 731 3175\, 731 3275\, 5344 1844\ne-post: avayl@emu.ee
URL:https://test.pikk.ee/sundmus/koolitus-pollumajandusloomade-sootmine/
LOCATION:Tartumaa\, Eesti
CATEGORIES:Loomakasvatus
GEO:58.4057128;26.801576
END:VEVENT
BEGIN:VEVENT
DTSTART;VALUE=DATE:20201126
DTEND;VALUE=DATE:20201127
DTSTAMP:20260425T193150
CREATED:20201020T070529Z
LAST-MODIFIED:20201217T152840Z
UID:10007769-1606348800-1606435199@test.pikk.ee
SUMMARY:Toidusektori tootearenduspäevad 2020
DESCRIPTION:Toidusektori tootearenduspäevad 2020 konverentsi sisu ja ülesehitus\n  \nToimumisaeg: N 26. novembril \nKorraldaja: Eesti Toiduainetööstuse Liit \nLäbiviija: Eesti Kaubandus-Tööstuskoda \nToimumiskoht: Veebis Zoom platvormil \nTootearenduspäeva moderaator on Kaur Orgusaar\, Eesti Kaubandus Tööstuskoja kommunikatsioonijuht \n  \nArvestades toidutööstuste olulist rolli ja meid ümbritsevat keskkonda seoses koroonaviiruse levikuga ning Terviseameti soovitustega\, oleme Tootearenduspäevi läbi viimas ainult virtuaalsena s.t. ilma osalejateta saalis. \n  \nNB! Osaleda saavad ettevõtted\, kelle põhitegevusalaks on toidu tootmine või töötlemine (v.a kalatoodete tootmine) \n  \nOsalemine Tootearenduspäevadel on TASUTA\, aga väga oluline on registreerimine SIIN \n  \n1.1. Esimene Tootearenduspäev\nNeljapäev\, 26. november 2020  \nZoom platvormil  \n  \n9.45-10.00 Registreerimine ja esimese Tootearenduspäeva veebiruumi avamine \n10.00- 11.15 Brändi eesmärgist brändi aktivismini: miks peavad luksusbrändid seisukohta võtma\, Klaus Heine\, koolitaja ja konsultant\,  1\,67 akadeemilist tundi \nTeemad\, mida käsitletakse: \n– juhtumiuuringud ning näited\, mis näitavad kõrgema (brändi) eesmärgi loomise potentsiaali (ja riski) \n– brändi eesmärk ja brändi aktivism- mis need on? \n11.15 -11.30 sirutuspaus \n11:30 – 13:30 Brändi identiteedi planeerimine: oma brändi sümboolse potentsiaali hindamine\, Klaus Heine\, koolitaja ja konsultant\,  2\,67 akadeemilist tundi  (sisaldab praktilisi harjutusi osalejatele 1 akadeemiline tund) \nTeemad\, mida käsitletakse: \n– Brändiehituse lõuendi (Brand-Building Canvas ing.k) tutvustus\, mis aitab osalejatel mõelda läbi peamised olemasolevad võimalused oma brändi tähenduse toetamiseks;\n– Praktiline ülesanne: osalejad teevad oma brändi sümboolsest potentsiaalist ülevaate\, rakendades oma kaubamärgile Brand-Building Canvas; selle põhjal saavad nad täpsustada brändi nõrgad kohad ja kasutamata (sümboolse) potentsiaali piirkonnad. \n13.30-14.00 Lõunapaus \n14.00-14.45 Sotsiaalmeedia võimalused tootearendusse sisendi saamiseks Birgit Karus (1 akadeemiline tund) \n14.45- 15.30 Praktiline harjutus\, mida viib läbi päeva moderaator (1 akadeemiline tund) \n15.30. Tootearenduspäeva lõpp \n  \nTootearenduspäeva pikkus: 6.34 akadeemilist tundi\, millest kaks tundi on praktilisi harjutusi \nTootearenduspäeval osaleja omandab järgmised teadmised/oskused: \n-Brändi eesmärgist brändi aktivismini \n-Brändi identiteedi planeerimine \n-Sotsiaalmeedia võimalused tootearendusse sisendi saamiseks \n-Praktilised teadmised tootearenduse protsessi tööriistadest\, mis on omandatud läbi praktiliste harjutuste \nESINEJATE TUTVUSTUSED:  \nKlaus Heine\, koolitaja ja konsultant \nKlaus töötab Shanghai ja Pariisi emlyoni ärikoolis turundusprofessorina ning aitab ettevõtjatel ehitada kõrgema eesmärgiga tippklassi kaubamärke. Ta on töötanud ja teinud koostööd paljude tippklassi kaubamärkidega\, alates Hermèsist\, Diorist\, Louis Vuittonist\, Montblancist kuni spetsialiseeritud kaubamärkideni nagu Bollinger\, Breguet\, Gaggenau\, Hasselblad\, Jaeger-LeCoultre ja Berliini KPM. Tema peamine huvi on kaubamärgi tähenduse loomine\, brändile hinge ja isikupära andmine. \nBirgit Karus\nBirgit on sotsiaalmeedia turunduse ekspert ning Baltikumi fookusega turundusagentuuri NOH Production asutaja. 4 aasta jooksul on nad aidanud mitmeid tuntud ettevõtteid nagu Gustav\, Estover\, Positivus festival jpt. Rohkem infot tema tegemiste kohta leiab kodulehelt www.nohproduction.eu \n 
URL:https://test.pikk.ee/sundmus/toidusektori-tootearenduspaevad-2020/
LOCATION:Muu\, Eesti
GEO:58.595272;25.0136071
END:VEVENT
BEGIN:VEVENT
DTSTART;VALUE=DATE:20201126
DTEND;VALUE=DATE:20201127
DTSTAMP:20260425T193150
CREATED:20201029T144413Z
LAST-MODIFIED:20201030T120858Z
UID:10009718-1606348800-1606435199@test.pikk.ee
SUMMARY:Mitmekesistamise toetusmeetme infopäev
DESCRIPTION:Hea ettevõtja \n  \nMaapiirkonnas majandustegevuse mitmekesistamise investeeringutoetuse suurus on kuni 150 000 eurot. \nToetust saab kasutada uute seadmete ostmiseks ja tootmis- või teenindusruumide ehitamiseks. \nPRIA võtab taotlusi vastu kahe nädala jooksul 2021. aasta märtsis. Projekti ettevalmistustega tuleks alustada juba varakult. \nKõige sagedamini esitatud küsimused: \n–          milleks saab ja milleks ei saa mitmekesistamise toetust kasutada? \n–          millised ettevõtted saavad mitmekesistamise toetust kasutada? \n–          mida peab silmas pidama toetuse taotlemisel? \nMaakondlike arenduskeskuste ja Leader kohalike tegevusgruppide poolt korraldatava Mitmekesistamise toetusmeetme infopäevad: \nViljandi\, 5. november (täpsem info Viljandimaa Arenduskeskus) \nJõgevamaa\, 25. november (täpsem info Jõgevamaa Arenduskeskus) \nRakvere\, 26. november (täpsem info Lääne-Viru Arenduskeskus) \nKuressaare\, 3. detsember (täpsem info Saare Arenduskeskus) \nRaplamaa\, 6. jaanuar 2021 (täpsem info Raplamaa Partnerluskogu) \nPärnumaa\, jaanuar 2021 (täpsem info Pärnumaa Arenduskeskus) \nVõrumaa\, jaanuar 2021 (täpsem info Võrumaa Arenduskeskus) \n 
URL:https://test.pikk.ee/sundmus/mitmekesistamise-toetusmeetme-infopaev-2/
LOCATION:Lääne-Virumaa\, Lääne-Virumaa\, Eesti
END:VEVENT
BEGIN:VEVENT
DTSTART;VALUE=DATE:20201126
DTEND;VALUE=DATE:20201127
DTSTAMP:20260425T193150
CREATED:20201110T085030Z
LAST-MODIFIED:20201110T085030Z
UID:10009731-1606348800-1606435199@test.pikk.ee
SUMMARY:Infopäev „Nutikad lahendused marjakasvatuses“
DESCRIPTION:Tartumaa põllumeeste liit korraldab 26. novembril 10.00-14.00 Viljandis Männimäe külalistemaja kinosaalis tasuta infopäeva „Nutikad lahendused marjakasvatuses“. Konsulent Margus Kopp käsitleb teemasid: \nErinevate niisutussüsteemide plussid ja miinused \nMulla happesuse reguleerimine \nIntegreeritud taimekaitse \nUued tehnoloogilised lahendused \nRegistreerimine: https://forms.gle/ynTd3yzpaozG6ZX39 \nPalun registreerida võimalikult ruttu\, sest peame jälgima tervisenõudeid ja saame saali lubada vaid 25 osalejat – kes ees\, see mees… \nKohapeal olemas desinfitseerimisvahendid ja näomaskid. \n  \nLisainfo: Jaan Sõrra\, 508 7320.
URL:https://test.pikk.ee/sundmus/infopaev-nutikad-lahendused-marjakasvatuses/
LOCATION:Viljandimaa\, Viljandimaa\, Eesti
CATEGORIES:Aiandus
GEO:58.2821746;25.5752233
END:VEVENT
BEGIN:VEVENT
DTSTART;VALUE=DATE:20201126
DTEND;VALUE=DATE:20201127
DTSTAMP:20260425T193150
CREATED:20201113T083605Z
LAST-MODIFIED:20201126T071926Z
UID:10009735-1606348800-1606435199@test.pikk.ee
SUMMARY:EPJ korraldab infopäevad "Kuidas saada parem ülevaade karjast andmete registreerimise ja analüüsi abil" JÄÄB ÄRA
DESCRIPTION:Infopäev jääb ära! \nEesti Põllumajandusloomade Jõudluskontrolli AS (EPJ) korraldab loomapidajatele ja jõudlusandmete kogujatele infopäevad “Kuidas saada parem ülevaade karjast andmete registreerimise ja analüüsi abil”. \nAjakava \nKl 10-11.10 Jõudlus- ja terviseandmete registreerimise olulisus ja võimalused. Ülevaade karjast. Toodanguandmed lehma ja karja tasemel. Söötmist ja karja majandamist iseloomustavad aruanded. Aire Pentjärv\, EPJ\nKl 11.10-11.20 Paus\nKl 11.20-12.30 Aretustöös kasutatavad võimalused (paaride valik\, põlvnemisinfo\, aretusväärtused). Andmevahetus farm-EPJ-PRIA.  Jõudluskontrolli raportid. Maila Kirs\, EPJ\nKl 12.30-13.00 Lõuna\nKl 13.00-14.45 Ülevaade tervist ja sigimist iseloomustavatest aruannetest. Merle Lillik\, EPJ\n14.45-15.00 Kokkuvõte\, küsimused \nInfopäevad toimuvad 26. novembril ja 27. novembril 2020 kell 10.00–15.00 Dorpati Konverentsikeskuses (Pirogovi saal) Tartus. Osalejate grupp on hetkel komplekteeritud. \nInfo telefonil 738 7700 või epj@epj.ee . \nArvutid on kohapeal olemas\, palume osalejatel tulla kohale tervena ja võtta kaasa mask. Infopäev on osalejatele tasuta\, ettevõtmist toetab Eesti Maaelu Arengukava. \nEesti Põllumajandusloomade Jõudluskontrolli AS\nF. Tuglase 12\, Tartu\ntel 738 7700\nwww.epj.ee
URL:https://test.pikk.ee/sundmus/epj-korraldab-infopaevad-kuidas-saada-parem-ulevaade-karjast-andmete-registreerimise-ja-analuusi-abil/2020-11-26/
LOCATION:Eesti
ORGANIZER;CN="Eesti P%C3%B5llumajandusloomade J%C3%B5udluskontrolli Aktsiaselts":MAILTO:epj@epj.ee
END:VEVENT
END:VCALENDAR