BEGIN:VCALENDAR
VERSION:2.0
PRODID:-//METK nõuandeteenistus - ECPv6.15.13//NONSGML v1.0//EN
CALSCALE:GREGORIAN
METHOD:PUBLISH
X-ORIGINAL-URL:https://test.pikk.ee
X-WR-CALDESC:Events for METK nõuandeteenistus
REFRESH-INTERVAL;VALUE=DURATION:PT1H
X-Robots-Tag:noindex
X-PUBLISHED-TTL:PT1H
BEGIN:VTIMEZONE
TZID:Europe/Tallinn
BEGIN:DAYLIGHT
TZOFFSETFROM:+0200
TZOFFSETTO:+0300
TZNAME:EEST
DTSTART:20190331T010000
END:DAYLIGHT
BEGIN:STANDARD
TZOFFSETFROM:+0300
TZOFFSETTO:+0200
TZNAME:EET
DTSTART:20191027T010000
END:STANDARD
BEGIN:DAYLIGHT
TZOFFSETFROM:+0200
TZOFFSETTO:+0300
TZNAME:EEST
DTSTART:20200329T010000
END:DAYLIGHT
BEGIN:STANDARD
TZOFFSETFROM:+0300
TZOFFSETTO:+0200
TZNAME:EET
DTSTART:20201025T010000
END:STANDARD
BEGIN:DAYLIGHT
TZOFFSETFROM:+0200
TZOFFSETTO:+0300
TZNAME:EEST
DTSTART:20210328T010000
END:DAYLIGHT
BEGIN:STANDARD
TZOFFSETFROM:+0300
TZOFFSETTO:+0200
TZNAME:EET
DTSTART:20211031T010000
END:STANDARD
END:VTIMEZONE
BEGIN:VEVENT
DTSTART;VALUE=DATE:20201127
DTEND;VALUE=DATE:20201128
DTSTAMP:20260425T180438
CREATED:20200828T113752Z
LAST-MODIFIED:20201203T182901Z
UID:10009657-1606435200-1606521599@test.pikk.ee
SUMMARY:Viljelusvõistlus 2020 lõpukonverents
DESCRIPTION:Jõgeva Kultuurikeskus\, Aia 6\, Jõgeva \nÜritust korraldavad Eesti Taimekasvatuse Instituut ja Viljeluspäevad MTÜ. \n  \nPäevakava: \n09:00 – 10:00 Kogunemine\, tervituskohv \n10:00 – 10:10  Avasõnad Viljelusvõistluse korraldajatel – Margus Ameerikas \n10:10 – 10:40  Ülevaade Eesti taimekasvatushooajast 2020\, tulevikuplaanid – Arvo Aller\, Maaeluminister \n10:40 – 11:00  Viljelusvõistlus 2020 tehnoloogiate tulukus – Raivo Vettik\, ETKI \n11:00 – 11:20  Saagi kvaliteet viljelusvõistluse põldudel – Eili Rajapuu\, Viljelusvõistluse ekspert \n11:20 – 11:40  Agrotehnikast viljelusvõistluse põldudel 2020.a – Peeter Viil\, ETKI \n11:40 – 12:10  Taimetoitainete tasakaal viljelusvõistluse põldudel – Alar Astover\, EMÜ \n12:10 – 12:30  Kohvipaus \n12:30 – 13:15  Taimekasvatuse ja taimede toitumise uusimad suunad – Mark Tucker\, Yara UK \n13:15 – 13:45  Viljelusvõistlus 2020 tulemused – Margus Ameerikas \n13:45 – 14:00 Viljelusvõistluse tehnoloogiad Sakala Põldur OÜ põldudel – Kaimo Maiste\, Sakala Põldur OÜ \n14:05 – 14:35  Ülevaade Scanola õlitehase arengust – Ants Puusta\, Scanola Eesti AS \n14:35 – 15:00  Lõuna \n15:30 – 16:30  Tutvumine Scanola õlitehase tööga – Ants Puusta\, Scanola Eesti AS. \n  \nKonverentsi modereerib Mati Koppel \n  \nKonverentsil osalemine on tasuta! \nKonverents on järelvaadatav SIIT \n  \nKonverents toimub Eesti maaelu arengukava 2014–2020 meetme 1 “Teadmussiire ja teavitus” toetuse (meede 1.1) raames\, toetab Euroopa Maaelu Arengu Põllumajandusfond.
URL:https://test.pikk.ee/sundmus/viljelusvoistlus-2020-lopukonverents/
LOCATION:Jõgevamaa\, Jõgevamaa\, Eesti
CATEGORIES:Taimekasvatus
END:VEVENT
BEGIN:VEVENT
DTSTART;VALUE=DATE:20201127
DTEND;VALUE=DATE:20201128
DTSTAMP:20260425T180438
CREATED:20200910T082026Z
LAST-MODIFIED:20201125T105946Z
UID:10007746-1606435200-1606521599@test.pikk.ee
SUMMARY:Põllumajandusettevõtte juhtimine konsulendile: ühistegevus ja koostöö arendamine (veebikoolitus)
DESCRIPTION:Seoses C-19 kiire levikuga on Eesti Maaülikooli korraldatav täiendkoolitus – „Põllumajandusettevõtte juhtimine konsulendile“ III moodul: Ühistegevus ja koostöö arendamine\, mis algselt pidi toimuma MOKKO Maahotellis üleviidud veebikeskkonda. \nTäpsem info ja registreerumine: https://ois.emu.ee/pls/ois/!tere.tulemast?leht=OK.AY.VP&id_ay_programm=10944&id_ay_toimumine=14846&systeemi_seaded=3\,1\,12\,1 \nKoolituse sihtrühma kuuluvad: \n– Isikud\, kellele on kutseseaduses sätestatud alusel ja korras antud konsulendi kutse ja kellel on kehtiv konsulendi kutsetunnistus;\n– Isikud\, kellele kutseseaduse alusel ja korras antud konsulendi kutsetunnistuse kehtivuse lõppemisest ei ole möödunud rohkem kui 12 kuud;\n– Isikud\, kes on Euroopa Liidu ühise põllumajanduspoliitika rakendamise seaduse § 71 lg 1 sätestatud valikumenetluse kohaselt valitud nõustamisteenuse osutajaga lepingulises suhtes ning tegelevad põllu- või maamajandusliku nõustamisteenuse osutamisega. \nKoolitust finantseeritakse Eesti maaelu arengukava (MAK) 2014-2020 vahenditest ning see on sihtrühma kuuluvatele isikutele tasuta. \nNB! Teavitame! Täienduskoolitus rahastatakse nõustajate koolitustoetusena\, mis määratletakse kui RIIGIABI osalejatele\, juhul kui koolitusel osaleja ise on ettevõtja või mõne ettevõtja töötaja\, osanik\, aktsionär\, liige või juhtorgani liige. \n. \nKoolituse korraldaja:\nEesti Maaülikooli majandus- ja sotsiaalinstituut\nFr. R. Kreutzwaldi 1a\n51006 Tartu\,\ntel 7313061\ne-post: jaana.orin@emu.ee\nhttp://ms.emu.ee/et/avaleht/
URL:https://test.pikk.ee/sundmus/pollumajandusettevotte-juhtimine-konsulendile-uhistegevus-ja-koostoo-arendamine-2/
LOCATION:Veebis\, Eesti
CATEGORIES:Maaettevõtlus,Ühistegevus
END:VEVENT
BEGIN:VEVENT
DTSTART;VALUE=DATE:20201127
DTEND;VALUE=DATE:20201128
DTSTAMP:20260425T180438
CREATED:20200917T054736Z
LAST-MODIFIED:20200917T054736Z
UID:10009671-1606435200-1606521599@test.pikk.ee
SUMMARY:Taimekaitsevahendite professionaalse kasutaja täiendkoolitus
DESCRIPTION:Päevakava \n9.00-11.20 Integreeritud taimekaiste + turule lubatud taimekaitsevahendid\, nende liigitamine  + praktika \n11.20 -11.30  KOHVIPAUS \n11.30-13.00 Etiketi lugemine + taimekahjustajad\, nende tõrje + illegaalsed taimekaitsevahendid \n13.00 -13.45  LÕUNASÖÖK \n13.45-15.25 Ohutusnõuded taimekaitsevahendite kasutamisel\, taimekaitse-vahendi tühja pakendi\, pesuvee\, pritsimislahuse ja taimekaitsevahendi jääkide käitlemine + praktika: pritsi kontroll ja ettevalmistamine tööks\, kulunormide arvutamine \n15.25-15.40  KOHVIPAUS \n15.40-19.10 Seadusandlus\, isikukaitsevahendid + esmaabi + pritsi tüübid ja nende käitlemine\, EKSAM. \nLektor: Kaja Marrandi \nRegistreerimine koolitustele: http://jkhk.ee/pages/taeienduskoolitused/tasuta-pria-kursused.php \nRuth Türk\nJKHK koolitusjuht\nruth.turk@jkhk.ee\n5329 2188 \nKoolitused toimuvad “Teadmussiirde pikaajaline programm taimekasvatuse tegevusvaldkonnas” raames\, toetab Euroopa Liit.
URL:https://test.pikk.ee/sundmus/taimekaitsevahendite-professionaalse-kasutaja-taiendkoolitus-38/
LOCATION:Viljandimaa\, Viljandimaa\, Eesti
CATEGORIES:Taimekasvatus
GEO:58.2821746;25.5752233
END:VEVENT
BEGIN:VEVENT
DTSTART;VALUE=DATE:20201127
DTEND;VALUE=DATE:20201128
DTSTAMP:20260425T180438
CREATED:20200918T094808Z
LAST-MODIFIED:20200918T094808Z
UID:10009680-1606435200-1606521599@test.pikk.ee
SUMMARY:Tasuline koolitus Nõustamismetoodika konsulendile
DESCRIPTION:Toimumiskoht:\nTartu Eesti Maaülikool Kreutzwaldi 56/1 auditoorium A 303 või täpsustub.\nAutoga saabujad saavad parkida maaülikooli linnakus tehnikamaja või spordihoone parklas. \nKoolituskuupäevad on:\nI moodul\n19. november\, neljapäev\n20. november\, reede\n26. november\, neljapäev\n27. november\, reede \nII moodul\n3. detsember\, neljapäev\n4. detsember\, reede\n15. detsember\, teisipäev\n16. detsember\, kolmapäev \nAjakava: algus kõikidel päevadel kell 10.15 ja lõpp orienteeruvalt 15.30\nKoolituse läbimise tulemusena omab õppija ettevalmistust konsulendi 5. taseme kutseeksami sooritamiseks. \nSisu:\nI moodul\nRiiklik nõustamissüsteem ja selle toimimine\nKonsulendi roll\, kutse-eetika\nPeamised suhtlemis- ja nõustamisoskused\, mudelid ja tehnikad nõustamisel\nKonsulendi kutsetegevuseks vajalike andmete ja teabe kogumine ning analüüsimine \nII moodul\nNõustamistoode\, nõustamine\nNõustamistegevuse kui ettevõtluse alused\nKliendisuhtluse alused ja kliendi nõustamine\nNõustaja isiklik efektiivsus ja eneseareng\, sh kompetentsi eneseanalüüs kutseeksamiks \n8-päevase koolituse osalustasu on 922 eurot. \nOsalemissoovi korral on kindlasti vajalik eelnevalt registreeruda\, seda saate teha täites registreerumisvormi SIIT. \nKoolitust korraldab\nEesti Maaülikooli avatud ülikool​\nKreutzwaldi 56/1 (III korrus\, ruumid 303-306)\n51006 Tartu\ntel 731 3174\, 731 3175\, 731 3275\, 5344 1844\ne-post: avayl@emu.ee 
URL:https://test.pikk.ee/sundmus/tasuline-koolitus-noustamismetoodika-konsulendile/2020-11-27/
CATEGORIES:Muu
END:VEVENT
BEGIN:VEVENT
DTSTART;VALUE=DATE:20201127
DTEND;VALUE=DATE:20201128
DTSTAMP:20260425T180438
CREATED:20201106T133752Z
LAST-MODIFIED:20201209T065348Z
UID:10007791-1606435200-1606521599@test.pikk.ee
SUMMARY:Lamba- ja kitsekasvatuse konverents
DESCRIPTION:Eesti Põllumajandus-Kaubanduskoda kutsub Lamba- ja kitsekasvatuse konverentsile. \nAeg: 27. november 2020 kella 10.00 – 15.10 \nFoorumi moderaator: Vello Seera\, Eesti Lamba- ja Kitsekasvatajate Liit \n  \nNB! Konverents toimub virtuaalselt veebikeskkonnas ZOOM. \n  \nKonverentsi eesmärgiks on anda ülevaade Eesti lamba- ja kitsekasvatuse olukorrast ja konkurentsivõimest ning vahetada kogemusi ja mõtteid sektori arendamiseks. Konverents on oluline üritus\, kus sektor kohtub omavahel ja ametnikega\, et arutada üheskoos arenguvõimalusi ning leida probleemidele lahendusi. Eestis on viimastel aastatel jõudsalt arenenud lambakasvatus ning lisandunud hulk uusi lambakasvatajaid. Kuna lambaliha turundatakse peaasjalikult töötlemata\, ei ole piisavalt  tähelepanu pööratud lambaliha töötlemisele ning muude saaduste väärindamisele. Ka kitsekasvatus ja kitsepiimatoodete tootmine on viimastel aastatel jõudsalt arenenud\, jättes varju kitseliha väärindamise ja kasutamise. Lamba- ja kitsekasvatussektori jaoks on oluline\, et toodetud liha ja piima kvaliteet oleks tasemel ja rahuldaks tarbijate ootusi.  Konverents annab võimaluse turu olukorra analüüsiks\, tõsta lamba- ja kitsekasvatajate ja turustajate teadlikkust ning anda  poliitikakujunajatele sektori toetamiseks vajalike erinevate meetmete välja töötamiseks suuniseid. Konverentsi keskseks teemaks on lisandväärtuse loomine lamba- ja kitsesektori saadustele. \n  \nPäevakava \n09.30 – 10.00 Kogunemine\, ühenduse testimine  \n10.00 – 10.45 Eesti lamba- ja kitsekasvatussektori ülevaade ja riiklikud toetusmeetmed uue ÜPP valguses – Marko Gorban\, Maaeluministeeriumi asekantsler \n10.45 – 11.30 Bioohutuskava vajalikkus lamba- ja kitsekasvatuses – Enel Niin\, Veterinaar- ja toiduameti peaspetsialist \n11.30 – 12.00 Restoranide kvaliteedinõuded liha valikul ja tarbijate soovid – Priit Toomits\, Eesti Peakokkade Ühendus \n12.00 – 13.00 Lõunapaus \n13.00 – 14.00 Jätkusuutlik ja vastutustundlik lamba- ja kitsekasvatus – Euroopa Komisjoni programmi Horisont 2020 projekti iSAGE esindaja Terhi Latvala\, Finland National Resources Institute (Soome) \n14.00 – 14.40 Toidualase teabe esitamisest: kohustused ja võimalused – Tiiu Rand\, Veterinaar- ja toiduameti nõunik \n14.40 – 15.10 Arutelupaneel ja kokkuvõte (arutatakse üheskoos arenguvõimalusi lamba- ja kitsekasvatuses) \n  \nNB! Osalemiseks on vajalik eelnev registreerimine SIIN. \nKui olete kõik palutud andmed sisestanud ja kinnitanud\, saadetakse Zoom keskkonna poolt link\, mille abil saate 27. novembril alates kella 9.30 liituda meie konverentsiga. \n  \nKonverents toimub MAK 2014-2020 teadmussiirde ja teavituse toetuse meetme rahastusel ja on osalejatele tasuta. \n  \n  \nLisainfo: Maire Vimb\, EPKK projektijuht maire@epkk.ee; tel 50 86 664
URL:https://test.pikk.ee/sundmus/lamba-ja-kitsekasvatuse-konverents/
LOCATION:Järvamaa\, Järvamaa\, Eesti
GEO:58.8866713;25.5000624
END:VEVENT
BEGIN:VEVENT
DTSTART;VALUE=DATE:20201127
DTEND;VALUE=DATE:20201128
DTSTAMP:20260425T180438
CREATED:20201110T094949Z
LAST-MODIFIED:20201110T094949Z
UID:10009732-1606435200-1606521599@test.pikk.ee
SUMMARY:Infopäev „Nutikad lahendused marjakasvatuses“
DESCRIPTION:Tartumaa põllumeeste liit korraldab 27. novembril 10.00-14.00 Navi seltsimajas tasuta infopäeva „Nutikad lahendused marjakasvatuses“. Konsulent Margus Kopp käsitleb teemasid: \nErinevate niisutussüsteemide plussid ja miinused \nMulla happesuse reguleerimine \nIntegreeritud taimekaitse \nUued tehnoloogilised lahendused \nRegistreerimine: https://forms.gle/wPv1XHwnbLJMKRuM9 \nPalun registreerida võimalikult ruttu\, sest peame jälgima tervisenõudeid ja saame saali lubada vaid 25 osalejat – kes ees\, see mees… \nKohapeal olemas desinfitseerimisvahendid ja näomaskid. \n  \nLisainfo: Jaan Sõrra\, 508 7320.
URL:https://test.pikk.ee/sundmus/infopaev-nutikad-lahendused-marjakasvatuses-2/
LOCATION:Võrumaa\, Võrumaa
CATEGORIES:Aiandus
GEO:57.7377372;27.1398938
END:VEVENT
BEGIN:VEVENT
DTSTART;VALUE=DATE:20201127
DTEND;VALUE=DATE:20201128
DTSTAMP:20260425T180438
CREATED:20201113T083605Z
LAST-MODIFIED:20201126T071926Z
UID:10009736-1606435200-1606521599@test.pikk.ee
SUMMARY:EPJ korraldab infopäevad "Kuidas saada parem ülevaade karjast andmete registreerimise ja analüüsi abil" JÄÄB ÄRA
DESCRIPTION:Infopäev jääb ära! \nEesti Põllumajandusloomade Jõudluskontrolli AS (EPJ) korraldab loomapidajatele ja jõudlusandmete kogujatele infopäevad “Kuidas saada parem ülevaade karjast andmete registreerimise ja analüüsi abil”. \nAjakava \nKl 10-11.10 Jõudlus- ja terviseandmete registreerimise olulisus ja võimalused. Ülevaade karjast. Toodanguandmed lehma ja karja tasemel. Söötmist ja karja majandamist iseloomustavad aruanded. Aire Pentjärv\, EPJ\nKl 11.10-11.20 Paus\nKl 11.20-12.30 Aretustöös kasutatavad võimalused (paaride valik\, põlvnemisinfo\, aretusväärtused). Andmevahetus farm-EPJ-PRIA.  Jõudluskontrolli raportid. Maila Kirs\, EPJ\nKl 12.30-13.00 Lõuna\nKl 13.00-14.45 Ülevaade tervist ja sigimist iseloomustavatest aruannetest. Merle Lillik\, EPJ\n14.45-15.00 Kokkuvõte\, küsimused \nInfopäevad toimuvad 26. novembril ja 27. novembril 2020 kell 10.00–15.00 Dorpati Konverentsikeskuses (Pirogovi saal) Tartus. Osalejate grupp on hetkel komplekteeritud. \nInfo telefonil 738 7700 või epj@epj.ee . \nArvutid on kohapeal olemas\, palume osalejatel tulla kohale tervena ja võtta kaasa mask. Infopäev on osalejatele tasuta\, ettevõtmist toetab Eesti Maaelu Arengukava. \nEesti Põllumajandusloomade Jõudluskontrolli AS\nF. Tuglase 12\, Tartu\ntel 738 7700\nwww.epj.ee
URL:https://test.pikk.ee/sundmus/epj-korraldab-infopaevad-kuidas-saada-parem-ulevaade-karjast-andmete-registreerimise-ja-analuusi-abil/2020-11-27/
LOCATION:Eesti
ORGANIZER;CN="Eesti P%C3%B5llumajandusloomade J%C3%B5udluskontrolli Aktsiaselts":MAILTO:epj@epj.ee
END:VEVENT
BEGIN:VEVENT
DTSTART;VALUE=DATE:20201127
DTEND;VALUE=DATE:20201128
DTSTAMP:20260425T180438
CREATED:20201114T162656Z
LAST-MODIFIED:20201214T223944Z
UID:10009737-1606435200-1606521599@test.pikk.ee
SUMMARY:Mahepõllumajanduse aastakonverents 2020
DESCRIPTION:Veebikonverents \nMahepõllumajanduse aastakonverents 2020 \nProgramm \n10:15 Registreerumine \n10:30 Sissejuhatus – Airi Vetemaa\, Mahepõllumajanduse Koostöökogu \n10:45 Ökosüsteemi teenused ja tähtsus ning võimalused mahetootmises – Eve Veromann\, Eesti Maaülikool \n11:20 Parim mahetootja 2020 konkursi tulemuste väljakuulutamine \n11:30 Mahetootmise olukord\, väljakutsed ja ootused tootjate pilgu läbi \n\nMesindusettevõte Ehe Mesi\, Harro Rannamets\nLihaveisekasvatusettevõte Topi Mõis\, Andres Vaan\nTeraviljakasvatusettevõte Lalluka\, Kuldar Kuld\n\n12:30 Paus \n13:00 Parim mahetoode 2020 konkursi tulemuste väljakuulutamine \n13:25 Mahetöötlemise olukord\, väljakutsed ja ootused töötlejate pilgu läbi \n\nJookide valmistaja Öun Drinks\, Juhan Kanemägi\nKöögiviljatoodete valmistaja Eco Flora\, Sandro Batisto\n\n14:00 Mahetoitlustamise kogemus Tartu linna näitel – Sirle Sõstra\, Tartu Linnavalitsus \n14:20 Hea tahte kokkulepe Võrumaal: kohalik ja mahetoit haridusasutustesse – Tiit Toots\, Võrumaa Arenduskeskus \n14:40 Paus \n14:50 Mahetoidu turg – Merit Mikk\, Mahepõllumajanduse Koostöökogu \n15:10 Mahepõllumajandusest ja toetustest – Sigmar Suu\, Maaeluministeerium \n15:40 Mahestipendiumi väljakuulutamine – Elen Peetsmann\, EMÜ Mahekeskus \n15:50 Kokkuvõte \n16:00 Lõpp \nModereerib Elen Peetsmann\, EMÜ Mahekeskus \n  \nOsalemiseks on vajalik registreerumine siin: https://forms.gle/PcerGEikEgzaNxiy5. \nOsalejatele saadetakse enne konverentsi e-maili teel individuaalne veebikeskkonda sisselogimise link ja kood. \nKonverents läheb mahetootjatel arvesse mahetoetuse kohustusliku koolitusena. \nKonverentsi korraldab Mahepõllumajanduse Koostöökogu \nKonverents toimub MAK 2014-2020 teadmussiirde ja teavituse toetuse meetme rahastusel\, toetab Euroopa Liit.
URL:https://test.pikk.ee/sundmus/mahepollumajanduse-aastakonverents-2020/
LOCATION:Veebis\, Eesti
CATEGORIES:Keskkond,Loomakasvatus,Mesindus,Muu,Taimekasvatus,Toiduainete tootmine
END:VEVENT
END:VCALENDAR