BEGIN:VCALENDAR
VERSION:2.0
PRODID:-//METK nõuandeteenistus - ECPv6.15.13//NONSGML v1.0//EN
CALSCALE:GREGORIAN
METHOD:PUBLISH
X-WR-CALNAME:METK nõuandeteenistus
X-ORIGINAL-URL:https://test.pikk.ee
X-WR-CALDESC:Events for METK nõuandeteenistus
REFRESH-INTERVAL;VALUE=DURATION:PT1H
X-Robots-Tag:noindex
X-PUBLISHED-TTL:PT1H
BEGIN:VTIMEZONE
TZID:Europe/Tallinn
BEGIN:DAYLIGHT
TZOFFSETFROM:+0200
TZOFFSETTO:+0300
TZNAME:EEST
DTSTART:20190331T010000
END:DAYLIGHT
BEGIN:STANDARD
TZOFFSETFROM:+0300
TZOFFSETTO:+0200
TZNAME:EET
DTSTART:20191027T010000
END:STANDARD
BEGIN:DAYLIGHT
TZOFFSETFROM:+0200
TZOFFSETTO:+0300
TZNAME:EEST
DTSTART:20200329T010000
END:DAYLIGHT
BEGIN:STANDARD
TZOFFSETFROM:+0300
TZOFFSETTO:+0200
TZNAME:EET
DTSTART:20201025T010000
END:STANDARD
BEGIN:DAYLIGHT
TZOFFSETFROM:+0200
TZOFFSETTO:+0300
TZNAME:EEST
DTSTART:20210328T010000
END:DAYLIGHT
BEGIN:STANDARD
TZOFFSETFROM:+0300
TZOFFSETTO:+0200
TZNAME:EET
DTSTART:20211031T010000
END:STANDARD
END:VTIMEZONE
BEGIN:VEVENT
DTSTART;VALUE=DATE:20201209
DTEND;VALUE=DATE:20201212
DTSTAMP:20260426T041834
CREATED:20191125T120257Z
LAST-MODIFIED:20201202T085207Z
UID:10007545-1607472000-1607731199@test.pikk.ee
SUMMARY:Toiduhügieen ja -ohutus\, keskaste (veebikoolitus)
DESCRIPTION:Seoses C-19 kiire levikuga on Eesti Maaülikooli korraldatav täiendkoolitus üleviidud veebikeskkonda. \nTäpsem info ja registreerumine SIIN. \n.Täienduskoolitusest võivad osa võtta:\n– põllumajandustoodete töötlemise või turustamisega tegelev füüsilisest isikust ettevõtja ja tema töötaja ning eraõigusliku juriidilise isiku osanik\, aktsionär\, liige\, juhtorgani liige ja tema töötaja;\n– põllumajandustoodetest mittepõllumajandustoodete töötlemise sh toidu valmistamise või töötlemisega tegelev füüsilisest isikust ettevõtja ja tema töötaja ning eraõigusliku juriidilise isiku osanik\, aktsionär\, liige\, juhtorgani liige ja tema töötaja;\n– toidu valmistamise või töötlemisega tegelev avalik-õigusliku juriidilise isiku juhtorgani liige või töötaja;\n– põllumajandustootjate valdkonda teenindavad isikud (nt kokkuostuga tegelevate ettevõtete töötajad);\n– isikud (FIE-d või ettevõtte esindajad)\, kes koguvad teadmisi uue tegevusvaldkonna kohta;\n– põllumajanduslike esindus- ja erialaorganisatsioonide (MTÜ-d\, mille liikmeteks on põllumajandussaaduste töötlejad) juhatuse liikmed ja töötajad. \nFüüsiliste isikute ja riigiametnike täienduskoolitusel osalemine ei ole toetatav! \nTegevust finantseeritakse Eesti maaelu arengukava 2014-2020 meetme 1 “Teadmussiire ja teavitus” tegevuse “Pikaajalised programmid” raames ja on sihtrühma kuulujatele tasuta. \nNB! Teavitame! Antud koolitustegevuses osalemine on osaleja jaoks vähese tähtsusega abi. \nKoolituse korraldaja:\nEesti Maaülikooli avatud ülikool\nFr. R. Kreutzwaldi 56/1\n51006 Tartu\,\ntel 731 3275\, 731 3174\, 534 41844\ne-post: avayl@emu.ee\nhttp://avatudylikool.emu.ee/
URL:https://test.pikk.ee/sundmus/toiduhugieen-ja-ohutus-keskaste-8/
LOCATION:Veebis\, Eesti
CATEGORIES:Toiduainete tootmine
END:VEVENT
BEGIN:VEVENT
DTSTART;VALUE=DATE:20201209
DTEND;VALUE=DATE:20201212
DTSTAMP:20260426T041834
CREATED:20201109T165021Z
LAST-MODIFIED:20201109T165719Z
UID:10007798-1607472000-1607731199@test.pikk.ee
SUMMARY:Taimekaitse aluskoolitus professionaalsele kasutajale (22 t)
DESCRIPTION:Taimekaitse aluskoolitus professionaalsele kasutajale (22 t) \nKoolitus toimub 9 – 11 detsember Säreveres\nKoolitajad: Kaja Marrandi ja Marek Kõbu\nKoolitusele registreerimine toimub SIIT \nRegistreerunuile saadame konkreetse ajakava\nKoolituse  ÕPPEKAVAGA  saad tutvuda meie kodulehel https://jkhk.ee/et/tasuta-pria-koolitused \nPõllumeestele on koolitus TASUTA. \ntäiendav info: Ruth Türk\nJKHK koolitusjuht\nruth.turk@jkhk.ee\n5329 2188
URL:https://test.pikk.ee/sundmus/taimekaitse-aluskoolitus-professionaalsele-kasutajale-22-t-3/
LOCATION:Järvamaa\, Järvamaa\, Eesti
CATEGORIES:Taimekaitse
GEO:58.8866713;25.5000624
END:VEVENT
BEGIN:VEVENT
DTSTART;VALUE=DATE:20201209
DTEND;VALUE=DATE:20201212
DTSTAMP:20260426T041834
CREATED:20201119T164905Z
LAST-MODIFIED:20201210T151717Z
UID:10009745-1607472000-1607731199@test.pikk.ee
SUMMARY:Taimekaitse aluskoolitus professionaalsele kasutajale (22 t)
DESCRIPTION:Taimekaitse aluskoolitus professionaalsele kasutajale (22 t) \nKoolitus toimub 9 – 11 detsember  Järvamaal Säreveres. KOOLITUS TOIMUB VEEBIKOOLITUSENA.\nKoolitajad: Kaja Marrandi ja Marek Kõbu\nKoolitusele registreerimine toimub SIIT \nTASUTA on koolitus Põllumeestele \nTäpsema info koolituse kohta saadan registreerunuile. \nTäiendav info\nRuth Türk\nJKHK koolitusjuht\nruth.turk@jkhk.ee\n5329 2188
URL:https://test.pikk.ee/sundmus/taimekaitse-aluskoolitus-professionaalsele-kasutajale-22-t-4/
LOCATION:Järvamaa\, Järvamaa\, Eesti
CATEGORIES:Taimekaitse
GEO:58.8866713;25.5000624
END:VEVENT
BEGIN:VEVENT
DTSTART;VALUE=DATE:20201210
DTEND;VALUE=DATE:20201211
DTSTAMP:20260426T041834
CREATED:20201023T125437Z
LAST-MODIFIED:20201207T085313Z
UID:10007775-1607558400-1607644799@test.pikk.ee
SUMMARY:Täiendkoolitus Lihatöötlemine JÄÄB ÄRA!
DESCRIPTION:KOOLITUS JÄÄB ÄRA! \nToimub 10.-11. detsembril 2020 Tartus\, Fr. R. Kreutzwaldi 56/5 (Toiduteaduse ja toiduainete tehnoloogia labor) \n  \n10. detsember 2020 kell 10.00-18.00 (sh lõuna 12.15-13.00) \n11. detsember 2020 kell 10.00-16.00 (sh lõuna 12.15-13.00) \nLektorid Marek Tepper\, Riina Soidla ja Kristi Kerner. \nKoolituse teemad on:\nLiha kui tooraine ja seda mõjutavad tegurid;\nLihatoodete klassifikatsioon sh tootearenduse põhimõtted;\nNõuded väiketootjatele liha käitlemisel\, sh tapahügieen;\nLihatoodete valmistamise tehnoloogilised protsessid;\nVärske liha käitlemine (seadmed\, lihavalmistised\, lihalõikus\, pakendamine jne);\nLihalõikus. Liha hinna kalkulatsioon ja hinda mõjutavad tegurid\, lihavalmistised;\nLihatoodete retsept ja selle koostamise alused;\nVorstide ja sinkide ning lihavalmististe praktilised tööd;\nLihatoodete sensoorne analüüs \nGrupi suurus 10 inimest. \nKoolitus toimub Lihatoodete väiketöötlemise õppekava alusel. \nSihtgrupp: Koolitustest võivad osa võtta vaid juriidiliste isikute esindajad (FIE\, ettevõtte aktsionär\, osanik\, liige\, juhtorgani liige või töötaja). \nTäiendkoolitus toimub MAK 2014-2020 meetme „Teadmussiirde pikaajaline programm loomakasvatuse tegevusvaldkonnas II “ raames ja on sihtgrupile tasuta. \n  \nLisainfo: \nAngelika Nöps\nAngelika.nops[at]pikk.ee\ntel. 5308 9961
URL:https://test.pikk.ee/sundmus/taiendkoolitus-lihatootlemine-2/2020-12-10/
LOCATION:Tartu\, Eesti
ORGANIZER;CN="Maaelu Edendamise Sihtasutus":MAILTO:angelika.nops@pikk.ee
END:VEVENT
BEGIN:VEVENT
DTSTART;VALUE=DATE:20201210
DTEND;VALUE=DATE:20201211
DTSTAMP:20260426T041834
CREATED:20201105T131245Z
LAST-MODIFIED:20201202T085016Z
UID:10009728-1607558400-1607644799@test.pikk.ee
SUMMARY:Riskijuhtimine nõustajale (üldmoodul) (veebikoolitus)
DESCRIPTION:Seoses C-19 kiire levikuga on Eesti Maaülikooli korraldatav täiendkoolitus üleviidud veebikeskkonda. \nTäienduskoolitusprogrammi üldmooduli läbinud õppija teab: \n\nteab riskide väljaselgitamise metoodikaid\, tunneb riskide tüpoloogiat ning oskab liigitada riske ja saab aru erinevate riskide erisustest;\nteab ilmastiku ja kliima muutustest esilekerkivaid peamisi põllumajandustootmist mõjutavaid riske\, äririskid sh finants-\, sissetulekuteriskid\, tururiskid\, ning nende hindamise võimalusi;\nteab põllumajanduse keskkonnatingimuste muutustest esilekerkivate riskide olemust ja nende tekke allikaid ning oskab neid seostada oma nõustamisvaldkonnaga;\ntunneb valdkonda puudutavaid riskide juhtimisega seonduvaid õigusakte\, nõudeid ja ÜPP riskide juhtimise meetmeid;\nteab\, kuidas juhitakse riske teistes Eestiga sarnaste tootmistingimustega riikides.\n\nAJAKAVA:\n9.00 – 9.15 – Tervituskohv\n9.15 -10.45 – Riski definitsioon ning riskijuhtimisega seotud mõisted; põllumajandustootmise riskiallikad ja põllumajandusriskide tüpoloogia – Maire Nurmet\, EMÜ\n10.45 – 10.55 – Kohvipaus\n10.55 – 12.25 – Riskijuhtimise põhimõtted ja strateegiad– Maire Nurmet\, EMÜ\n12.25 – 13.00 – Lõuna\n13.00 – 14.30 – Riskide mõõtmine ja hindamine; põllumajandusriskide allikate ja riskide maandamise\nvõimalused – Rando Värnik\, EMÜ\n14.30 – 14.45 – Kohvipaus\n14.45 – 16.15 – Riskijuhtimine Euroopa Liidu ühise põllumajanduspoliitika (ÜPP) kontekstis Eestis ja\nteistes riikides – Rando Värnik\, EMÜ \nSihtrühm:\n1) kehtiva kutsetunnistusega konsulent või isik\, kelle konsulendi kutsetunnistuse kehtivusaeg on lõppenud;\n2) põllu- või maamajandusliku nõuandetegevusega tegelev nõustaja või\n3) põllu- või maamajanduslikust nõuandetegevusest huvitatud isik Euroopa Liidu ühise põllumajanduspoliitika rakendamise seaduse § 71 lõikes 1 sätestatud valikumenetluse kohaselt valitud nõustamisteenuse osutaja nõusolekul. \nOsalustasu: Kursus on sihtrühmale tasuta (koolitus\, õppepäeval toitlustamine) \nRegistreerumise info: Õppekava on jagatud neljaks mooduliks: kohustuslik üldmoodul ning valikuna kas loomakasvatuse ja veterinaaria erialamoodul\, taimekasvatuse erialamoodul või majanduse erialamoodul. Erialamooduli läbimiseks on kohustuslik eelnev üldmooduli läbimine. Erialamoodulid toimuvad aastal 2021. Täpsemast infost teavitatakse üldmooduli läbinuid kirjateel. \nRegistreerumine ja lähem info maaülikooli avatud ülikooli kodulehel:\nhttp://avatudylikool.emu.ee/et/avatud-ulikool/sihtruhmale/konsulent/ \nRegistreeru kohe SIIN \nKoolituse tellija: Põllumajanduse Registrite ja Informatsiooni Amet (PRIA)\nTegevus finantseeritakse Euroopa Maaelu Arengu Põllumajandusfond´i (EAFRD) vahenditest.\nKontakt: Jaana Orin\, Mob: +372 5213304\, E-post: jaana.orin@emu.ee
URL:https://test.pikk.ee/sundmus/riskijuhtimine-noustajale-uldmoodul/
LOCATION:Veebis\, Eesti
CATEGORIES:Finantsmajandus,Maaettevõtlus,Turundus,Ühistegevus
END:VEVENT
BEGIN:VEVENT
DTSTART;VALUE=DATE:20201210
DTEND;VALUE=DATE:20201211
DTSTAMP:20260426T041834
CREATED:20201126T062813Z
LAST-MODIFIED:20201214T091415Z
UID:10007809-1607558400-1607644799@test.pikk.ee
SUMMARY:Infopäev SÖÖDA OHUTUS LÄBI ENNETAVA TEGEVUSE
DESCRIPTION:Eesti Põllumajandus-Kaubanduskoda korraldab Maaeluministeeriumi tellimusel infopäeva \nSÖÖDA OHUTUS LÄBI ENNETAVA TEGEVUSE \nInfopäev toimub 10. detsembril 2020. a. kell 10:00 – 14:00 virtuaalselt veebikeskkonnas ZOOM. \n  \nPäevakava: \n09:30 – 10:00 – Kogunemine\, ühenduse testimine – selgitame\, kuidas esitada küsimusi lektoritele või kuidas soovi korral sõna saada ja kaasa rääkida/arvamust avaldada. \n10:00 – 10:35 – Antibiootikumiresistentsus\, sh söötadest tuleneda võiv risk – Piret Kalmus\, EMÜ \n10:35 – 10:45 – Küsimused/vastused \n10:45 – 11:20 – Mükotoksiinide  monitooring ja ennetusmeetmed – Pillerin Puskar\, Alltech Eesti \n11:20 – 11:30 – Küsimused/vastused \n11:30 – 12:00 – Uuest ravimisööda määrusest tulenevate nõuete tutvustus – Eda Ernes\, Maaeluministeerium \n12:00 – 12:10 – Küsimused/vastused \n12:10 – 12:30 – Paus \n12:30 – 13:05 – Söötmise korraldus farmis – Sven Tammoja\, Woltevis OÜ \n13:05 – 13:15 – Küsimused/vastused \n13:15 – 13:50 – Putukate kasutamine söötades – Sille Holm\, Tartu Ülikool \n13:50 – 14:00 – Küsimused/vastused ja päeva kokkuvõte \n  \nNB! Registreerige osalemissoov kuni 09. detsembrini SIIN  või  test.pikk.ee (vt sündmuste kalender) või EPKK kodulehel www.epkk.ee \nRegistreerunutele saadame osalemiseks veebilingi 10. detsembri hommikul. \n  \n  \nInfopäev toimub MAK 2014-2020 meetme „Teadmussiirde pikaajaline programm loomakasvatuse tegevusvaldkonna II raames; Rahastamisallikas: riigieelarve\, Euroopa Maaelu Põllumajandusfond (EAFRD). \n  \nLisainformatsioon: EPKK projektijuht Maire Vimb – 50 86 664 või maire@epkk.ee \n 
URL:https://test.pikk.ee/sundmus/infopaev-sooda-ohutus-labi-ennetava-tegevuse/
END:VEVENT
END:VCALENDAR