BEGIN:VCALENDAR
VERSION:2.0
PRODID:-//METK nõuandeteenistus - ECPv6.15.13//NONSGML v1.0//EN
CALSCALE:GREGORIAN
METHOD:PUBLISH
X-WR-CALNAME:METK nõuandeteenistus
X-ORIGINAL-URL:https://test.pikk.ee
X-WR-CALDESC:Events for METK nõuandeteenistus
REFRESH-INTERVAL;VALUE=DURATION:PT1H
X-Robots-Tag:noindex
X-PUBLISHED-TTL:PT1H
BEGIN:VTIMEZONE
TZID:Europe/Tallinn
BEGIN:DAYLIGHT
TZOFFSETFROM:+0200
TZOFFSETTO:+0300
TZNAME:EEST
DTSTART:20190331T010000
END:DAYLIGHT
BEGIN:STANDARD
TZOFFSETFROM:+0300
TZOFFSETTO:+0200
TZNAME:EET
DTSTART:20191027T010000
END:STANDARD
BEGIN:DAYLIGHT
TZOFFSETFROM:+0200
TZOFFSETTO:+0300
TZNAME:EEST
DTSTART:20200329T010000
END:DAYLIGHT
BEGIN:STANDARD
TZOFFSETFROM:+0300
TZOFFSETTO:+0200
TZNAME:EET
DTSTART:20201025T010000
END:STANDARD
BEGIN:DAYLIGHT
TZOFFSETFROM:+0200
TZOFFSETTO:+0300
TZNAME:EEST
DTSTART:20210328T010000
END:DAYLIGHT
BEGIN:STANDARD
TZOFFSETFROM:+0300
TZOFFSETTO:+0200
TZNAME:EET
DTSTART:20211031T010000
END:STANDARD
END:VTIMEZONE
BEGIN:VEVENT
DTSTART;VALUE=DATE:20201215
DTEND;VALUE=DATE:20201216
DTSTAMP:20260425T211228
CREATED:20200917T055048Z
LAST-MODIFIED:20201210T151959Z
UID:10009674-1607990400-1608076799@test.pikk.ee
SUMMARY:Taimekaitsevahendite professionaalse kasutaja täiendkoolitus
DESCRIPTION:KOOLITUS TOIMUB VEEBIKOOLITUSENA. \nPäevakava \n9.00-11.20 Integreeritud taimekaiste + turule lubatud taimekaitsevahendid\, nende liigitamine  + praktika \n11.20 -11.30  KOHVIPAUS \n11.30-13.00 Etiketi lugemine + taimekahjustajad\, nende tõrje + illegaalsed taimekaitsevahendid \n13.00 -13.45  LÕUNASÖÖK \n13.45-15.25 Ohutusnõuded taimekaitsevahendite kasutamisel\, taimekaitse-vahendi tühja pakendi\, pesuvee\, pritsimislahuse ja taimekaitsevahendi jääkide käitlemine + praktika: pritsi kontroll ja ettevalmistamine tööks\, kulunormide arvutamine \n15.25-15.40  KOHVIPAUS \n15.40-19.10 Seadusandlus\, isikukaitsevahendid + esmaabi + pritsi tüübid ja nende käitlemine\, EKSAM. \nLektor: Kaja Marrandi \n  \nRegistreerimine koolitustele: http://jkhk.ee/pages/taeienduskoolitused/tasuta-pria-kursused.php \nRuth Türk\nJKHK koolitusjuht\nruth.turk@jkhk.ee\n5329 2188 \nKoolitused toimuvad “Teadmussiirde pikaajaline programm taimekasvatuse tegevusvaldkonnas” raames\, toetab Euroopa Liit.
URL:https://test.pikk.ee/sundmus/taimekaitsevahendite-professionaalse-kasutaja-taiendkoolitus-41/
LOCATION:Saaremaa\, Saaremaa
CATEGORIES:Taimekaitse
GEO:58.3705526;22.6876383
END:VEVENT
BEGIN:VEVENT
DTSTART;VALUE=DATE:20201215
DTEND;VALUE=DATE:20201216
DTSTAMP:20260425T211228
CREATED:20200918T094808Z
LAST-MODIFIED:20200918T094808Z
UID:10009683-1607990400-1608076799@test.pikk.ee
SUMMARY:Tasuline koolitus Nõustamismetoodika konsulendile
DESCRIPTION:Toimumiskoht:\nTartu Eesti Maaülikool Kreutzwaldi 56/1 auditoorium A 303 või täpsustub.\nAutoga saabujad saavad parkida maaülikooli linnakus tehnikamaja või spordihoone parklas. \nKoolituskuupäevad on:\nI moodul\n19. november\, neljapäev\n20. november\, reede\n26. november\, neljapäev\n27. november\, reede \nII moodul\n3. detsember\, neljapäev\n4. detsember\, reede\n15. detsember\, teisipäev\n16. detsember\, kolmapäev \nAjakava: algus kõikidel päevadel kell 10.15 ja lõpp orienteeruvalt 15.30\nKoolituse läbimise tulemusena omab õppija ettevalmistust konsulendi 5. taseme kutseeksami sooritamiseks. \nSisu:\nI moodul\nRiiklik nõustamissüsteem ja selle toimimine\nKonsulendi roll\, kutse-eetika\nPeamised suhtlemis- ja nõustamisoskused\, mudelid ja tehnikad nõustamisel\nKonsulendi kutsetegevuseks vajalike andmete ja teabe kogumine ning analüüsimine \nII moodul\nNõustamistoode\, nõustamine\nNõustamistegevuse kui ettevõtluse alused\nKliendisuhtluse alused ja kliendi nõustamine\nNõustaja isiklik efektiivsus ja eneseareng\, sh kompetentsi eneseanalüüs kutseeksamiks \n8-päevase koolituse osalustasu on 922 eurot. \nOsalemissoovi korral on kindlasti vajalik eelnevalt registreeruda\, seda saate teha täites registreerumisvormi SIIT. \nKoolitust korraldab\nEesti Maaülikooli avatud ülikool​\nKreutzwaldi 56/1 (III korrus\, ruumid 303-306)\n51006 Tartu\ntel 731 3174\, 731 3175\, 731 3275\, 5344 1844\ne-post: avayl@emu.ee 
URL:https://test.pikk.ee/sundmus/tasuline-koolitus-noustamismetoodika-konsulendile/2020-12-15/
CATEGORIES:Muu
END:VEVENT
BEGIN:VEVENT
DTSTART;VALUE=DATE:20201215
DTEND;VALUE=DATE:20201216
DTSTAMP:20260425T211228
CREATED:20201201T105634Z
LAST-MODIFIED:20201217T140155Z
UID:10007812-1607990400-1608076799@test.pikk.ee
SUMMARY:Infopäev  Otse- ja investeeringutoetuste probleemid  Raplamaal (toimub Zoomis)
DESCRIPTION:Infopäev toimub 15. detsembril 2020 VEEBIS \nRegistreerumine SIIN Registreerimine kuni 14.12.2020 kell 17. 00. \nLink registreeritud osavõtjatele saadetakse enne infopäeva algust meilile. \nPäevakava:\n9.45-10.00 sisenemine Zoomi\n10.00-13.30 Ettekanded (sh küsimused ja vastused) \nLektor Lilia Kulli\nOtsetoetuste nõuded. Toetusnõuete rikkumine.\nOtsetoetustega seotud probleemistik\, toetuste kontrolli põhimõtted\, tagasinõuete põhjused. Tagasinõuete vältimine ja toetuste korrektne taotlemine.\nLahendused ja soovitused probleemide ning tagasinõuete vältimiseks. \nLektor Triin Luksepp\nInvesteeringutoetuste ülevaade. Investeeringutoetuste korrektne taotlemine ja elluviimine.\nToetusnõuete ülevaade\, nõuete täitmine. Põhiprobleemid investeeringutoetuste taotlemisel\, elluviimisel ning tagasinõuete põhjused ja võimalused nende vältimiseks. Toetustega seonduv riskide juhtimine ja riskide maandamine. \n  \nEttekanne 1 \nEttekanne 2 \nInfopäev on osavõtjatele tasuta. \nKorraldaja Maaelu Edendamise Sihtasutus \nInfopäev toimub MAK 2014-2020 “Teadmussiirde ja teavituse toetuse maakondliku ulatusega tegevuste” meetme raames\, tegevust toetab Euroopa Liit.
URL:https://test.pikk.ee/sundmus/infopaev-otse-ja-investeeringutoetuste-probleemid-raplamaal-toimub-zoomis/
ORGANIZER;CN="Maaelu Edendamise Sihtasutus":MAILTO:angelika.nops@pikk.ee
END:VEVENT
END:VCALENDAR