BEGIN:VCALENDAR
VERSION:2.0
PRODID:-//METK nõuandeteenistus - ECPv6.15.13//NONSGML v1.0//EN
CALSCALE:GREGORIAN
METHOD:PUBLISH
X-WR-CALNAME:METK nõuandeteenistus
X-ORIGINAL-URL:https://test.pikk.ee
X-WR-CALDESC:Events for METK nõuandeteenistus
REFRESH-INTERVAL;VALUE=DURATION:PT1H
X-Robots-Tag:noindex
X-PUBLISHED-TTL:PT1H
BEGIN:VTIMEZONE
TZID:Europe/Tallinn
BEGIN:DAYLIGHT
TZOFFSETFROM:+0200
TZOFFSETTO:+0300
TZNAME:EEST
DTSTART:20190331T010000
END:DAYLIGHT
BEGIN:STANDARD
TZOFFSETFROM:+0300
TZOFFSETTO:+0200
TZNAME:EET
DTSTART:20191027T010000
END:STANDARD
BEGIN:DAYLIGHT
TZOFFSETFROM:+0200
TZOFFSETTO:+0300
TZNAME:EEST
DTSTART:20200329T010000
END:DAYLIGHT
BEGIN:STANDARD
TZOFFSETFROM:+0300
TZOFFSETTO:+0200
TZNAME:EET
DTSTART:20201025T010000
END:STANDARD
BEGIN:DAYLIGHT
TZOFFSETFROM:+0200
TZOFFSETTO:+0300
TZNAME:EEST
DTSTART:20210328T010000
END:DAYLIGHT
BEGIN:STANDARD
TZOFFSETFROM:+0300
TZOFFSETTO:+0200
TZNAME:EET
DTSTART:20211031T010000
END:STANDARD
END:VTIMEZONE
BEGIN:VEVENT
DTSTART;VALUE=DATE:20201217
DTEND;VALUE=DATE:20201218
DTSTAMP:20260425T174326
CREATED:20201201T110029Z
LAST-MODIFIED:20201222T075826Z
UID:10007814-1608163200-1608249599@test.pikk.ee
SUMMARY:Infopäev  Otse- ja investeeringutoetuste probleemid  Tartumaal (toimub Zoomis)
DESCRIPTION:Infopäev toimub 17. detsembril 2020 VEEBIS \nRegistreerimine kuni 16.12.2020 kell 17.00 Registreerumine SIIN\nLink registreeritud osavõtjatele saadetakse enne infopäeva algust meilile. \nPäevakava:\n9.45-10.00 sisenemine Zoomi\n10.00-13.30 Ettekanded (sh küsimused ja vastused) \nLektor Lilia Kulli\nOtsetoetuste nõuded. Toetusnõuete rikkumine.\nOtsetoetustega seotud probleemistik\, toetuste kontrolli põhimõtted\, tagasinõuete põhjused. Tagasinõuete vältimine ja toetuste korrektne taotlemine.\nLahendused ja soovitused probleemide ning tagasinõuete vältimiseks. \nLektor Triin Luksepp\nInvesteeringutoetuste ülevaade. Investeeringutoetuste korrektne taotlemine ja elluviimine.\nToetusnõuete ülevaade\, nõuete täitmine. Põhiprobleemid investeeringutoetuste taotlemisel\, elluviimisel ning tagasinõuete põhjused ja võimalused nende vältimiseks. \nToetustega seonduv riskide juhtimine ja riskide maandamine. \nEttekanne 1 \nEttekanne 2 \nInfopäev on osavõtjatele tasuta. \nKorraldaja Maaelu Edendamise Sihtasutus \nInfopäev toimub MAK 2014-2020 “Teadmussiirde ja teavituse toetuse maakondliku ulatusega tegevuste” meetme raames\, tegevust toetab Euroopa Liit.
URL:https://test.pikk.ee/sundmus/infopaev-otse-ja-investeeringutoetuste-probleemid-tartumaal-toimub-zoomis/
ORGANIZER;CN="Maaelu Edendamise Sihtasutus":MAILTO:angelika.nops@pikk.ee
END:VEVENT
BEGIN:VEVENT
DTSTART;VALUE=DATE:20201217
DTEND;VALUE=DATE:20201218
DTSTAMP:20260425T174326
CREATED:20201204T134120Z
LAST-MODIFIED:20210118T130628Z
UID:10007819-1608163200-1608249599@test.pikk.ee
SUMMARY:Infopäev Uuemad arengud piimakarja söötmisel
DESCRIPTION:Eesti Põllumajandus-Kaubanduskoda korraldab Maaeluministeeriumi tellimusel virtuaalse infopäeva \nUuemad arengud piimakarja söötmisel \nToimumise aeg: 17. detsember 2020. a.  \nRegistreerunutele saadame vastava lingi 17. detsembri hommikul. \n  \nPÄEVAKAVA \n09:45 – 10:00  Kogunemine \n10:00 – 11:30  Sööt ja sööda väärindamine kilodest eurodeks – Catalin Necula\, Alltech Euroopa Nõustamisosakond (sünkroontõlge); \n11:30 – 12:00  Jalasirutuspaus \n12:00 – 13:00  Kuivainepõhine piima hinnastamine – Ants-Hannes Viira\, EMÜ \n13:00 – 13.30  Silo seeduvuse osatähtsus piimatootmises – Pillerin Puskar\, Alltech Eesti \n  \nNB! Registreerige osalemissoov kuni 16. detsembrini  SIIN  \nInfo on avaldatud test.pikk.ee (vt sündmuste kalender) ja EPKK kodulehel www.epkk.ee (vt sündmused) \n \nInfopäev toimub MAK 2014-2020 meetme „Teadmussiirde pikaajaline programm loomakasvatuse tegevusvaldkonna II raames; Rahastamisallikas: riigieelarve\, Euroopa Maaelu Põllumajandusfond (EAFRD). \nLisainformatsioon: EPKK projektijuht Maire Vimb – 50 86 664 või maire@epkk.ee
URL:https://test.pikk.ee/sundmus/infopaev-uuemad-arengud-piimakarja-sootmisel/
LOCATION:Veebis\, Eesti
END:VEVENT
END:VCALENDAR