BEGIN:VCALENDAR
VERSION:2.0
PRODID:-//METK nõuandeteenistus - ECPv6.15.13//NONSGML v1.0//EN
CALSCALE:GREGORIAN
METHOD:PUBLISH
X-WR-CALNAME:METK nõuandeteenistus
X-ORIGINAL-URL:https://test.pikk.ee
X-WR-CALDESC:Events for METK nõuandeteenistus
REFRESH-INTERVAL;VALUE=DURATION:PT1H
X-Robots-Tag:noindex
X-PUBLISHED-TTL:PT1H
BEGIN:VTIMEZONE
TZID:Europe/Tallinn
BEGIN:DAYLIGHT
TZOFFSETFROM:+0200
TZOFFSETTO:+0300
TZNAME:EEST
DTSTART:20200329T010000
END:DAYLIGHT
BEGIN:STANDARD
TZOFFSETFROM:+0300
TZOFFSETTO:+0200
TZNAME:EET
DTSTART:20201025T010000
END:STANDARD
BEGIN:DAYLIGHT
TZOFFSETFROM:+0200
TZOFFSETTO:+0300
TZNAME:EEST
DTSTART:20210328T010000
END:DAYLIGHT
BEGIN:STANDARD
TZOFFSETFROM:+0300
TZOFFSETTO:+0200
TZNAME:EET
DTSTART:20211031T010000
END:STANDARD
BEGIN:DAYLIGHT
TZOFFSETFROM:+0200
TZOFFSETTO:+0300
TZNAME:EEST
DTSTART:20220327T010000
END:DAYLIGHT
BEGIN:STANDARD
TZOFFSETFROM:+0300
TZOFFSETTO:+0200
TZNAME:EET
DTSTART:20221030T010000
END:STANDARD
END:VTIMEZONE
BEGIN:VEVENT
DTSTART;VALUE=DATE:20210204
DTEND;VALUE=DATE:20210205
DTSTAMP:20260425T164220
CREATED:20210121T152917Z
LAST-MODIFIED:20210121T152917Z
UID:10009781-1612396800-1612483199@test.pikk.ee
SUMMARY:Taimekaitsevahendite professionaalse kasutaja täienduskoolitus (12 tundi)
DESCRIPTION:Taimekaitsevahendite professionaalse kasutaja täienduskoolitus (12 tundi) \nKoolitus toimub 4. veebruaril veebikoolitusena\nKoolitaja Kaja Marrandi\nHind ühele osalejale koos käibemaksuga on 60 eurot.\nPS! Koolitus on mõeldud  kehtiva taimekaitsetunnistuse pikendamiseks!\nKoolitusele registreerimine toimub SIIT
URL:https://test.pikk.ee/sundmus/taimekaitsevahendite-professionaalse-kasutaja-taienduskoolitus-12-tundi-5/
LOCATION:Veebis\, Eesti
CATEGORIES:Taimekaitse
END:VEVENT
END:VCALENDAR