BEGIN:VCALENDAR
VERSION:2.0
PRODID:-//METK nõuandeteenistus - ECPv6.15.13//NONSGML v1.0//EN
CALSCALE:GREGORIAN
METHOD:PUBLISH
X-ORIGINAL-URL:https://test.pikk.ee
X-WR-CALDESC:Events for METK nõuandeteenistus
REFRESH-INTERVAL;VALUE=DURATION:PT1H
X-Robots-Tag:noindex
X-PUBLISHED-TTL:PT1H
BEGIN:VTIMEZONE
TZID:Europe/Tallinn
BEGIN:DAYLIGHT
TZOFFSETFROM:+0200
TZOFFSETTO:+0300
TZNAME:EEST
DTSTART:20200329T010000
END:DAYLIGHT
BEGIN:STANDARD
TZOFFSETFROM:+0300
TZOFFSETTO:+0200
TZNAME:EET
DTSTART:20201025T010000
END:STANDARD
BEGIN:DAYLIGHT
TZOFFSETFROM:+0200
TZOFFSETTO:+0300
TZNAME:EEST
DTSTART:20210328T010000
END:DAYLIGHT
BEGIN:STANDARD
TZOFFSETFROM:+0300
TZOFFSETTO:+0200
TZNAME:EET
DTSTART:20211031T010000
END:STANDARD
BEGIN:DAYLIGHT
TZOFFSETFROM:+0200
TZOFFSETTO:+0300
TZNAME:EEST
DTSTART:20220327T010000
END:DAYLIGHT
BEGIN:STANDARD
TZOFFSETFROM:+0300
TZOFFSETTO:+0200
TZNAME:EET
DTSTART:20221030T010000
END:STANDARD
END:VTIMEZONE
BEGIN:VEVENT
DTSTART;VALUE=DATE:20210205
DTEND;VALUE=DATE:20210206
DTSTAMP:20260425T025027
CREATED:20210105T120023Z
LAST-MODIFIED:20210105T120310Z
UID:10009770-1612483200-1612569599@test.pikk.ee
SUMMARY:Toidu keemilised ohud (veebipõhine tasuline koolitus)
DESCRIPTION:Täpsem info ja registreerumine SIIN \nToit koosneb väga paljudest erinevatest\, enamikus kasulikest ja ohututest ainetest. Samas võib toit sisaldada ka inimesele kahjulikke aineid\, mis võivad olla looduslikud\, aga võivad ka tekkida toidu valmistamise käigus ohutute ainete omavahelisel reageerimisel või nende lagunemisel. Toit peab olema ohutu\, ta ei tohi põhjustada mingeid terviserikkeid. Et see oleks tõesti nii\, tuleb heade põllumajandus-\, kalandus- ja tootmistavade järgimise ja kontrolliga hoida kahjulike ainete sisaldus toidus võimalikult madalal. \n6- tunnisel (veebipõhise kontaktõppe vormis) toimuval koolitusel räägib doksikoloogia professor Tõnu Püssa põhiliste erinevates toitudes sisalduda võivate ohtlike ainete tekkimisest\, liikumisest toitu\, nende toksiliste toimete iseloomust\, samuti oluliste ainete analüüsist ja kontrolli meetoditest ning annab soovitusi nende ainetega seotud riskide vähendamiseks toidu käitlemisel. \nKäsitlemisele tulevad teemad: \n\nMis on toiduohutus ja mis on toiduhügieen?\nKeemilise toiduohutusega seotud õigusaktid ja normid.\nLühiülevaade toksikoloogiast.\nPõhilised keemilist ohtu põhjustavad ained – nende tekkimine\, liikumine toitu\, toksilise toime iseloom\, analüüsid\, kontroll\, riski vähendamise meetodid:\n\nTaimsed mürgid (alkaloidid\, lektiinid jt. looduslikud ohtlikud ained taimeõlides)\nKeskkonnamürgid (mükotoksiinid; biogeensed amiinid; plii\, elavhõbe ja arseen; dioksiinid ja polükloorbifenüülid (PCB); taimekaitsevahendite jäägid ja väetised)\nVeterinaarravimite jäägid toidus\nToidu töötlemisel ja säilitamisel tekkivad ohtlikud ained (polüaromaatsed süsivesinikud (PAH); Maillardi reaktsiooni produktid sh akrüülamiid; klorometüülpropaandioolid õlides; kiiritatud toidud)\nToidu lisaained\, eriti värvid\nValest doseerimisest ohtlikuks muutuvad lisaained nagu keedusool\, sidrunhape\, nitritid\nToidu võltsimisest tulenevad ohud\n\n\n\nKoolitus toimub 5. veebruaril 2021 kell 10.00-15.15 maaülikooli videosilla vahendusel BigBlueButton (BBB) keskkonnas.\nBBB keskkonnas asuva seminariruumi aadress ning juhised seminariruumi sisenemiseks saadetakse koolitusele registreerunutele meilidele. \nSellel koolitusel osalemine on tasuline (65 eurot) ning vajalik on eelregistreerimine. \nKoolituse korraldaja:\nEesti Maaülikooli avatud ülikool\nFr. R. Kreutzwaldi 56/1\n51006 Tartu\,\ntel 731 3275\ne-post: avayl@emu.ee\nhttp://avatudylikool.emu.ee/
URL:https://test.pikk.ee/sundmus/toidu-keemilised-ohud-veebipohine-tasuline-koolitus/
LOCATION:Veebis\, Eesti
CATEGORIES:Toiduainete tootmine
END:VEVENT
BEGIN:VEVENT
DTSTART;VALUE=DATE:20210205
DTEND;VALUE=DATE:20210207
DTSTAMP:20260425T025027
CREATED:20210120T081518Z
LAST-MODIFIED:20210201T082040Z
UID:10009779-1612483200-1612655999@test.pikk.ee
SUMMARY:Täienduskoolitus – Lihaveise liha töötlemine
DESCRIPTION:  \nTäienduskoolitus – Lihaveise liha töötlemine \nKoolitus toimub 5.- 6. veebruar  Olustvere Teenindus ja Maamajanduskooli õppetööstuses. \nAjakava 5.-6.veebruar. \n  \n9.45.- 10.00    Kogunemine \n10.00 – 11.30  Õppetöö \n11.30 – 11:40  Paus \n11.40 – 13.10  Õppetöö ( sellest 1 h praktiline) \n13.10 – 13:40  Lõuna \n13.40 –  16.40  Praktiline õpe \n  \nTeemad: algtöötlemine\, nõuded käitlemisel\, liha kvaliteet\, konditustamine\, säilitamine\, laagerdamine\, kulinaarne lihalõikus. toodete valmistamine ( lihavalmistised\, käsitöövorstid\, suitsutooted\, grillimine\, hautamine. \n  \nÕppegrupi suurus 12 inimest. Registreerimine ON LÕPPENUD. \n  \n  \n  \nPraktilisest õppetööst osavõtmiseks võta kaasa niiskust taluvad puhtad jalanõud ja sobiv  riietus (temp +10 kuni +14 C). \nÕppekava \nKontakt marika.oeselg@gmail.com \n  \nKoolitus on sihtrühmale tasuta. Koolitusest võivad osa võtta põllumajandustoodete tootmise\, töötlemise või turustamisega\, põllumajandusmaa hooldamisega\, põllumajandustoodetest mittepõllumajandustoodete töötlemisega\, sealhulgas toidu valmistamise või töötlemisega\, või metsa majandamisega seotud või nimetatud tegevusega tegelevat füüsilisest isikust ettevõtjat ja tema töötajat\, eraõigusliku juriidilise isiku osanikku\, aktsionäri\, liiget\, juhtorgani liiget ja tema töötajat\, metsa majandamisega tegelevat füüsilist isikut ja toidu valmistamise või töötlemisega tegelevat avalik-õigusliku juriidilise isiku juhtorgani liiget või töötajat. (Teadmussiirde pikaajaliste programmide rakendamise toetus määruse 28.04.2016 nr.46  muutmine. Vastu võetud 24.08.2017 nr 59.RT I\, 30.08.2017\, 1 ) \n  \nTäienduskoolitus toimub MAK 2014-2020 meetme „Teadmussiirde pikaajaline programm loomakasvatuse tegevusvaldkonnas II “ raames\, rahastamisallikas: riigieelarve\, Euroopa Maaelu Põllumajandusfond (EAFRD).
URL:https://test.pikk.ee/sundmus/taienduskoolitus-lihaveise-liha-tootlemine/
LOCATION:Viljandimaa\, Viljandimaa\, Eesti
GEO:58.2821746;25.5752233
END:VEVENT
END:VCALENDAR