BEGIN:VCALENDAR
VERSION:2.0
PRODID:-//METK nõuandeteenistus - ECPv6.15.13//NONSGML v1.0//EN
CALSCALE:GREGORIAN
METHOD:PUBLISH
X-WR-CALNAME:METK nõuandeteenistus
X-ORIGINAL-URL:https://test.pikk.ee
X-WR-CALDESC:Events for METK nõuandeteenistus
REFRESH-INTERVAL;VALUE=DURATION:PT1H
X-Robots-Tag:noindex
X-PUBLISHED-TTL:PT1H
BEGIN:VTIMEZONE
TZID:Europe/Tallinn
BEGIN:DAYLIGHT
TZOFFSETFROM:+0200
TZOFFSETTO:+0300
TZNAME:EEST
DTSTART:20200329T010000
END:DAYLIGHT
BEGIN:STANDARD
TZOFFSETFROM:+0300
TZOFFSETTO:+0200
TZNAME:EET
DTSTART:20201025T010000
END:STANDARD
BEGIN:DAYLIGHT
TZOFFSETFROM:+0200
TZOFFSETTO:+0300
TZNAME:EEST
DTSTART:20210328T010000
END:DAYLIGHT
BEGIN:STANDARD
TZOFFSETFROM:+0300
TZOFFSETTO:+0200
TZNAME:EET
DTSTART:20211031T010000
END:STANDARD
BEGIN:DAYLIGHT
TZOFFSETFROM:+0200
TZOFFSETTO:+0300
TZNAME:EEST
DTSTART:20220327T010000
END:DAYLIGHT
BEGIN:STANDARD
TZOFFSETFROM:+0300
TZOFFSETTO:+0200
TZNAME:EET
DTSTART:20221030T010000
END:STANDARD
END:VTIMEZONE
BEGIN:VEVENT
DTSTART;VALUE=DATE:20210215
DTEND;VALUE=DATE:20210218
DTSTAMP:20260424T203904
CREATED:20210121T153947Z
LAST-MODIFIED:20210121T154157Z
UID:10009784-1613347200-1613606399@test.pikk.ee
SUMMARY:Taimekaitse aluskoolitus professionaalsele kasutajale (22 t)
DESCRIPTION:Taimekaitse aluskoolitus professionaalsele kasutajale (22 t) \nKoolitus toimub 15. -17. veebruar veebikoolitusena\nKoolitajad: Kaja Marrandi ja Marek Kõbu\nPõllumeestele on koolitus TASUTA\nKoolitusele registreerimine toimub SIIT \nTäpsema info koolituse kohta saadan registreerunuile.\nRuth Türk\nJKHK koolitusjuht\nruth.turk@jkhk.ee\n5329 2188
URL:https://test.pikk.ee/sundmus/taimekaitse-aluskoolitus-professionaalsele-kasutajale-22-t-6/
LOCATION:Veebis\, Eesti
CATEGORIES:Taimekaitse
END:VEVENT
BEGIN:VEVENT
DTSTART;VALUE=DATE:20210217
DTEND;VALUE=DATE:20210218
DTSTAMP:20260424T203904
CREATED:20191125T123520Z
LAST-MODIFIED:20201013T084007Z
UID:10007552-1613520000-1613606399@test.pikk.ee
SUMMARY:Enesekontrollisüsteemi loomine ja auditeerimine toidukäitlemisettevõttes (vene keeles)
DESCRIPTION:Tasuline koolitus kõigile huvilistele. \nTäpsem info ja registreerumine aadressil: https://ois.emu.ee/pls/ois/!tere.tulemast?leht=OK.AY.VP&id_ay_programm=9962&id_ay_toimumine=14286&systeemi_seaded=3\,1\,12\,1\, \n. \nKoolituse korraldaja:\nEesti Maaülikooli avatud ülikool\nFr. R. Kreutzwaldi 56/1\n51006 Tartu\ntel 731 3275\, 731 3174\, 534 41844\ne-post: avayl@emu.ee\nhttp://avatudylikool.emu.ee/ \n 
URL:https://test.pikk.ee/sundmus/enesekontrollisusteemi-loomine-ja-auditeerimine-toidukaitlemisettevottes-vene-keeles/
LOCATION:Tartumaa\, Eesti
CATEGORIES:Toiduainete tootmine
GEO:58.4057128;26.801576
END:VEVENT
BEGIN:VEVENT
DTSTART;VALUE=DATE:20210217
DTEND;VALUE=DATE:20210220
DTSTAMP:20260424T203904
CREATED:20210119T084652Z
LAST-MODIFIED:20210205T085221Z
UID:10009774-1613520000-1613779199@test.pikk.ee
SUMMARY:Taimekaitse aluskoolitus professionaalsele taimekaitsevahendite kasutajale (27h)
DESCRIPTION:Räpina Aianduskool korraldab veebruaris 2021 järgmised taimekaitse koolitused: \n GRUPP ON TÄIS!\n \n\nTaimekaitse aluskoolitus professionaalsele taimekaitsevahendite kasutajale (27h)\n\nToimumise aeg: K-R\, 17. – 19.veebruar 2021 \nToimumise koht: Räpina Aianduskool\, Aianduse 6\, Räpina\, Põlva maakond \nKoolitus on tasuline. \nTäpsem info ja kursusele registreerimine \nhttps://www.aianduskool.ee/taimekaitse-aluskoolitus-profile/ \nNB! Lähtuval hetkeolukorrast on õppegrupi suurus vaid 10 osalejat\, seega vajalik eelregistreerimine. Registreerimine kursusele lõpetatakse  5 tööpäeva enne koolituse algust või õppegrupi täitumisel. Hiljem õppegrupiga liituda ei saa. \nKursusele registreerimine on lõppenud. GRUPP ON TÄIS! \n  \n\nVältimaks koroonaviirust\, peab koolitusele tulija olema täiesti terve.\n\n  \nKontaktisik \nEda Gross \nRäpina Aianduskooli \ntäienduskoolituse metoodik \ntel: 796 1549 ja 5346 1209 \n 
URL:https://test.pikk.ee/sundmus/taimekaitse-aluskoolitus-professionaalsele-taimekaitsevahendite-kasutajale-27h-5/
LOCATION:Põlvamaa\, Põlvamaa\, Eesti
GEO:58.1160622;27.2066394
END:VEVENT
END:VCALENDAR