BEGIN:VCALENDAR
VERSION:2.0
PRODID:-//METK nõuandeteenistus - ECPv6.15.13//NONSGML v1.0//EN
CALSCALE:GREGORIAN
METHOD:PUBLISH
X-WR-CALNAME:METK nõuandeteenistus
X-ORIGINAL-URL:https://test.pikk.ee
X-WR-CALDESC:Events for METK nõuandeteenistus
REFRESH-INTERVAL;VALUE=DURATION:PT1H
X-Robots-Tag:noindex
X-PUBLISHED-TTL:PT1H
BEGIN:VTIMEZONE
TZID:Europe/Tallinn
BEGIN:DAYLIGHT
TZOFFSETFROM:+0200
TZOFFSETTO:+0300
TZNAME:EEST
DTSTART:20200329T010000
END:DAYLIGHT
BEGIN:STANDARD
TZOFFSETFROM:+0300
TZOFFSETTO:+0200
TZNAME:EET
DTSTART:20201025T010000
END:STANDARD
BEGIN:DAYLIGHT
TZOFFSETFROM:+0200
TZOFFSETTO:+0300
TZNAME:EEST
DTSTART:20210328T010000
END:DAYLIGHT
BEGIN:STANDARD
TZOFFSETFROM:+0300
TZOFFSETTO:+0200
TZNAME:EET
DTSTART:20211031T010000
END:STANDARD
BEGIN:DAYLIGHT
TZOFFSETFROM:+0200
TZOFFSETTO:+0300
TZNAME:EEST
DTSTART:20220327T010000
END:DAYLIGHT
BEGIN:STANDARD
TZOFFSETFROM:+0300
TZOFFSETTO:+0200
TZNAME:EET
DTSTART:20221030T010000
END:STANDARD
END:VTIMEZONE
BEGIN:VEVENT
DTSTART;VALUE=DATE:20210226
DTEND;VALUE=DATE:20210227
DTSTAMP:20260425T135430
CREATED:20201221T154337Z
LAST-MODIFIED:20201221T154632Z
UID:10009756-1614297600-1614383999@test.pikk.ee
SUMMARY:Allergeeniohje toidukäitlemisettevõtte enesekontrolliplaanis (veebipõhine kursus)
DESCRIPTION:Seoses C-19 kiire levikuga toimub Eesti Maaülikooli korraldatav täiendkoolitus videosilla vahendusel BigBlueButton keskkonnas. \nTäpsem info ja registreerumine SIIN \nLektor Katrin Laikoja koolitus annab ülevaate toiduallergeenidest\, toiduallergeenidega seotud ohtudest ja allegeeniohjest toidukäitlemise ettevõttes. \nKoolitusel käsitletavad teemad: \n\nmõisted (allergeen\, allergia\, toiduallergia\, toidutalumatus\, toiduallergeenid\, ristkontakt);\ntoiduallergia ja tsöliaakia esinemisest Eestis;\nõigusaktidest tulenevad kohustused toidukäitlejatele\, sh märgistamine (määrus 1169/2011\, PõM määrus 24\, vead märgistamisel\, RASFF);\nallergeenid enesekontrolliplaanis\, sh HACCP plaanis;\nallergeenide juhtimine ettevõttes;\nvead käitlemisel\, ennetamine.\n\nTäienduskoolitusest võivad osa võtta: \n\npõllumajandustoodete töötlemise või turustamisega tegelev füüsilisest isikust ettevõtja ja tema töötaja ning eraõigusliku juriidilise isiku osanik\, aktsionär\, liige\, juhtorgani liige ja tema töötaja;\npõllumajandustoodetest mittepõllumajandustoodete töötlemise sh toidu valmistamise või töötlemisega tegelev füüsilisest isikust ettevõtja ja tema töötaja ning eraõigusliku juriidilise isiku osanik\, aktsionär\, liige\, juhtorgani liige ja tema töötaja;\ntoidu valmistamise või töötlemisega tegelev avalik-õigusliku juriidilise isiku juhtorgani liige või töötaja;\npõllumajandustootjate valdkonda teenindavad isikud (nt kokkuostuga tegelevate ettevõtete töötajad);\nisikud (FIE-d või ettevõtte esindajad)\, kes koguvad teadmisi uue tegevusvaldkonna kohta;\npõllumajanduslike esindus- ja erialaorganisatsioonide (MTÜ-d\, mille liikmeteks on põllumajandussaaduste töötlejad) juhatuse liikmed ja töötajad.\n\nFüüsiliste isikute ja riigiametnike täienduskoolitusel osalemine ei ole toetatav! \nTegevust finantseeritakse Eesti maaelu arengukava 2014-2020 meetme 1 “Teadmussiire ja teavitus” tegevuse “Pikaajalised programmid” raames ja on sihtrühma kuulujatele tasuta. \nNB! Teavitame! Antud koolitustegevuses osalemine on osaleja jaoks vähese tähtsusega abi. \n. \nKoolituse korraldaja:\nEesti Maaülikooli avatud ülikool\nFr. R. Kreutzwaldi 56/1\n51006 Tartu\,\ntel 731 3275\ne-post: avayl@emu.ee\nhttp://avatudylikool.emu.ee/
URL:https://test.pikk.ee/sundmus/allergeeniohje-toidukaitlemisettevotte-enesekontrolliplaanis-veebipohine-kursus/
LOCATION:Veebis\, Eesti
CATEGORIES:Toiduainete tootmine
END:VEVENT
BEGIN:VEVENT
DTSTART;VALUE=DATE:20210226
DTEND;VALUE=DATE:20210227
DTSTAMP:20260425T135430
CREATED:20210125T120641Z
LAST-MODIFIED:20210125T120837Z
UID:10009786-1614297600-1614383999@test.pikk.ee
SUMMARY:Tervist toetava toidu arendus seedetrakti mikrobioomi põhjal (veebipõhine tasuline koolitus)
DESCRIPTION:Täpsem info ja registreerumine SIIN \nSeedetrakti mikroobikooslus mängib olulist rolli inimese ainevahetuses. Tasakaalus mikrobioota ei taga ainult korras seedimise\, aga ka toimiva immuunsüsteemi\, terve südame ja mõistuse.\nMikroorganismidel on kümneid kordi rohkem ensüüme\, et lagundada ühendeid\, mis peensooles jäävad inimese ensüümide poolt lagundamata. Tänu sellele on bakterid – peamised mikroorganismid seedetraktis\, võimelised lagundama need seedumatud toidukomponendid inimesele kasulikeks või kahjulikeks ühenditeks sõltuvalt mikroobikoosluse koostisest.\nOluline tegur mikroobikoosluse kujunemisel on toit. Tänapäeva rafineeritud toitude maailmas jäävad bakterid meie kõhus tihti nälga kasulike toitainete mõttes\, sest toidu tootmisprotsessis on bakteritele vajalikud komponendid eemaldatud. Seega on oluline teada\, milline on inimese mikrobioota kooslus ja milliste toiduainetega oma soolekooslust tugevana hoida. \n4- tunnisel (veebipõhise kontaktõppe vormis) toimuval koolitusel saab teadmisi\, millised toidutehnoloogiad tagavad seedetraktibakteritele sobilikud toitained\, kuidas lugeda toiduainete pakenditel olevaid koostisi ja kuidas saab teha mikrobioomisõbralikke toiduvalikuid. \nKoolitust viib läbi Tallinna Tehnikaülikooli vanemteadur Kaarel Adamberg\, Ph.D. \nKoolitus toimub koolitusrühma täitumisel 26. veebruaril 2021 kell 10.00-13.30 maaülikooli videosilla vahendusel BigBlueButton (BBB) keskkonnas.\nBBB keskkonnas asuva seminariruumi aadress ning juhised seminariruumi sisenemiseks saadetakse koolitusele registreerunutele meilidele. \nSellel koolitusel osalemine on tasuline (66 eurot) ning vajalik on eelregistreerimine. \nKoolituse korraldaja:\nEesti Maaülikooli avatud ülikool\nFr. R. Kreutzwaldi 56/1\n51006 Tartu\,\ntel 731 3174\ne-post: avayl@emu.ee\nhttp://avatudylikool.emu.ee/
URL:https://test.pikk.ee/sundmus/tervist-toetava-toidu-arendus-seedetrakti-mikrobioomi-pohjal-veebipohine-tasuline-koolitus/
LOCATION:Veebis\, Eesti
CATEGORIES:Keskkond,Toiduainete tootmine
END:VEVENT
BEGIN:VEVENT
DTSTART;VALUE=DATE:20210226
DTEND;VALUE=DATE:20210227
DTSTAMP:20260425T135430
CREATED:20210210T135429Z
LAST-MODIFIED:20210210T135429Z
UID:10009791-1614297600-1614383999@test.pikk.ee
SUMMARY:Algavale metsaomanikule teadmiseks
DESCRIPTION:Infopäev 26. veebruaril 2021 VEEBIS \nAlgavale metsaomanikule teadmiseks \nRegistreerimine :  https://forms.gle/Fj2Zob8zDAqABFtP9 \nLink registreeritud osavõtjatele saadetakse enne infopäeva algust meilile. \nPäevakava: \n9.45-10.00 sisenemine Zoomi \n10.00-13.00 Ettekanne koos mini vaheajaga (sh küsimused ja vastused) \nLektor metsanduse konsulent Aivar Pedaspuu \nSihtgrupp: erametsaomanikud\, metsaomanikega seotud isikud\, metsahuvilised \nInfopäev on osavõtjatele tasuta. \nInfopäev toimub MAK 2014-2020 „Teadmussiirde ja teavituse toetuse üleriigilise ulatusega tegevuste” meetme raames\, tegevust toetab Euroopa Liit. \nInfopäeva korraldaja Eesti Kaugmetsaomanike Liit \nTel 5021260 \ne-post: kaugmets@gmail.com
URL:https://test.pikk.ee/sundmus/algavale-metsaomanikule-teadmiseks/
LOCATION:Veebis\, Eesti
ORGANIZER;CN="Eesti Kaugmetsaomanike Liit":MAILTO:kaugmets@gmail.com
END:VEVENT
END:VCALENDAR