BEGIN:VCALENDAR
VERSION:2.0
PRODID:-//METK nõuandeteenistus - ECPv6.15.13//NONSGML v1.0//EN
CALSCALE:GREGORIAN
METHOD:PUBLISH
X-WR-CALNAME:METK nõuandeteenistus
X-ORIGINAL-URL:https://test.pikk.ee
X-WR-CALDESC:Events for METK nõuandeteenistus
REFRESH-INTERVAL;VALUE=DURATION:PT1H
X-Robots-Tag:noindex
X-PUBLISHED-TTL:PT1H
BEGIN:VTIMEZONE
TZID:Europe/Tallinn
BEGIN:DAYLIGHT
TZOFFSETFROM:+0200
TZOFFSETTO:+0300
TZNAME:EEST
DTSTART:20200329T010000
END:DAYLIGHT
BEGIN:STANDARD
TZOFFSETFROM:+0300
TZOFFSETTO:+0200
TZNAME:EET
DTSTART:20201025T010000
END:STANDARD
BEGIN:DAYLIGHT
TZOFFSETFROM:+0200
TZOFFSETTO:+0300
TZNAME:EEST
DTSTART:20210328T010000
END:DAYLIGHT
BEGIN:STANDARD
TZOFFSETFROM:+0300
TZOFFSETTO:+0200
TZNAME:EET
DTSTART:20211031T010000
END:STANDARD
BEGIN:DAYLIGHT
TZOFFSETFROM:+0200
TZOFFSETTO:+0300
TZNAME:EEST
DTSTART:20220327T010000
END:DAYLIGHT
BEGIN:STANDARD
TZOFFSETFROM:+0300
TZOFFSETTO:+0200
TZNAME:EET
DTSTART:20221030T010000
END:STANDARD
END:VTIMEZONE
BEGIN:VEVENT
DTSTART;VALUE=DATE:20210317
DTEND;VALUE=DATE:20210320
DTSTAMP:20260425T174320
CREATED:20210216T135852Z
LAST-MODIFIED:20210305T073337Z
UID:10009797-1615939200-1616198399@test.pikk.ee
SUMMARY:Taimekaitse aluskoolitus professionaalsele taimekaitsevahendite kasutajale (27h)
DESCRIPTION: Räpina Aianduskool korraldab Eesti maaelu arengukava 2014–2020 meetme 1 „Teadmussiirde ja teavituse toetuse (üleriigilise ja maakondliku ulatusega tegevused)“ alameetme 1.1. (koolitustegevuste korraldamine) raames taimekaitse täienduskoolitusi. \nMaaeluministri 17.06.2015 määruse nr 68 „Teadmussiirde ja teavituse toetus“ § 5 lg 7 kohaselt võivad  TASUTA täienduskoolitusest osa võtta põllumajandustoodete tootmise\, töötlemise ja turustamise\, põllumajandusmaa hooldamise\, põllumajandustoodetest mittepõllumajandustoodete töötlemise\, sealhulgas toidu valmistamine või töötlemine\, või metsa majandamisega seotud või tegelev füüsilisest isikust ettevõtja ja tema töötaja\, eraõigusliku juriidilise isiku osanik\, aktsionär\, liige\, juhtorgani liige ja tema töötaja\, metsa majandamisega tegelev füüsiline isik või toidu valmistamise või töötlemisega tegeleva avalik-õigusliku juriidilise isiku juhtorgani liige või töötaja. \n  \n\n – 19.märtsil 2021 toimub koolitus „ Taimekaitse aluskoolitus professionaalsele taimekaitsevahendite kasutajale“.\n\nMaht tundides: 27h\nToimumise koht: Veebikeskkonnas Teams\nKoolitajad: Tairi Kruusma\, M.Kiisküla\, M.Aomets \nOsalustasu: Sihtgruppi kuulujale TASUTA juhul kui õppegrupp täitub. Tausta õppekohti 12. \nÕppegrupi täitumisel on võimalus registreeruda ka tasulisele õppekohale. Tasulisi õppekohti 10. Õppekohad on tasulised ka juhul kui tasuta õppegrupi kohtade arv ei täitu. \n  \nNB! Vajalik eelregistreerimine\, sest kohtade arv on piiratud. Registreerimine kursusele lõpetatakse 5 tööpäeva enne koolituse algust või õppegrupi täitumisel. \nKursusele täpsem info ja kursusele registreerumine aianduskooli kodulehel  https://www.aianduskool.ee/taimekaitse-aluskoolitus-profile/ \n  \nKontaktisik \nEda Gross \nRäpina Aianduskooli \ntäienduskoolituse metoodik \ntel: 796 1549 ja 5346 1209
URL:https://test.pikk.ee/sundmus/taimekaitse-aluskoolitus-professionaalsele-taimekaitsevahendite-kasutajale-27h-6/
LOCATION:Võrumaa\, Võrumaa
GEO:57.7377372;27.1398938
END:VEVENT
BEGIN:VEVENT
DTSTART;VALUE=DATE:20210319
DTEND;VALUE=DATE:20210320
DTSTAMP:20260425T174320
CREATED:20201221T164119Z
LAST-MODIFIED:20210304T063815Z
UID:10009757-1616112000-1616198399@test.pikk.ee
SUMMARY:Enesekontrollisüsteemi loomine ja auditeerimine (veebipõhine kursus)
DESCRIPTION:Seoses C-19 kiire levikuga toimub Eesti Maaülikooli korraldatav täiendkoolitus videosilla vahendusel BigBlueButton keskkonnas. \nTäpsem info ja registreerumine SIIN \nLektor Katrin Laikoja koolitus annab esmased juhised sellest\, kuidas välja töötada ja juurutada ettevõttes enesekontrollisüsteemi ning seda auditeerida ja ajakohastada. \nKoolitusel käsitletavad teemad: \n\nEnesekontrollisüsteem kui toidukäitleja kohustus;\nJuhendmaterjalid ja infoallikad;\nHACCP 7 põhimõtet ja 12 etappi;\nTöörühma loomine\, tootekirjelduste ja toorainelehtede koostamine;\nOhtude analüüs\, ennetavate abinõude määramine;\nRiskide analüüsimine;\nKKPde\, kriitiliste piiride ja korrigeerivate tegevuste määramine;\nSeire kehtestamine;\nEnesekontrolliplaani ja HACCP süsteemi dokumenteerimine;\nSüsteemi tõendustegevused;\nAuditi põhimõtted;\nEeltingimusprogrammide/heade hügieenitavade auditeerimine;\nHACCP põhimõtete auditeerimine.\n\nTäienduskoolitusest võivad osa võtta: \n\npõllumajandustoodete töötlemise või turustamisega tegelev füüsilisest isikust ettevõtja ja tema töötaja ning eraõigusliku juriidilise isiku osanik\, aktsionär\, liige\, juhtorgani liige ja tema töötaja;\npõllumajandustoodetest mittepõllumajandustoodete töötlemise sh toidu valmistamise või töötlemisega tegelev füüsilisest isikust ettevõtja ja tema töötaja ning eraõigusliku juriidilise isiku osanik\, aktsionär\, liige\, juhtorgani liige ja tema töötaja;\ntoidu valmistamise või töötlemisega tegelev avalik-õigusliku juriidilise isiku juhtorgani liige või töötaja;\npõllumajandustootjate valdkonda teenindavad isikud (nt kokkuostuga tegelevate ettevõtete töötajad);\nisikud (FIE-d või ettevõtte esindajad)\, kes koguvad teadmisi uue tegevusvaldkonna kohta;\npõllumajanduslike esindus- ja erialaorganisatsioonide (MTÜ-d\, mille liikmeteks on põllumajandussaaduste töötlejad) juhatuse liikmed ja töötajad.\n\nFüüsiliste isikute ja riigiametnike täienduskoolitusel osalemine ei ole toetatav! \nTegevust finantseeritakse Eesti maaelu arengukava 2014-2020 meetme 1 “Teadmussiire ja teavitus” tegevuse “Pikaajalised programmid” raames ja on sihtrühma kuulujatele tasuta. \nNB! Teavitame! Antud koolitustegevuses osalemine on osaleja jaoks vähese tähtsusega abi\, abisummas 120 eurot. \n. \nKoolituse korraldaja:\nEesti Maaülikooli avatud ülikool\nFr. R. Kreutzwaldi 56/1\n51006 Tartu\,\ntel 731 3275\ne-post: avayl@emu.ee\nhttp://avatudylikool.emu.ee/
URL:https://test.pikk.ee/sundmus/enesekontrollisusteemi-loomine-ja-auditeerimine-veebipohine-kursus/
LOCATION:Veebis\, Eesti
CATEGORIES:Toiduainete tootmine
END:VEVENT
BEGIN:VEVENT
DTSTART;VALUE=DATE:20210319
DTEND;VALUE=DATE:20210320
DTSTAMP:20260425T174320
CREATED:20210304T063750Z
LAST-MODIFIED:20210304T063750Z
UID:10007864-1616112000-1616198399@test.pikk.ee
SUMMARY:Ravimseentest\, mida leidub meie metsades rikkalikult (veebis)
DESCRIPTION:Infopäev  19. märts 2021 VEEBIS \nRavimseentest\, mida leidub meie metsades rikkalikult \nRegistreerimine :  https://forms.gle/Rn4fBbF4KUv8eC8m9 \nLink registreeritud osavõtjatele saadetakse enne infopäeva algust meilile. \nPäevakava: \n9.45-10.00 sisenemine Zoomi \n10.00-13.00 Ettekanne koos mini vaheajaga (sh küsimused ja vastused) \nLektor aiandusteadlane\, psühholoog ja kirjanik TOIVO NIIBERG \nSihtgrupp: erametsaomanikud\, metsaomanikega seotud isikud\, metsahuvilised \nInfopäev on osavõtjatele tasuta. \nInfopäev toimub MAK 2014-2020 „Teadmussiirde ja teavituse toetuse üleriigilise ulatusega tegevuste” meetme raames\, tegevust toetab Euroopa Liit. \nInfopäeva korraldaja Eesti Kaugmetsaomanike Liit \nTel 5021260 \ne-post: kaugmets@gmail.com
URL:https://test.pikk.ee/sundmus/ravimseentest-mida-leidub-meie-metsades-rikkalikult-veebis/
LOCATION:Veebis\, Eesti
ORGANIZER;CN="Eesti Kaugmetsaomanike Liit":MAILTO:kaugmets@gmail.com
END:VEVENT
END:VCALENDAR