BEGIN:VCALENDAR
VERSION:2.0
PRODID:-//METK nõuandeteenistus - ECPv6.15.13//NONSGML v1.0//EN
CALSCALE:GREGORIAN
METHOD:PUBLISH
X-WR-CALNAME:METK nõuandeteenistus
X-ORIGINAL-URL:https://test.pikk.ee
X-WR-CALDESC:Events for METK nõuandeteenistus
REFRESH-INTERVAL;VALUE=DURATION:PT1H
X-Robots-Tag:noindex
X-PUBLISHED-TTL:PT1H
BEGIN:VTIMEZONE
TZID:Europe/Tallinn
BEGIN:DAYLIGHT
TZOFFSETFROM:+0200
TZOFFSETTO:+0300
TZNAME:EEST
DTSTART:20200329T010000
END:DAYLIGHT
BEGIN:STANDARD
TZOFFSETFROM:+0300
TZOFFSETTO:+0200
TZNAME:EET
DTSTART:20201025T010000
END:STANDARD
BEGIN:DAYLIGHT
TZOFFSETFROM:+0200
TZOFFSETTO:+0300
TZNAME:EEST
DTSTART:20210328T010000
END:DAYLIGHT
BEGIN:STANDARD
TZOFFSETFROM:+0300
TZOFFSETTO:+0200
TZNAME:EET
DTSTART:20211031T010000
END:STANDARD
BEGIN:DAYLIGHT
TZOFFSETFROM:+0200
TZOFFSETTO:+0300
TZNAME:EEST
DTSTART:20220327T010000
END:DAYLIGHT
BEGIN:STANDARD
TZOFFSETFROM:+0300
TZOFFSETTO:+0200
TZNAME:EET
DTSTART:20221030T010000
END:STANDARD
END:VTIMEZONE
BEGIN:VEVENT
DTSTART;VALUE=DATE:20210322
DTEND;VALUE=DATE:20210323
DTSTAMP:20260425T190632
CREATED:20210302T063634Z
LAST-MODIFIED:20210630T125959Z
UID:10009806-1616371200-1616457599@test.pikk.ee
SUMMARY:SÖÖDA OHUTUS LÄBI ENNETAVA TEGEVUSE
DESCRIPTION:Eesti Põllumajandus-Kaubanduskoda korraldab Maaeluministeeriumi tellimusel infopäeva \nSÖÖDA OHUTUS LÄBI ENNETAVA TEGEVUSE \nInfopäev toimub 22. märtsil 2021. a. kell 09:00 – 13:00 virtuaalselt veebikeskkonnas ZOOM. \n  \nPäevakava: \n08:45 – 09:00 kogunemine  \n09:00 – 09.45 Põrsaste võõrutusjärgse kõhulahtisuse ennetamine\, tsinkoksiidi kui veterinaarravimi alternatiivid – Julia  Jeremejeva\, EMÜ; \n09:45 – 10:30  Eestis uuritavatest söötadest – Merike Toome\, Põllumajandusuuringute Keskus \n10:30 – 11:15  Praktiku kogemus – Loomade  söötmine ja heaolu parandamine ehk mida teha\, et vähendada ravimite kasutamist – Andres Aljas\, Peri POÜ \n11:15 – 11.30  Sirutuspaus \n11:30 – 12:15  Muudatustest söödavaldkonna õigusaktides – Eda Ernes \, Maaeluministeerium; \n12:15 – 13:00  Söötade e-kaubandus – Maili Põldpere\, Põllumajandus- ja Toiduamet; \n  \nNB! Registreerige osalemissoov kuni 19. märtsini SIIN \nKui olete palutud andmed sisestanud ja kinnitanud\, saadetakse Zoom keskkonna poolt (EPKK Üldmail no-reply@zoom.us) koheselt link\, mida kasutades saate  22. märtsil alates kella 08:45 liituda meie infopäevaga. Saadetud lingi soovitame salvestada näit Outlook’i või Google’i kalendrisse! \n  \n  \nInfopäev toimub MAK 2014-2020 meetme „Teadmussiirde pikaajaline programm loomakasvatuse tegevusvaldkonna II raames; Rahastamisallikas: riigieelarve\, Euroopa Maaelu Põllumajandusfond (EAFRD).
URL:https://test.pikk.ee/sundmus/sooda-ohutus-labi-ennetava-tegevuse/
LOCATION:Veebis\, Eesti
END:VEVENT
END:VCALENDAR