BEGIN:VCALENDAR
VERSION:2.0
PRODID:-//METK nõuandeteenistus - ECPv6.15.13//NONSGML v1.0//EN
CALSCALE:GREGORIAN
METHOD:PUBLISH
X-ORIGINAL-URL:https://test.pikk.ee
X-WR-CALDESC:Events for METK nõuandeteenistus
REFRESH-INTERVAL;VALUE=DURATION:PT1H
X-Robots-Tag:noindex
X-PUBLISHED-TTL:PT1H
BEGIN:VTIMEZONE
TZID:Europe/Tallinn
BEGIN:DAYLIGHT
TZOFFSETFROM:+0200
TZOFFSETTO:+0300
TZNAME:EEST
DTSTART:20200329T010000
END:DAYLIGHT
BEGIN:STANDARD
TZOFFSETFROM:+0300
TZOFFSETTO:+0200
TZNAME:EET
DTSTART:20201025T010000
END:STANDARD
BEGIN:DAYLIGHT
TZOFFSETFROM:+0200
TZOFFSETTO:+0300
TZNAME:EEST
DTSTART:20210328T010000
END:DAYLIGHT
BEGIN:STANDARD
TZOFFSETFROM:+0300
TZOFFSETTO:+0200
TZNAME:EET
DTSTART:20211031T010000
END:STANDARD
BEGIN:DAYLIGHT
TZOFFSETFROM:+0200
TZOFFSETTO:+0300
TZNAME:EEST
DTSTART:20220327T010000
END:DAYLIGHT
BEGIN:STANDARD
TZOFFSETFROM:+0300
TZOFFSETTO:+0200
TZNAME:EET
DTSTART:20221030T010000
END:STANDARD
END:VTIMEZONE
BEGIN:VEVENT
DTSTART;VALUE=DATE:20210326
DTEND;VALUE=DATE:20210327
DTSTAMP:20260424T154350
CREATED:20201221T165945Z
LAST-MODIFIED:20210304T063857Z
UID:10009759-1616716800-1616803199@test.pikk.ee
SUMMARY:Listeria monocytogenes toidupatogeenina (veebipõhine kursus)
DESCRIPTION:Seoses C-19 levikuga toimub Eesti Maaülikooli korraldatav täiendkoolitus videosilla vahendusel BigBlueButton keskkonnas. \nTäpsem info ja registreerumine SIIN \nProfessor Mati Roasto koolitus annab ülevaade laialdaselt levinud toidupatogeeni\, Listeria monocytogenes´e\, esinemisest toidutööstuses ja ohjemeetmetest. \nKoolitusel käsitletavad teemad: \n\nL. monocytogenes toidupatogeenina;\nL. monocytogenes haiguspuhangute näiteid;\nL. monocytogenes ohjemeetmed;\nL. monocytogenes’e suhtes proovide võtmine;\nLaboratoorsete analüüsitulemuste tõlgendamine;\nL. monocytogenes probleemide ennetamine.\n\nTäienduskoolitusest võivad osa võtta: \n\npõllumajandustoodete töötlemise või turustamisega tegelev füüsilisest isikust ettevõtja ja tema töötaja ning eraõigusliku juriidilise isiku osanik\, aktsionär\, liige\, juhtorgani liige ja tema töötaja;\npõllumajandustoodetest mittepõllumajandustoodete töötlemise sh toidu valmistamise või töötlemisega tegelev füüsilisest isikust ettevõtja ja tema töötaja ning eraõigusliku juriidilise isiku osanik\, aktsionär\, liige\, juhtorgani liige ja tema töötaja;\ntoidu valmistamise või töötlemisega tegelev avalik-õigusliku juriidilise isiku juhtorgani liige või töötaja;\npõllumajandustootjate valdkonda teenindavad isikud (nt kokkuostuga tegelevate ettevõtete töötajad);\nisikud (FIE-d või ettevõtte esindajad)\, kes koguvad teadmisi uue tegevusvaldkonna kohta;\npõllumajanduslike esindus- ja erialaorganisatsioonide (MTÜ-d\, mille liikmeteks on põllumajandussaaduste töötlejad) juhatuse liikmed ja töötajad.\n\nFüüsiliste isikute ja riigiametnike täienduskoolitusel osalemine ei ole toetatav! \nTegevust finantseeritakse Eesti maaelu arengukava 2014-2020 meetme 1 “Teadmussiire ja teavitus” tegevuse “Pikaajalised programmid” raames ja on sihtrühma kuulujatele tasuta. \nNB! Teavitame! Antud koolitustegevuses osalemine on osaleja jaoks vähese tähtsusega abi\, abisummas 120 eurot. \n. \nKoolituse korraldaja:\nEesti Maaülikooli avatud ülikool\nFr. R. Kreutzwaldi 56/1\n51006 Tartu\,\ntel 731 3275\ne-post: avayl@emu.ee\nhttp://avatudylikool.emu.ee/
URL:https://test.pikk.ee/sundmus/listeria-monocytogenes-toidupatogeenina-veebipohine-kursus/
LOCATION:Veebis\, Eesti
END:VEVENT
BEGIN:VEVENT
DTSTART;VALUE=DATE:20210326
DTEND;VALUE=DATE:20210327
DTSTAMP:20260424T154350
CREATED:20210311T062409Z
LAST-MODIFIED:20210311T062409Z
UID:10007867-1616716800-1616803199@test.pikk.ee
SUMMARY:Infopäev Metsade uuendamine
DESCRIPTION:Infopäev  26. märts 2021 VEEBIS (Zoom) \nMetsade uuendamine \nRegistreerimine :  https://forms.gle/zodgvb9GdDnrtzuc6 \nLink registreeritud osavõtjatele saadetakse enne infopäeva algust meilile. \nPäevakava: \n9.45-10.00 sisenemine Zoomi \n10.00-13.00 Ettekanne koos mini vaheajaga (sh küsimused ja vastused) \nLektor Eesti Maaülikooli  õppejõud Vahur Kurvits \nSihtgrupp: erametsaomanikud\, metsaomanikega seotud isikud\, metsahuvilised \nInfopäev on osavõtjatele tasuta. \nInfopäev toimub MAK 2014-2020 „Teadmussiirde ja teavituse toetuse üleriigilise ulatusega tegevuste” meetme raames\, tegevust toetab Euroopa Liit. \nInfopäeva korraldaja Eesti Kaugmetsaomanike Liit \nTel 5021260 \ne-post: kaugmets@gmail.com
URL:https://test.pikk.ee/sundmus/infopaev-metsade-uuendamine/
LOCATION:Veebis\, Eesti
ORGANIZER;CN="Eesti Kaugmetsaomanike Liit":MAILTO:kaugmets@gmail.com
END:VEVENT
END:VCALENDAR