BEGIN:VCALENDAR
VERSION:2.0
PRODID:-//METK nõuandeteenistus - ECPv6.15.13//NONSGML v1.0//EN
CALSCALE:GREGORIAN
METHOD:PUBLISH
X-WR-CALNAME:METK nõuandeteenistus
X-ORIGINAL-URL:https://test.pikk.ee
X-WR-CALDESC:Events for METK nõuandeteenistus
REFRESH-INTERVAL;VALUE=DURATION:PT1H
X-Robots-Tag:noindex
X-PUBLISHED-TTL:PT1H
BEGIN:VTIMEZONE
TZID:Europe/Tallinn
BEGIN:DAYLIGHT
TZOFFSETFROM:+0200
TZOFFSETTO:+0300
TZNAME:EEST
DTSTART:20200329T010000
END:DAYLIGHT
BEGIN:STANDARD
TZOFFSETFROM:+0300
TZOFFSETTO:+0200
TZNAME:EET
DTSTART:20201025T010000
END:STANDARD
BEGIN:DAYLIGHT
TZOFFSETFROM:+0200
TZOFFSETTO:+0300
TZNAME:EEST
DTSTART:20210328T010000
END:DAYLIGHT
BEGIN:STANDARD
TZOFFSETFROM:+0300
TZOFFSETTO:+0200
TZNAME:EET
DTSTART:20211031T010000
END:STANDARD
BEGIN:DAYLIGHT
TZOFFSETFROM:+0200
TZOFFSETTO:+0300
TZNAME:EEST
DTSTART:20220327T010000
END:DAYLIGHT
BEGIN:STANDARD
TZOFFSETFROM:+0300
TZOFFSETTO:+0200
TZNAME:EET
DTSTART:20221030T010000
END:STANDARD
END:VTIMEZONE
BEGIN:VEVENT
DTSTART;VALUE=DATE:20210330
DTEND;VALUE=DATE:20210401
DTSTAMP:20260425T194112
CREATED:20210317T075835Z
LAST-MODIFIED:20210317T075835Z
UID:10009815-1617062400-1617235199@test.pikk.ee
SUMMARY:Infopäev "Kuidas saada parem ülevaade karjast andmete registreerimise ja analüüsi abil"
DESCRIPTION:EPJ korraldab infopäeva “Kuidas saada parem ülevaade karjast andmete\nregistreerimise ja analüüsi abil”.\nEesti Põllumajandusloomade Jõudluskontrolli AS (EPJ) korraldab\nloomapidajatele ja jõudlusandmete kogujatele infopäeva “Kuidas saada\nparem ülevaade karjast andmete registreerimise ja analüüsi abil”. \nAjakava\n30. märts\nKl 9.30-10.00 Kogunemine\nKl 10-11.30 Jõudlus- ja terviseandmete registreerimise olulisus ja\nvõimalused. Ülevaade karjast. Toodanguandmed lehma ja karja tasemel.\nSöötmist ja karja majandamist iseloomustavad aruanded. Aire Pentjärv\, EPJ\nKl 11.30-11.40 Paus\nKl 11.40-13.10 Aretustöös kasutatavad võimalused (paaride valik\,\npõlvnemisinfo\, aretusväärtused). Andmevahetus farm-EPJ-PRIA.\nJõudluskontrolli raportid. Maila Kirs\, EPJ\n13.10-13.20 Kokkuvõte\, küsimused \n31. märts\nKl 9.30-10.00 Kogunemine\nKl 10.00-11.30 Ülevaade tervist ja sigimist iseloomustavatest\naruannetest. Merle Lillik\, EPJ\nKl 11.30-11.40 Paus\nKl 11.40-13.00 Ülevaade tervist ja sigimist iseloomustavatest\naruannetest (jätkub). Merle Lillik\, EPJ\n13.00-13.20 Kokkuvõte\, küsimused \nInfopäev toimub 30.  ja 31. märtsil 2021 kell 9.00–13.20 veebikeskkonnas\nZoom ja nõuab arvuti ning internetiühenduse olemasolu. Osalejate grupp\non hetkel komplekteeritud. \nInfo telefonil 738 7700 või epj@epj.ee.\nInfopäev on osalejatele tasuta\, ettevõtmist toetab Eesti Maaelu Arengukava.
URL:https://test.pikk.ee/sundmus/infopaev-kuidas-saada-parem-ulevaade-karjast-andmete-registreerimise-ja-analuusi-abil-3/2021-03-30/
LOCATION:Veebis\, Eesti
ORGANIZER;CN="Eesti P%C3%B5llumajandusloomade J%C3%B5udluskontrolli Aktsiaselts":MAILTO:epj@epj.ee
END:VEVENT
BEGIN:VEVENT
DTSTART;VALUE=DATE:20210331
DTEND;VALUE=DATE:20210401
DTSTAMP:20260425T194112
CREATED:20210312T083112Z
LAST-MODIFIED:20210312T083112Z
UID:10007868-1617148800-1617235199@test.pikk.ee
SUMMARY:Konverents "Mahepõllumajanduslik loomakasvatus 2021"
DESCRIPTION:Mahepõllumajanduse Koostöökogu kutsub 31. märtsil kell 10:30–15:45 osalema veebikeskkonnas toimuval Mahepõllumajandusliku loomakasvatuse konverentsil. \nOsalemiseks on vajalik registreerumine hiljemalt 26.03 siin: https://forms.gle/NQVzHKZJoXTEJ2Sg9 Osalejatele saadetakse enne konverentsi e-maili teel individuaalne veebikeskkonda sisselogimise link ja kood.\nSisselogitud osalejatel läheb konverents arvesse mahetoetuse kohustusliku koolitusena. \nMahepõllumajanduslik loomakasvatus 2021 \n10.15   Veebikeskkonda sisselogimine \n10.30   Konverentsi sissejuhatus \n10.35   Looduslike rohumaade kvaliteet\, elurikkus ja kliimamõju. Kuidas saada looduslikel ja püsirohumaadel karjatades ühtlase kvaliteediga liha. Anna Jamieson\, Naturbeteskött\, Rootsi \n11.35   Loomade söötmis- ja jootmiskohtade nõuded. Ann Riisenberg\, Keskkonnaministeerium \n12.05   Lihaveiste jätkusuutlik portsjonkarjatamine. Airi Külvet\, MTÜ Liivimaa Lihaveis\, Puutsa talu \n12.35   100% rohusöödapõhine lihaveise- ja lambakasvatus. Kuidas see sobib kvaliteetsete tõuloomade ja lihaks kasvatatavate loomade puhul. Margus Keldo\, Tsura talu \n13.00   Lõunapaus \n13.30   Lihaveiste ja lammaste käitumine erinevates ilmastikuoludes\, soovitused tootjatele. Ragnar Leming\, Peep Piirsalu\, Eesti Maaülikool \n14.10   Mahelambakasvatuse väljakutsed. Ell Sellis\, Eesti Lamba- ja Kitsekasvatajate Liit\, Väike-Hauka talu \n14.30   Lammaste karjatamine päikeseparkide aladel. Tootja kogemus ja aspektid\, mida arvestada. Jaan Kiider\, Riido Ökotalu\, Põllumajandus- ja Toiduameti esindaja (kinnitamisel) \n14.50   Roheleppe eesmärgid ja ÜPP strateegiakava sekkumised. Martti Mandel\, Maaeluministeerium \n15.15   Maheloomakasvatajate panus kliima- ja elurikkuse eesmärkide saavutamisse. Arutelu juhib Airi Külvet \n15.45   Lõpp \nVälislektor Anna Jamiesoni ettekanne tõlgitakse eesti keelde. \nLisainfo:\nmahekogu[A]gmail.com \nKonverents toimub MAK 2014-2020 teadmussiirde ja teavituse toetuse meetme rahastusel\, toetab Euroopa Liit.
URL:https://test.pikk.ee/sundmus/konverents-mahepollumajanduslik-loomakasvatus-2021/
LOCATION:Veebis\, Eesti
CATEGORIES:Loomakasvatus
END:VEVENT
BEGIN:VEVENT
DTSTART;VALUE=DATE:20210331
DTEND;VALUE=DATE:20210401
DTSTAMP:20260425T194112
CREATED:20210317T140330Z
LAST-MODIFIED:20210317T140330Z
UID:10009816-1617148800-1617235199@test.pikk.ee
SUMMARY:Veebikoolitus "Põllumajanduslindude heaolu"
DESCRIPTION:Sihtrühmale tasuta veebikoolitus „Põllumajanduslindude heaolu“\n31.03.2021 \nAlgus kell 9.00\, orienteeruv lõpp kell 16.15s\nKoolitus toimub veebikeskkonnas Big Blue Button.\nKoolitus läheb arvesse loomade heaolu toetuse taotlemisel.\nÕppekava kinnitamise teade 25.01.2021 nr 4.2-6/180-1 \nKoolitus keskendub peamiselt munakanadele\, lisaks käsitletakse broilerite heaolu.\n– Heaolu mõiste ja põllumajanduslindude heaolu kontseptsioonid;\n– Heaolu kui jätkusuutliku linnukasvatuse alus;\n– Lindude käitumine ning selle seoses tervise ja toodanguga;\n– Heaolu põhimõtted – söötmine\, pidamine\, tervis ja loomuomane käitumine;\n– Munakana ja broileri heaolu hindamise protokolli tutvustamine\nVideo materjaliga illustreeritud heaolu hindamine kriteeriumite kaupa linnukasvatusüksuses.\nHindamistulemuste arutelu ja tagasiside jagamine \nLektor Marko Kass\, PhD\, söötmisteadus\nEesti Maaülikool Veterinaarmeditsiini ja loomakasvatuse instituudi söötmisteaduse õppetool\, dotsent \nKoolitus toimub programmi\n“Teadmussiirde pikaajaline programm loomakasvatuse valdkonnas” raames.\nTegevus on rahastatud Eesti maaelu arengukava 2014 – 2020 vahenditest ja on sihtrühmale tasuta. \nSihtrühm \nPõllumajandustoodete tootmise\, töötlemise või turustamisega\, põllumajandusmaa hooldamisega\, põllumajandustoodetest mittepõllumajandustoodete töötlemisega\, sealhulgas toidu valmistamise või töötlemisega\, või metsa majandamisega seotud või nimetatud tegevusega tegelev füüsilisest isikust ettevõtja ja tema töötaja\, eraõigusliku juriidilise isiku osanik\, aktsionär\, liige\, juhtorgani liige ja tema töötaja\, metsa majandamisega tegelev füüsiline isik ja toidu valmistamise või töötlemisega tegelev avalik-õiguslik juriidilise isiku juhtorgani liige või töötaja.\nLisaks valdkonna teenindamisega tegelejad (nt loomasööda\, veterinaarravimite müüjad)\, oma ettevõtte tegevusvaldkonda laiendada soovijad\, põllumajanduslike esindus- ja erialaorganisatsioonide juhatuse liikmed ja töötajad. \nProgrammi eesmärk on tõsta loomakasvatussektoris (v.a. vesiviljelus) tegelevate ettevõtjate ja töötajate teadmiste taset teemadel\, mis on seotud põllumajandusloomade pidamise\, söötmise\, heaolu\, tervise\, taudiennetuse\, aretuse ja geneetiliste ressursside säilitamise\, ohutu ja kvaliteetse sööda\, ning esmase töötlemise kaudu lisandväärtuse loomisega. \nVajalik eelregistreerumine\, seda saate teha SIIT \n  \n  \nKoolitust korraldab \n\n\n\n\nEesti Maaülikooli avatud ülikool​\nKreutzwaldi 56/1 (III korrus\, ruumid 303-306)\,\n51006 Tartu\ntel 731 3174\, 731 3175\, 731 3275\, 5344 1844\ne-post: avayl@emu.ee \n\n\n\n\n\n 
URL:https://test.pikk.ee/sundmus/veebikoolitus-pollumajanduslindude-heaolu/
LOCATION:Muu\, Eesti
CATEGORIES:Loomakasvatus
GEO:58.595272;25.0136071
END:VEVENT
END:VCALENDAR