BEGIN:VCALENDAR
VERSION:2.0
PRODID:-//METK nõuandeteenistus - ECPv6.15.13//NONSGML v1.0//EN
CALSCALE:GREGORIAN
METHOD:PUBLISH
X-ORIGINAL-URL:https://test.pikk.ee
X-WR-CALDESC:Events for METK nõuandeteenistus
REFRESH-INTERVAL;VALUE=DURATION:PT1H
X-Robots-Tag:noindex
X-PUBLISHED-TTL:PT1H
BEGIN:VTIMEZONE
TZID:Europe/Tallinn
BEGIN:DAYLIGHT
TZOFFSETFROM:+0200
TZOFFSETTO:+0300
TZNAME:EEST
DTSTART:20200329T010000
END:DAYLIGHT
BEGIN:STANDARD
TZOFFSETFROM:+0300
TZOFFSETTO:+0200
TZNAME:EET
DTSTART:20201025T010000
END:STANDARD
BEGIN:DAYLIGHT
TZOFFSETFROM:+0200
TZOFFSETTO:+0300
TZNAME:EEST
DTSTART:20210328T010000
END:DAYLIGHT
BEGIN:STANDARD
TZOFFSETFROM:+0300
TZOFFSETTO:+0200
TZNAME:EET
DTSTART:20211031T010000
END:STANDARD
BEGIN:DAYLIGHT
TZOFFSETFROM:+0200
TZOFFSETTO:+0300
TZNAME:EEST
DTSTART:20220327T010000
END:DAYLIGHT
BEGIN:STANDARD
TZOFFSETFROM:+0300
TZOFFSETTO:+0200
TZNAME:EET
DTSTART:20221030T010000
END:STANDARD
END:VTIMEZONE
BEGIN:VEVENT
DTSTART;VALUE=DATE:20210405
DTEND;VALUE=DATE:20210406
DTSTAMP:20260424T154205
CREATED:20210302T072118Z
LAST-MODIFIED:20210302T072118Z
UID:10009809-1617580800-1617667199@test.pikk.ee
SUMMARY:Taimekaitse täienduskoolitus professionaalsele taimekaitsevahendite kasutajale (11h)
DESCRIPTION:Räpina Aianduskool on planeerinud kontaktõppena aprillis 2021 läbi viia: \n  \n„Taimekaitse täienduskoolitus professionaalsele taimekaitsevahendite kasutajale“ (11h)  \nToimumise aeg: E\, 5.aprillil 2021 \nToimumise koht: Räpina Aianduskool\, Aianduse 6\, Räpina. \nKoolitus on tasuline. \nTäpsem info ja kursusele registreerimine \nhttps://www.aianduskool.ee/taimekaitse-täienduskoolitus-profile/ \n  \nNB! Lähtuval hetkeolukorrast on õppegrupi suurus vaid 10 osalejat\, seega vajalik eelregistreerimine. Registreerimine kursusele lõpetatakse  5 tööpäeva enne koolituse algust või õppegrupi täitumisel. Hiljem õppegrupiga liituda ei saa. \nKursusele registreerimine toimub Räpina Aianduskooli kodulehel https://www.aianduskool.ee/taimekaitse-aluskoolitus-profile/  või tel: 796 1549 ja 5346 1209 \n  \nNB! \n\nVältimaks koroonaviirust\, peab koolitusele tulija olema täiesti terve!\nKui vabariigi valitsus pikendab seoses covid-19-ga piiranguid täienduskoolituste läbiviimise osas\, siis koolitust ei toimu.\n\n  \n  \n  \n  \nKontaktisik \nEda Gross \nRäpina Aianduskooli \ntäienduskoolituse metoodik \ntel: 796 1549 ja 5346 1209
URL:https://test.pikk.ee/sundmus/taimekaitse-taienduskoolitus-professionaalsele-taimekaitsevahendite-kasutajale-11h-6/
LOCATION:Põlvamaa\, Põlvamaa\, Eesti
GEO:58.1160622;27.2066394
END:VEVENT
BEGIN:VEVENT
DTSTART;VALUE=DATE:20210405
DTEND;VALUE=DATE:20210406
DTSTAMP:20260424T154205
CREATED:20210316T102509Z
LAST-MODIFIED:20210406T052908Z
UID:10009811-1617580800-1617667199@test.pikk.ee
SUMMARY:Infopäev Otse- ja investeeringutoetuste probleemid Järvamaal (toimub Zoomis)
DESCRIPTION:Registreerimine on lõppenud\, grupp on täis. Registreerunutele saadetakse sisenemise link koos allkirja lehega enne infopäeva algust meilile. \nPäevakava \n9.45-10.00 sisenemine Zoomi\n10.00-13.00 Ettekanded (sh küsimused ja vastused) \nLektor Lilia Kulli\nOtsetoetuste nõuded. Toetusnõuete rikkumine.\nOtsetoetustega seotud probleemistik\, toetuste kontrolli põhimõtted\, tagasinõuete põhjused. Tagasinõuete vältimine ja toetuste korrektne taotlemine.\nLahendused ja soovitused probleemide ning tagasinõuete vältimiseks. \nLektor Triin Luksepp\nInvesteeringutoetuste ülevaade. Investeeringutoetuste korrektne taotlemine ja elluviimine.\nToetusnõuete ülevaade\, nõuete täitmine. Põhiprobleemid investeeringutoetuste taotlemisel\, elluviimisel ning tagasinõuete põhjused ja võimalused nende vältimiseks.Toetustega seonduv riskide juhtimine ja riskide maandamine. \nEttekanne 1 \nEttekanne 2 \n  \nInfopäev on osavõtjatele tasuta. \nKorraldaja Maaelu Edendamise Sihtasutus \nInfopäev toimub MAK 2014-2020 “Teadmussiirde ja teavituse toetuse maakondliku ulatusega tegevuste” meetme raames\, tegevust toetab Euroopa Liit.
URL:https://test.pikk.ee/sundmus/infopaev-otse-ja-investeeringutoetuste-probleemid-jarvamaal-toimub-zoomis-2/
LOCATION:Veebis\, Eesti
ORGANIZER;CN="Maaelu Edendamise Sihtasutus":MAILTO:angelika.nops@pikk.ee
END:VEVENT
BEGIN:VEVENT
DTSTART;TZID=Europe/Tallinn:20210405T130000
DTEND;TZID=Europe/Tallinn:20210405T160000
DTSTAMP:20260424T154205
CREATED:20210326T170157Z
LAST-MODIFIED:20210326T170157Z
UID:10009820-1617627600-1617638400@test.pikk.ee
SUMMARY:Mahepõllumajandusega alustamise infoseminar
DESCRIPTION:Eesti Mahepõllumajanduse Sihtasutus korraldab veebikeskkonnas \nMahepõllumajandusega alustamise infoseminarid \nSeminaride eesmärk on edasi anda peamine info mahepõllumajandusega alustamiseks. Tänavu saab Põllumajandus- ja Toiduametile esitada mahetootmiseks tunnustamise taotlusi kuni 12. aprillini. \n5. aprill kell 13:00-16:00 \n8. aprill kell 11:00-14:00 \nTeemad: \n\nTaust ja üldine info mahepõllumajandusega alustamiseks\, järelevalve\, toetus\nTaimekasvatuse peamised nõuded ja põhimõtted\nLoomakasvatuse peamised nõuded ja põhimõtted\n\nKõigi teemade juures on osalejatel võimalus esitada küsimusi. \n  \nLektorid: \nLilia Kulli\, nõustaja \nMargo Mansberg\, mahetootja Erto talu \nMarge Olju\, Põllumajandus- ja Toiduamet \nAiri Vetemaa\, Eesti Mahepõllumajanduse Sihtasutus \n  \nOsalemiseks on vajalik registreerumine siin. Osalemine on tasuta. \nSeminarid toimuvad keskkonnas Zoom. Veebilink saadetakse registreerunutele 1 päev enne seminari toimumist. \nSündmuse läbiviimine on toetatud Eesti maaelu arengukava tehnilise abi vahenditest maaeluvõrgustiku tegevusele.
URL:https://test.pikk.ee/sundmus/mahepollumajandusega-alustamise-infoseminar/2021-04-05/
LOCATION:Veebis\, Eesti
CATEGORIES:Loomakasvatus,Taimekasvatus
END:VEVENT
END:VCALENDAR