BEGIN:VCALENDAR
VERSION:2.0
PRODID:-//METK nõuandeteenistus - ECPv6.15.13//NONSGML v1.0//EN
CALSCALE:GREGORIAN
METHOD:PUBLISH
X-WR-CALNAME:METK nõuandeteenistus
X-ORIGINAL-URL:https://test.pikk.ee
X-WR-CALDESC:Events for METK nõuandeteenistus
REFRESH-INTERVAL;VALUE=DURATION:PT1H
X-Robots-Tag:noindex
X-PUBLISHED-TTL:PT1H
BEGIN:VTIMEZONE
TZID:Europe/Tallinn
BEGIN:DAYLIGHT
TZOFFSETFROM:+0200
TZOFFSETTO:+0300
TZNAME:EEST
DTSTART:20200329T010000
END:DAYLIGHT
BEGIN:STANDARD
TZOFFSETFROM:+0300
TZOFFSETTO:+0200
TZNAME:EET
DTSTART:20201025T010000
END:STANDARD
BEGIN:DAYLIGHT
TZOFFSETFROM:+0200
TZOFFSETTO:+0300
TZNAME:EEST
DTSTART:20210328T010000
END:DAYLIGHT
BEGIN:STANDARD
TZOFFSETFROM:+0300
TZOFFSETTO:+0200
TZNAME:EET
DTSTART:20211031T010000
END:STANDARD
BEGIN:DAYLIGHT
TZOFFSETFROM:+0200
TZOFFSETTO:+0300
TZNAME:EEST
DTSTART:20220327T010000
END:DAYLIGHT
BEGIN:STANDARD
TZOFFSETFROM:+0300
TZOFFSETTO:+0200
TZNAME:EET
DTSTART:20221030T010000
END:STANDARD
END:VTIMEZONE
BEGIN:VEVENT
DTSTART;TZID=Europe/Tallinn:20210409T093000
DTEND;TZID=Europe/Tallinn:20210409T130000
DTSTAMP:20260424T171753
CREATED:20210324T112123Z
LAST-MODIFIED:20210324T112123Z
UID:10009818-1617960600-1617973200@test.pikk.ee
SUMMARY:Stressist ja selle maandamisest seoses metsaga
DESCRIPTION:Infopäev  9. aprill 2021 VEEBIS (Zoom) \nStressist ja selle maandamisest seoses metsaga \nRegistreerimine :  https://forms.gle/KvtmJjSiPCdGTtMEA \nLink ja eeltäidetud registreerimisleht  saadetakse enne infopäeva algust meilile. \nPäevakava: \n9.45-10.00 sisenemine Zoomi \n10.00-13.00 Ettekanne koos mini vaheajaga (sh küsimused ja vastused) \nLektor aiandusteadlane\, psühholoog ja kirjanik TOIVO NIIBERG \nSihtgrupp: erametsaomanikud\, metsaomanikega seotud isikud\, metsahuvilised \nInfopäev on osavõtjatele tasuta. \nInfopäev toimub MAK 2014-2020 „Teadmussiirde ja teavituse toetuse üleriigilise ulatusega tegevuste” meetme raames\, tegevust toetab Euroopa Liit. \nInfopäeva korraldaja Eesti Kaugmetsaomanike Liit \nTel 5021260 \ne-post: kaugmets@gmail.com
URL:https://test.pikk.ee/sundmus/stressist-ja-selle-maandamisest-seoses-metsaga/
LOCATION:Veebis\, Eesti
ORGANIZER;CN="Eesti Kaugmetsaomanike Liit":MAILTO:kaugmets@gmail.com
END:VEVENT
END:VCALENDAR