BEGIN:VCALENDAR
VERSION:2.0
PRODID:-//METK nõuandeteenistus - ECPv6.15.13//NONSGML v1.0//EN
CALSCALE:GREGORIAN
METHOD:PUBLISH
X-WR-CALNAME:METK nõuandeteenistus
X-ORIGINAL-URL:https://test.pikk.ee
X-WR-CALDESC:Events for METK nõuandeteenistus
REFRESH-INTERVAL;VALUE=DURATION:PT1H
X-Robots-Tag:noindex
X-PUBLISHED-TTL:PT1H
BEGIN:VTIMEZONE
TZID:Europe/Tallinn
BEGIN:DAYLIGHT
TZOFFSETFROM:+0200
TZOFFSETTO:+0300
TZNAME:EEST
DTSTART:20200329T010000
END:DAYLIGHT
BEGIN:STANDARD
TZOFFSETFROM:+0300
TZOFFSETTO:+0200
TZNAME:EET
DTSTART:20201025T010000
END:STANDARD
BEGIN:DAYLIGHT
TZOFFSETFROM:+0200
TZOFFSETTO:+0300
TZNAME:EEST
DTSTART:20210328T010000
END:DAYLIGHT
BEGIN:STANDARD
TZOFFSETFROM:+0300
TZOFFSETTO:+0200
TZNAME:EET
DTSTART:20211031T010000
END:STANDARD
BEGIN:DAYLIGHT
TZOFFSETFROM:+0200
TZOFFSETTO:+0300
TZNAME:EEST
DTSTART:20220327T010000
END:DAYLIGHT
BEGIN:STANDARD
TZOFFSETFROM:+0300
TZOFFSETTO:+0200
TZNAME:EET
DTSTART:20221030T010000
END:STANDARD
END:VTIMEZONE
BEGIN:VEVENT
DTSTART;VALUE=DATE:20210414
DTEND;VALUE=DATE:20210415
DTSTAMP:20260425T200658
CREATED:20210401T080438Z
LAST-MODIFIED:20210630T125956Z
UID:10007880-1618358400-1618444799@test.pikk.ee
SUMMARY:Loomakasvatust mõjutavad kliimapoliitika arengud
DESCRIPTION:Eesti Põllumajandus-Kaubanduskoda korraldab Maaeluministeeriumi tellimusel infopäeva \nLoomakasvatust mõjutavad kliimapoliitika arengud \nInfopäev toimub 14. aprillil 2021. a. kell 10:00 – 13:15 virtuaalselt veebikeskkonnas ZOOM. \n  \nPäevakava: \n09:50 – 10:00  kogunemine \n10:00 – 10:45  Metaani heitmed loomakasvatuses – Allan Kaasik\, Eesti Maaülikool \n10:45 – 11:30  ELi kliimastrateegiad ja nende mõju põllumajandusele – Ivo Krustok\, Keskkonnaministeerium \nCO2-jalajälje hindamine: riiklikud suunised ja   tegevused – Kädi Ristkok\, Keskkonnaministeerium \n11:30 – 11.45  Sirutuspaus \n11:45 – 12:30  Süsinikuringlus loomakasvatuse kontekstis – Sirli Pehme\, Sustinere OÜ \n12:30 – 13:15  Piimafarmides CO2-jalajälje hindamine – AS E-Piim Tootmine kogemus – Liis Tuur\, AS E-Piim Tootmine \n  \nNB! Registreerige osalemissoov kuni 13. aprillini SIIN   \nKui olete palutud andmed sisestanud ja kinnitanud\, saadetakse Zoom keskkonna poolt (EPKK Üldmail no-reply@zoom.us) koheselt link\, mida kasutades saate  14. aprillil alates kella 09:50 liituda meie infopäevaga. Saadetud lingi soovitame salvestada näit Outlook’i või Google’i kalendrisse! \n  \n  \nInfopäev toimub MAK 2014-2020 meetme „Teadmussiirde pikaajaline programm loomakasvatuse tegevusvaldkonna II raames; Rahastamisallikas: riigieelarve\, Euroopa Maaelu Põllumajandusfond (EAFRD). \n  \nLisainformatsioon: EPKK projektijuht Maire Vimb – 50 86 664 või maire@epkk.ee \n 
URL:https://test.pikk.ee/sundmus/loomakasvatust-mojutavad-kliimapoliitika-arengud/
LOCATION:Veebis\, Eesti
END:VEVENT
BEGIN:VEVENT
DTSTART;TZID=Europe/Tallinn:20210414T080000
DTEND;TZID=Europe/Tallinn:20210414T170000
DTSTAMP:20260425T200658
CREATED:20210330T052350Z
LAST-MODIFIED:20210330T052350Z
UID:10009823-1618387200-1618419600@test.pikk.ee
SUMMARY:Kasvavate puude laasimine ja selle mõju puidu kvaliteedile
DESCRIPTION:Infopäev  14. aprill 2021 VEEBIS (Zoom) \nKasvavate puude laasimine ja selle mõju puidu kvaliteedile \nRegistreerimine :  https://forms.gle/mR9hF2x6jRRKsXWa6 \nLink ja eeltäidetud registreerimisleht  saadetakse enne infopäeva algust meilile. \nPäevakava: \n9.45-10.00 sisenemine Zoomi \n10.00-13.00 Ettekanne koos mini vaheajaga (sh küsimused ja vastused) \nLektor Eesti Maaülikooli õppejõud Vahur Kurvits \nSihtgrupp: erametsaomanikud\, metsaomanikega seotud isikud\, metsahuvilised \nInfopäev on osavõtjatele tasuta. \nInfopäev toimub MAK 2014-2020 „Teadmussiirde ja teavituse toetuse üleriigilise ulatusega tegevuste” meetme raames\, tegevust toetab Euroopa Liit. \nInfopäeva korraldaja Eesti Kaugmetsaomanike Liit \nTel 5021260 \ne-post: kaugmets@gmail.com
URL:https://test.pikk.ee/sundmus/kasvavate-puude-laasimine-ja-selle-moju-puidu-kvaliteedile/
LOCATION:Veebis\, Eesti
ORGANIZER;CN="Eesti Kaugmetsaomanike Liit":MAILTO:kaugmets@gmail.com
END:VEVENT
END:VCALENDAR