BEGIN:VCALENDAR
VERSION:2.0
PRODID:-//METK nõuandeteenistus - ECPv6.15.13//NONSGML v1.0//EN
CALSCALE:GREGORIAN
METHOD:PUBLISH
X-WR-CALNAME:METK nõuandeteenistus
X-ORIGINAL-URL:https://test.pikk.ee
X-WR-CALDESC:Events for METK nõuandeteenistus
REFRESH-INTERVAL;VALUE=DURATION:PT1H
X-Robots-Tag:noindex
X-PUBLISHED-TTL:PT1H
BEGIN:VTIMEZONE
TZID:Europe/Tallinn
BEGIN:DAYLIGHT
TZOFFSETFROM:+0200
TZOFFSETTO:+0300
TZNAME:EEST
DTSTART:20200329T010000
END:DAYLIGHT
BEGIN:STANDARD
TZOFFSETFROM:+0300
TZOFFSETTO:+0200
TZNAME:EET
DTSTART:20201025T010000
END:STANDARD
BEGIN:DAYLIGHT
TZOFFSETFROM:+0200
TZOFFSETTO:+0300
TZNAME:EEST
DTSTART:20210328T010000
END:DAYLIGHT
BEGIN:STANDARD
TZOFFSETFROM:+0300
TZOFFSETTO:+0200
TZNAME:EET
DTSTART:20211031T010000
END:STANDARD
BEGIN:DAYLIGHT
TZOFFSETFROM:+0200
TZOFFSETTO:+0300
TZNAME:EEST
DTSTART:20220327T010000
END:DAYLIGHT
BEGIN:STANDARD
TZOFFSETFROM:+0300
TZOFFSETTO:+0200
TZNAME:EET
DTSTART:20221030T010000
END:STANDARD
END:VTIMEZONE
BEGIN:VEVENT
DTSTART;VALUE=DATE:20210420
DTEND;VALUE=DATE:20210421
DTSTAMP:20260426T041837
CREATED:20210111T121337Z
LAST-MODIFIED:20210111T121531Z
UID:10007839-1618876800-1618963199@test.pikk.ee
SUMMARY:Veebikoolitus "Bioohutus piimaveisekasvatuses"
DESCRIPTION:Toimumisaeg 20. aprill 2021\nAlgus kell 9.00\, orienteeruv lõpp kell 14.30 \nÕpe toimub veekeskkonnas BIG BLUE BUTTON\n– BBB kasutamiseks on vaja kiiret internetiühendust (võimalusel kaabliga\, mitte wifit).\n– Audio kuulamiseks on vaja kõrvaklappe või kõlareid\, rääkimiseks mikrofoni ning enda videopildi edastamiseks veebikaamerat. (Kui kahte viimast ei ole\, saab ikkagi õppes osaleda.)\n– BBB kasutamiseks sobib kõige paremini Google Chrome. Sellele järgneb Firefox ning Opera. Teiste veebilehitsejega võib esineda probleeme helikvaliteedis ning ekraanijagamisel. Internet Exploreriga BBB ei tööta. \nTäpsemad juhised koolitusel osalemiseks saadetakse registreerunutele meilile. \nÕppekava kinnitamise teade 11.01.2021 nr 4.2-6/32-1\n\n\nLektor Alar Onoper\, Eesti Maaülikooli produktiivloomakliinik\, vanemloomaarst\n\n\n\nSihtrühm \n\n\n\nPõllumajandustoodete tootmise\, töötlemise või turustamisega\, põllumajandusmaa hooldamisega\, põllumajandustoodetest mittepõllumajandustoodete töötlemisega\, sealhulgas toidu valmistamise või töötlemisega\, või metsa majandamisega seotud või nimetatud tegevusega tegelev füüsilisest isikust ettevõtja ja tema töötaja\, eraõigusliku juriidilise isiku osanik\, aktsionär\, liige\, juhtorgani liige ja tema töötaja\, metsa majandamisega tegelev füüsiline isik ja toidu valmistamise või töötlemisega tegelev avalik-õiguslik juriidilise isiku juhtorgani liige või töötaja.\nLisaks valdkonna teenindamisega tegelejad (nt loomasööda\, veterinaarravimite müüjad)\, oma ettevõtte tegevusvaldkonda laiendada soovijad\, põllumajanduslike esindus- ja erialaorganisatsioonide juhatuse liikmed ja töötajad.\n\n\n\nSisu \nLooma heaolu puudutavad seadused\nPeamised piimaveiste nakkushaigused\nAntibakteriaalne resistentsus\nKarantiini põhimõtted\nBioturvalisuse rakendamineKoolitust korraldab:Osalemissoovi korral on vajalik eelregistreerimine\, seda saate teha SIIN. \nEesti Maaülikooli avatud ülikool​\nKreutzwaldi 56/1 (III korrus\, ruumid 303-306)\,\n51006 Tartu\ntel 731 3174\, 731 3175\, 731 3275\, 5344 1844\ne-post: avayl@emu.ee
URL:https://test.pikk.ee/sundmus/veebikoolitus-bioohutus-piimaveisekasvatuses/
LOCATION:Muu\, Eesti
CATEGORIES:Loomakasvatus
GEO:58.595272;25.0136071
END:VEVENT
END:VCALENDAR