BEGIN:VCALENDAR
VERSION:2.0
PRODID:-//METK nõuandeteenistus - ECPv6.15.13//NONSGML v1.0//EN
CALSCALE:GREGORIAN
METHOD:PUBLISH
X-WR-CALNAME:METK nõuandeteenistus
X-ORIGINAL-URL:https://test.pikk.ee
X-WR-CALDESC:Events for METK nõuandeteenistus
REFRESH-INTERVAL;VALUE=DURATION:PT1H
X-Robots-Tag:noindex
X-PUBLISHED-TTL:PT1H
BEGIN:VTIMEZONE
TZID:Europe/Tallinn
BEGIN:DAYLIGHT
TZOFFSETFROM:+0200
TZOFFSETTO:+0300
TZNAME:EEST
DTSTART:20200329T010000
END:DAYLIGHT
BEGIN:STANDARD
TZOFFSETFROM:+0300
TZOFFSETTO:+0200
TZNAME:EET
DTSTART:20201025T010000
END:STANDARD
BEGIN:DAYLIGHT
TZOFFSETFROM:+0200
TZOFFSETTO:+0300
TZNAME:EEST
DTSTART:20210328T010000
END:DAYLIGHT
BEGIN:STANDARD
TZOFFSETFROM:+0300
TZOFFSETTO:+0200
TZNAME:EET
DTSTART:20211031T010000
END:STANDARD
BEGIN:DAYLIGHT
TZOFFSETFROM:+0200
TZOFFSETTO:+0300
TZNAME:EEST
DTSTART:20220327T010000
END:DAYLIGHT
BEGIN:STANDARD
TZOFFSETFROM:+0300
TZOFFSETTO:+0200
TZNAME:EET
DTSTART:20221030T010000
END:STANDARD
END:VTIMEZONE
BEGIN:VEVENT
DTSTART;VALUE=DATE:20210426
DTEND;VALUE=DATE:20210427
DTSTAMP:20260425T135327
CREATED:20210316T073825Z
LAST-MODIFIED:20210316T073825Z
UID:10007869-1619395200-1619481599@test.pikk.ee
SUMMARY:Enesekontrollisüsteemi loomine ja auditeerimine toidukäitlemisettevõttes (veebipõhine tasuline koolitus)
DESCRIPTION:Täpsem info ja registreerumine SIIN \nLektor Katrin Laikoja koolitus annab esmased juhised sellest\, kuidas välja töötada ja juurutada ettevõttes enesekontrollisüsteemi ning seda auditeerida ja ajakohastada. \nKoolitusel käsitletavad teemad: \n\nEnesekontrollisüsteem kui toidukäitleja kohustus;\nJuhendmaterjalid ja infoallikad;\nHACCP 7 põhimõtet ja 12 etappi;\nTöörühma loomine\, tootekirjelduste ja toorainelehtede koostamine;\nOhtude analüüs\, ennetavate abinõude määramine;\nRiskide analüüsimine;\nKKPde\, kriitiliste piiride ja korrigeerivate tegevuste määramine;\nSeire kehtestamine;\nEnesekontrolliplaani ja HACCP süsteemi dokumenteerimine;\nSüsteemi tõendustegevused;\nAuditi põhimõtted;\nEeltingimusprogrammide/heade hügieenitavade auditeerimine;\nHACCP põhimõtete auditeerimine.\n\nKoolitus toimub 26. aprillil 2021 kell 10.00-15.15 maaülikooli videosilla vahendusel BigBlueButton (BBB) keskkonnas.\nBBB keskkonnas asuva seminariruumi aadress ning juhised seminariruumi sisenemiseks saadetakse koolitusele registreerunutele meilidele. \nSellel koolitusel osalemine on tasuline (70 eurot) ning vajalik on eelregistreerimine. \nKoolituse korraldaja:\nEesti Maaülikooli avatud ülikool\nFr. R. Kreutzwaldi 56/1\n51006 Tartu\,\ntel 731 3275\ne-post: avayl@emu.ee\nhttp://avatudylikool.emu.ee/
URL:https://test.pikk.ee/sundmus/enesekontrollisusteemi-loomine-ja-auditeerimine-toidukaitlemisettevottes-veebipohine-tasuline-koolitus/
LOCATION:Veebis\, Eesti
CATEGORIES:Toiduainete tootmine
ORGANIZER;CN="Eesti Maa%C3%BClikooli avatud %C3%BClikool":MAILTO:avayl@emu.ee
END:VEVENT
BEGIN:VEVENT
DTSTART;TZID=Europe/Tallinn:20210426T093000
DTEND;TZID=Europe/Tallinn:20210426T130000
DTSTAMP:20260425T135327
CREATED:20210415T153726Z
LAST-MODIFIED:20221123T072724Z
UID:10009832-1619429400-1619442000@test.pikk.ee
SUMMARY:Tootjate pindala- ja loomatoetuste infopäev (Ida-Virumaa)
DESCRIPTION:Infopäev toimub 26. aprill 2021 Zoomis algusega kell 9.30 \nAjakava: \n9.20-9.30 sisenemine Zoomi \n9.30.00-11.00 ettekanne \n11.00 -11.15 paus \n11.15-12.45 ettekanded\, küsimused ja vastused \n  \nLektorid Arvo Aller ja Heiki Unt. \n  \nRegistreeru üritusele SIIN \nRegistreerimisel kogutud andmeid kasutame vastavalt Maaelu Edendamise Sihtasutuse isikuandmete töötlemise põhimõtetele\, millega on võimalik tutvuda SIIN \nInfopäev toimub Teadmussiirde pikaajalise programmi põllumajanduse\, toidu ja maamajanduse tegevusvaldkonnas (raamleping number 222076) raames ja on osavõtjatele tasuta.
URL:https://test.pikk.ee/sundmus/tootjate-pindala-ja-loomatoetuste-infopaev-ida-virumaa/
LOCATION:Veebis\, Eesti
ORGANIZER;CN="Maaelu Edendamise Sihtasutus":MAILTO:angelika.nops@pikk.ee
END:VEVENT
BEGIN:VEVENT
DTSTART;TZID=Europe/Tallinn:20210426T100000
DTEND;TZID=Europe/Tallinn:20210426T133000
DTSTAMP:20260425T135327
CREATED:20210415T154105Z
LAST-MODIFIED:20221123T072724Z
UID:10009833-1619431200-1619443800@test.pikk.ee
SUMMARY:Tootjate pindala- ja loomatoetuste infopäev (Tartumaa)
DESCRIPTION:Infopäev toimub  26. aprill 2021 Zoomis algusega kell 10.00. \nAjakava: \n9.50-10.00 sisenemine Zoomi \n10.00-11.30 ettekanne \n11.30 -11.45 paus \n11.45-13.15 ettekanded\, küsimused ja vastused \n  \nLektorid Ulvi Ajalik ja Toomas Tõrra. \n  \nRegistreeru üritusele SIIN \nRegistreerimisel kogutud andmeid kasutame vastavalt Maaelu Edendamise Sihtasutuse isikuandmete töötlemise põhimõtetele\, millega on võimalik tutvuda SIIN \nInfopäev toimub Teadmussiirde pikaajalise programmi põllumajanduse\, toidu ja maamajanduse tegevusvaldkonnas (raamleping number 222076) raames ja on osavõtjatele tasuta.
URL:https://test.pikk.ee/sundmus/tootjate-pindala-ja-loomatoetuste-infopaev-tartumaa/
LOCATION:Veebis\, Eesti
ORGANIZER;CN="Maaelu Edendamise Sihtasutus":MAILTO:angelika.nops@pikk.ee
END:VEVENT
END:VCALENDAR