BEGIN:VCALENDAR
VERSION:2.0
PRODID:-//METK nõuandeteenistus - ECPv6.15.13//NONSGML v1.0//EN
CALSCALE:GREGORIAN
METHOD:PUBLISH
X-ORIGINAL-URL:https://test.pikk.ee
X-WR-CALDESC:Events for METK nõuandeteenistus
REFRESH-INTERVAL;VALUE=DURATION:PT1H
X-Robots-Tag:noindex
X-PUBLISHED-TTL:PT1H
BEGIN:VTIMEZONE
TZID:Europe/Tallinn
BEGIN:DAYLIGHT
TZOFFSETFROM:+0200
TZOFFSETTO:+0300
TZNAME:EEST
DTSTART:20200329T010000
END:DAYLIGHT
BEGIN:STANDARD
TZOFFSETFROM:+0300
TZOFFSETTO:+0200
TZNAME:EET
DTSTART:20201025T010000
END:STANDARD
BEGIN:DAYLIGHT
TZOFFSETFROM:+0200
TZOFFSETTO:+0300
TZNAME:EEST
DTSTART:20210328T010000
END:DAYLIGHT
BEGIN:STANDARD
TZOFFSETFROM:+0300
TZOFFSETTO:+0200
TZNAME:EET
DTSTART:20211031T010000
END:STANDARD
BEGIN:DAYLIGHT
TZOFFSETFROM:+0200
TZOFFSETTO:+0300
TZNAME:EEST
DTSTART:20220327T010000
END:DAYLIGHT
BEGIN:STANDARD
TZOFFSETFROM:+0300
TZOFFSETTO:+0200
TZNAME:EET
DTSTART:20221030T010000
END:STANDARD
END:VTIMEZONE
BEGIN:VEVENT
DTSTART;VALUE=DATE:20210427
DTEND;VALUE=DATE:20210428
DTSTAMP:20260423T235500
CREATED:20210331T072519Z
LAST-MODIFIED:20210427T110716Z
UID:10007877-1619481600-1619567999@test.pikk.ee
SUMMARY:Põllumajandusuuringute infopäev
DESCRIPTION:Põllumajandusuuringute Keskuse ja Maaelu Edendamise Sihtasutuse koostöös toimub 27. aprillil 2021 värskelt valminud põllumajanduskeskkonna teemaliste uuringute infopäev. \nAjakava: \n9.00 – 9.30 Mullaseire välitöö rakendus (uus versioon). Tambet Kikas \n9.30 – 10.00 Toitainete leostumine ja lupjamise lühiajaline mõju. Priit Penu \n10.00 – 10.30 Taimekaitsevahendite jääkide sisaldused põllumuldades. Evelin Pihlap \n15 min paus \n10.45 – 11.15 Veebiküsitluse „Ohustatud tõugu loomade pidamine“ tulemused. Ere Ploomipuu \n11.15 – 11.45 Põllulindude ja kimalaste uuringute peamised tulemused. Eneli Viik \n11.45 – 12.15 Veeseire uuringute tulemused. Jaan Kanger \n30 min paus \n12.45 – 13.15 Toiteelementide bilansi ja pestitsiidide kasutuskoormuse uuringu tulemustest. Marje Särekanno \n13.15 – 13.45 Maheväetistega väetatud haljaväetise mõju suvinisu ja kaera saaginäitajatele. Uus viljavahelduste võrdluskatse mahe- ja tavaviljeluses. Karli Sepp \nInfopäev on järelevaadatav: \n\nI osa https://youtu.be/rcAEGK9Wz6I\nII osa https://youtu.be/K4Fmjl9qox8​\nIII osa https://youtu.be/8UN8XedgMD0​\n\n 
URL:https://test.pikk.ee/sundmus/pollumajandusuuringute-infopaev/
CATEGORIES:Keskkond
ORGANIZER;CN="Maaelu Edendamise Sihtasutus":MAILTO:angelika.nops@pikk.ee
END:VEVENT
BEGIN:VEVENT
DTSTART;TZID=Europe/Tallinn:20210427T093000
DTEND;TZID=Europe/Tallinn:20210427T130000
DTSTAMP:20260423T235500
CREATED:20210415T154257Z
LAST-MODIFIED:20221123T072724Z
UID:10009834-1619515800-1619528400@test.pikk.ee
SUMMARY:Tootjate pindala- ja loomatoetuste infopäev (Võrumaa)
DESCRIPTION:Infopäev toimub 27. aprill 2021 Zoomis algusega kell 9.30 \nAjakava: \n9.20-9.30 sisenemine Zoomi \n9.30.00-11.00 ettekanne \n11.00 -11.15 paus \n11.15-12.45 ettekanded\, küsimused ja vastused \n  \nLektorid Ulvi Ajalik ja Toomas Tõrra. \n  \nRegistreeru üritusele SIIN \nRegistreerimisel kogutud andmeid kasutame vastavalt Maaelu Edendamise Sihtasutuse isikuandmete töötlemise põhimõtetele\, millega on võimalik tutvuda SIIN \nInfopäev toimub Teadmussiirde pikaajalise programmi põllumajanduse\, toidu ja maamajanduse tegevusvaldkonnas (raamleping number 222076) raames ja on osavõtjatele tasuta.
URL:https://test.pikk.ee/sundmus/tootjate-pindala-ja-loomatoetuste-infopaev-vorumaa/
LOCATION:Veebis\, Eesti
ORGANIZER;CN="Maaelu Edendamise Sihtasutus":MAILTO:angelika.nops@pikk.ee
END:VEVENT
BEGIN:VEVENT
DTSTART;TZID=Europe/Tallinn:20210427T100000
DTEND;TZID=Europe/Tallinn:20210427T133000
DTSTAMP:20260423T235500
CREATED:20210415T154528Z
LAST-MODIFIED:20221123T072724Z
UID:10009835-1619517600-1619530200@test.pikk.ee
SUMMARY:Tootjate pindala- ja loomatoetuste infopäev (Pärnumaa)
DESCRIPTION:Infopäev toimub reede\, 27. aprill 2021 Zoomis algusega kell 10.00. \n\nAjakava: \n9.50-10.00 sisenemine Zoomi keskkonda \n10.00-11.30 ettekanne \n11.30 -11.45 paus \n11.45-13.15 ettekanded\, küsimused ja vastused \n  \nLektorid Olavy Sülla ja Hillar Lilleste \n  \nRegistreerumine üritusele SIIN \nRegistreerimisel kogutud andmeid kasutame vastavalt Maaelu Edendamise Sihtasutuse isikuandmete töötlemise põhimõtetele\, millega on võimalik tutvuda SIIN \nInfopäev toimub Teadmussiirde pikaajalise programmi põllumajanduse\, toidu ja maamajanduse tegevusvaldkonnas (raamleping number 222076) raames  ja on osavõtjatele tasuta. \n  \n\n  \nRegistreerimine avatakse esimesel võimalusel. \n  \nInfopäev toimub Teadmussiirde pikaajalise programmi põllumajanduse\, toidu ja maamajanduse tegevusvaldkonnas (raamleping number 222076) raames  ja on osavõtjatele tasuta. \n 
URL:https://test.pikk.ee/sundmus/tootjate-pindala-ja-loomatoetuste-infopaev-parnumaa/
LOCATION:Veebis\, Eesti
ORGANIZER;CN="Maaelu Edendamise Sihtasutus":MAILTO:angelika.nops@pikk.ee
END:VEVENT
BEGIN:VEVENT
DTSTART;TZID=Europe/Tallinn:20210427T100000
DTEND;TZID=Europe/Tallinn:20210427T140000
DTSTAMP:20260423T235500
CREATED:20210331T070423Z
LAST-MODIFIED:20220201T125645Z
UID:10007875-1619517600-1619532000@test.pikk.ee
SUMMARY:Taimsete valkude innovatsiooniklastri infopäev
DESCRIPTION:MTÜ Taimsete Valkude Innovatsiooniklaster kutsub 27. aprillil kell 10.00-14.00 osalema veebikeskkonnas toimuval klastri tulemusi tutvustaval infopäeval. \nInfopäev on osavõtjatele tasuta. Osalemiseks on vajalik hiljemalt 22.04 registreeruda  siin.\nRegistreerunutele saadetakse enne infopäeva toimumist e-maili teel link osalemiseks. \nPäevakava: \n09.45-10.00      Kogunemine. \n10.00-10.15       Päeva avamine: sissejuhatus ja klastri tutvustus\, Annika Suu \n10.15-11.00        Põllukultuuride valik ja sobivus valkude eraldamiseks\, Hedi Kaldmäe (EMÜ) \n11.00-11.45        Taimsete valkude eraldamine\, kontsentreerimine ja omaduste iseloomustamine\, Peeter Laurson  (EMÜ) \n11.45-12.15         Paus \n12.15-13.00        Fermenteeritud taimsete piimaanaloogide tehnoloogiaarendus\, Natalja Part (TFTAK) \n13.00-13.45        Taimsete valkude ekstrudeerimistehnoloogia arendus\, Mari-Liis Tammik (TFTAK) \n13.45-14.00        Päeva lõpetamine \n  \nInfopäev toimub „Eesti maaelu arengukava 2014–2020” meetme 16 „Koostöö” alameetme „Innovatsiooniklaster” raames\, tegevust toetab  Euroopa Maaelu Arengu Põllumajandusfond (EAFRD). \nLisainfo: MTÜ Taimsete Valkude Innovatsiooniklastri juhatuse liige Annika Suu\,\ne-posti aadressil annika.suu@tftak.eu või telefonil +372 5386 4132.
URL:https://test.pikk.ee/sundmus/taimsete-valkude-innovatsiooni-infopaev/
LOCATION:Muu\, Eesti
CATEGORIES:Toiduainete tootmine
GEO:58.595272;25.0136071
END:VEVENT
END:VCALENDAR