BEGIN:VCALENDAR
VERSION:2.0
PRODID:-//METK nõuandeteenistus - ECPv6.15.13//NONSGML v1.0//EN
CALSCALE:GREGORIAN
METHOD:PUBLISH
X-ORIGINAL-URL:https://test.pikk.ee
X-WR-CALDESC:Events for METK nõuandeteenistus
REFRESH-INTERVAL;VALUE=DURATION:PT1H
X-Robots-Tag:noindex
X-PUBLISHED-TTL:PT1H
BEGIN:VTIMEZONE
TZID:Europe/Tallinn
BEGIN:DAYLIGHT
TZOFFSETFROM:+0200
TZOFFSETTO:+0300
TZNAME:EEST
DTSTART:20200329T010000
END:DAYLIGHT
BEGIN:STANDARD
TZOFFSETFROM:+0300
TZOFFSETTO:+0200
TZNAME:EET
DTSTART:20201025T010000
END:STANDARD
BEGIN:DAYLIGHT
TZOFFSETFROM:+0200
TZOFFSETTO:+0300
TZNAME:EEST
DTSTART:20210328T010000
END:DAYLIGHT
BEGIN:STANDARD
TZOFFSETFROM:+0300
TZOFFSETTO:+0200
TZNAME:EET
DTSTART:20211031T010000
END:STANDARD
BEGIN:DAYLIGHT
TZOFFSETFROM:+0200
TZOFFSETTO:+0300
TZNAME:EEST
DTSTART:20220327T010000
END:DAYLIGHT
BEGIN:STANDARD
TZOFFSETFROM:+0300
TZOFFSETTO:+0200
TZNAME:EET
DTSTART:20221030T010000
END:STANDARD
END:VTIMEZONE
BEGIN:VEVENT
DTSTART;VALUE=DATE:20210515
DTEND;VALUE=DATE:20210516
DTSTAMP:20260423T235518
CREATED:20210507T121751Z
LAST-MODIFIED:20240813T125833Z
UID:10007907-1621036800-1621123199@test.pikk.ee
SUMMARY:Õpiring „Mesiniku aastaring“ ehk 4 õppepäeva olulistel hetkedel
DESCRIPTION:Toimumisaeg:  2.august 2020\, 6.september 2020\, 15. mai 2021\, 12. juuni 2021 \n  \nValdkond: põllumajandus – mesindus \n  \nToimumiskoht:  Kubja mesindustalu\, Pisisaare küla\, Pajusi\, Jõgevamaa \n  \nSihtrühm: Põllumajandustoodete tootmise\, töötlemise või turustamisega\, põllumajandusmaa hooldamisega\, põllumajandustoodetest mittepõllumajandustoodete töötlemisega\, sealhulgas toidu valmistamise või töötlemisega\, või metsa majandamisega seotud või nimetatud tegevusega tegelev füüsilisest isikust ettevõtja ja tema töötaja\, eraõigusliku juriidilise isiku osanik\, aktsionär\, liige\, juhtorgani liige ja tema töötaja\, metsa majandamisega tegelev füüsiline isik ja toidu valmistamise või töötlemisega tegelev avalik-õiguslik juriidilise isiku juhtorgani liige või töötaja. \n  \nÕpiringi kulud on kaetud Teadmussiirde ja teavituse toetusega (MAK 2014-2020 meede 1)  ja õpiring on osalejatele tasuta\, v.a. kohvipaus ja kohalesõit iseseisvalt ning kohalesõidu kulusid ei kompenseerita. \nOsalemine ainult eelregistreerimisega. Õppegrupis 10-12 inimest. \nKorraldaja: MTÜ Alustame Algusest \nRohkem infot kodulehel: https://mesilaspere.com/projektid/pria-rahastus \nTelefon: 5029006  (Marianne Rosenfeld) \nE-kiri: mesilaspere@gmail.com    või alustamealgusest@gmail.com \n 
URL:https://test.pikk.ee/sundmus/opiring-mesiniku-aastaring-ehk-4-oppepaeva-olulistel-hetkedel-2/
CATEGORIES:Mesindus
ORGANIZER;CN="MT%C3%9C Alustame Algusest":MAILTO:alustamealgusest@gmail.com
END:VEVENT
END:VCALENDAR