BEGIN:VCALENDAR
VERSION:2.0
PRODID:-//METK nõuandeteenistus - ECPv6.15.13//NONSGML v1.0//EN
CALSCALE:GREGORIAN
METHOD:PUBLISH
X-WR-CALNAME:METK nõuandeteenistus
X-ORIGINAL-URL:https://test.pikk.ee
X-WR-CALDESC:Events for METK nõuandeteenistus
REFRESH-INTERVAL;VALUE=DURATION:PT1H
X-Robots-Tag:noindex
X-PUBLISHED-TTL:PT1H
BEGIN:VTIMEZONE
TZID:Europe/Tallinn
BEGIN:DAYLIGHT
TZOFFSETFROM:+0200
TZOFFSETTO:+0300
TZNAME:EEST
DTSTART:20200329T010000
END:DAYLIGHT
BEGIN:STANDARD
TZOFFSETFROM:+0300
TZOFFSETTO:+0200
TZNAME:EET
DTSTART:20201025T010000
END:STANDARD
BEGIN:DAYLIGHT
TZOFFSETFROM:+0200
TZOFFSETTO:+0300
TZNAME:EEST
DTSTART:20210328T010000
END:DAYLIGHT
BEGIN:STANDARD
TZOFFSETFROM:+0300
TZOFFSETTO:+0200
TZNAME:EET
DTSTART:20211031T010000
END:STANDARD
BEGIN:DAYLIGHT
TZOFFSETFROM:+0200
TZOFFSETTO:+0300
TZNAME:EEST
DTSTART:20220327T010000
END:DAYLIGHT
BEGIN:STANDARD
TZOFFSETFROM:+0300
TZOFFSETTO:+0200
TZNAME:EET
DTSTART:20221030T010000
END:STANDARD
END:VTIMEZONE
BEGIN:VEVENT
DTSTART;VALUE=DATE:20210517
DTEND;VALUE=DATE:20210522
DTSTAMP:20260425T062025
CREATED:20201216T101628Z
LAST-MODIFIED:20210126T111216Z
UID:10009753-1621209600-1621641599@test.pikk.ee
SUMMARY:Koolitus "Veiste kunstlik seemendamine" II osa
DESCRIPTION:Koolitus toimub 17.-21.mai 2021 algusega kõikidel koolituspäevadel kell 9.00\nKoolitus koosneb kahest osast ja esimese osa toimumise aeg on 10.-14.mai 2021. Koolituse teisele osale\npääsemise eelduseks on esimese osa edukas läbimine. \nKoolituse sihtrühm: \n\n\n\nPõllumajandustoodete tootmise\, töötlemise või turustamisega\, põllumajandusmaa hooldamisega\, põllumajandustoodetest mittepõllumajandustoodete töötlemisega\, sealhulgas toidu valmistamise või töötlemisega\, või metsa majandamisega seotud või nimetatud tegevusega tegelev füüsilisest isikust ettevõtja ja tema töötaja\, eraõigusliku juriidilise isiku osanik\, aktsionär\, liige\, juhtorgani liige ja tema töötaja\, metsa majandamisega tegelev füüsiline isik ja toidu valmistamise või töötlemisega tegelev avalik-õiguslik juriidilise isiku juhtorgani liige või töötaja.\nLisaks valdkonna teenindamisega tegelejad (nt loomasööda\, veterinaarravimite müüjad)\, oma ettevõtte tegevusvaldkonda laiendada soovijad\, põllumajanduslike esindus- ja erialaorganisatsioonide juhatuse liikmed ja töötajad.Sisu:\nSeemenduse ajalugu ja tähtsus\nEjakulaadi hindamine\nVälistegurite mõju spermale\nSperma lahjendamine sügavkülmutamiseks\nSperma sügavkülmutamine\, säilitamine ja hindamine\nLehma suguorganite anatoomia\, füsioloogia ja innatsükli regulatsioon\nSuguorganite ultrasonograafia\nSeemendusviisid ja meetodid\nInna tunnused ja inna avastamine\nInna stimuleerimine ja sünkroniseerimine\nOptimaalne seemendusaeg inna ajal ja pärast poegimist\nSeemendamisel tehtavaid vigu\nSuguselekteeritud sperma\, seemendamine suguselekteeritud spermaga\nAhtrus ja sigimatus\nEmaka kateteriseerimine\nSagedasemad madala tiinestumise põhjused\nTiinuse diagnoosimine\nKunstliku seemenduse organisatsioon\nSeemendustehniku töö aspektid\nSuguorganite rektaalne uurimine\nTiinuse rektaalne diagnoosimine\nLehmade söötmine ja sigimine\nEmakapõletikud jm poegimisjärgsed haigused.Osalemise eelduseks on esimese osa läbimine\, teine osa on praktiline ja toimub lautades. \n\n\n\nKoolitus toimub programmi “Teadmussiirde pikaajaline programm loomakasvatuse valdkonnas” raames ja on sihtrühmale tasuta. Koolitus on rahastatud Eesti maaelu arengukava 2014 – 2020 vahenditest.\n\n\n\nKohtade arv on piiratud. Osalemissoovi korral on kindlasti vajalik eelnevalt registreerida: \nhttps://ois.emu.ee/pls/ois/!tere.tulemast?leht=OK.AY.VP&id_ay_programm=11744&id_ay_toimumine=16188&systeemi_seaded=3\,1\,12\,1\, \nKoolitust korraldab \nEesti Maaülikooli avatud ülikool​\nKreutzwaldi 56/1 (III korrus\, ruumid 303-306)\,\n51006 Tartu\ntel 731 3174\, 731 3175\, 731 3275\, 5344 1844\ne-post: avayl@emu.ee
URL:https://test.pikk.ee/sundmus/koolitus-veiste-kunstlik-seemendamine-ii-osa/
LOCATION:Muu\, Eesti
CATEGORIES:Loomakasvatus
GEO:58.595272;25.0136071
END:VEVENT
BEGIN:VEVENT
DTSTART;TZID=Europe/Tallinn:20210519T080000
DTEND;TZID=Europe/Tallinn:20210521T170000
DTSTAMP:20260425T062025
CREATED:20210427T113753Z
LAST-MODIFIED:20210427T113753Z
UID:10009841-1621411200-1621616400@test.pikk.ee
SUMMARY:Taimekaitse aluskoolitus professionaalsele kasutajale (22 t)
DESCRIPTION:Taimekaitse aluskoolitus professionaalsele kasutajale (22 t) \nKoolitus toimub 19.-21. mai veebis\nKoolitajad: Kaja Marrandi ja Marek Kõbu\nKoolitusele registreerimine toimub SIIN \nTäiendav info:\nRuth Türk\nruth.turk@jkhk.ee\n+372 5329 2188
URL:https://test.pikk.ee/sundmus/taimekaitse-aluskoolitus-professionaalsele-kasutajale-22-t-7/
CATEGORIES:Taimekaitse
END:VEVENT
BEGIN:VEVENT
DTSTART;TZID=Europe/Tallinn:20210521T100000
DTEND;TZID=Europe/Tallinn:20210521T143000
DTSTAMP:20260425T062025
CREATED:20210329T184026Z
LAST-MODIFIED:20220707T062513Z
UID:10009822-1621591200-1621607400@test.pikk.ee
SUMMARY:Veebipõhine infopäev toidu säilimisaja määramisest
DESCRIPTION:Infopäev: Toidu säilimisaja ja säilitamistingimuste määramine \nToimumisaeg: 21. mai 2021 \nInfopäeva formaat: veebiplatvormis Teams \nSihtgrupp: toidu käitlejad\, kes tegelevad toidu müügiks pakkumisega \nInfopäeva sisu: Käsitletakse toidu säilimisaega mõjutavaid tegureid ja säilimisaja määramise metoodikaid. Antakse ülevaade säilitamisnõuetega seonduvatest muudatustest õigusruumis ja tutvustatakse asjakohaseid juhendeid. \nPÄEVAKAVA: \nModeraator: Sirje Potisepp Toiduliidu juhataja \n9:50 – 10:00     Registreerimine Teamsis \n10:00 – 10:45   Toidu säilitamisnõuetega seonduvad muudatused toiduseaduses \nElsa Peipman\, Maaeluministeeriumi toidu keemilise ja bioloogilise ohutuse büroo nõunik \n10:45 – 12:00   Toidu säilimisaega mõjutavad tegurid\, süsteemne lähenemine toidu säilimisaegade määramisele\, Listeria monocytogenes´e olulisus valmistoitude toiduohutuse indikaatorina ja valmistoitude säilimisaja määramisel \nMati Roasto\, Eesti Maaülikooli professor\, veterinaarmeditsiini ja loomakasvatuse instituudi toiduhügieeni ja rahvatervise õppetooli juhataja \n12:00 – 12:30   PAUS \n12:30 – 13:15   Prognoosmudelite ja nakkustestide kasutamine toidu säilimisaja määramisel \nToomas Kramarenko\, Veterinaar- ja Toidulaboratooriumi direktori asetäitja toiduohutuse alal \n13:15 – 13:35   Säilimisaegade ja säilitamistingimuste märgistamise nõuded \nHellika Kallaste\, Maaeluministeeriumi toidu üldnõuete büroo peaspetsialist \n13:35 – 14:00   Säilivuskatsete teostamine \nKärt Leppik\, Toidu- ja Fermentatsioonitehnoloogia Arenduskeskuse säilivusaja ja pakkematerjalide spetsialist \n14:00 – 14:15   Päeva kokkuvõte \n  \nInfopäevast võivad osa võtta kõik valdkonnas tegutsevad või sellest huvitatud isikud. Osalemine on tasuta\, kui ettevõtte vähese tähtsusega abi määr ei ole ületatud. \nEttevõtte vähese tähtsusega abi (VTA) vaba jääki saab kontrollida veebilehelt https://www.rahandusministeerium.ee/et/riigiabi. Tegemist on vähese tähtsusega abiga\, abisumma on 72 eurot ühe osaleva inimese kohta. \nInfopäev toimub MAK 2014-2020 meetme „Teadmussiirde pikaajaline programm toiduohutuse valdkonnas“ raames\, läbiviimist toetab Euroopa Liit. \nRegistreerumine toiduteave.ee lehel https://toiduteave.ee/infopaev-21-05-2021-veebis-toidu-sailimisaja-maaramine/
URL:https://test.pikk.ee/sundmus/veebipohine-infopaev-toidu-sailimisaja-maaramisest/
CATEGORIES:Toiduainete tootmine
END:VEVENT
END:VCALENDAR