BEGIN:VCALENDAR
VERSION:2.0
PRODID:-//METK nõuandeteenistus - ECPv6.15.13//NONSGML v1.0//EN
CALSCALE:GREGORIAN
METHOD:PUBLISH
X-ORIGINAL-URL:https://test.pikk.ee
X-WR-CALDESC:Events for METK nõuandeteenistus
REFRESH-INTERVAL;VALUE=DURATION:PT1H
X-Robots-Tag:noindex
X-PUBLISHED-TTL:PT1H
BEGIN:VTIMEZONE
TZID:Europe/Tallinn
BEGIN:DAYLIGHT
TZOFFSETFROM:+0200
TZOFFSETTO:+0300
TZNAME:EEST
DTSTART:20200329T010000
END:DAYLIGHT
BEGIN:STANDARD
TZOFFSETFROM:+0300
TZOFFSETTO:+0200
TZNAME:EET
DTSTART:20201025T010000
END:STANDARD
BEGIN:DAYLIGHT
TZOFFSETFROM:+0200
TZOFFSETTO:+0300
TZNAME:EEST
DTSTART:20210328T010000
END:DAYLIGHT
BEGIN:STANDARD
TZOFFSETFROM:+0300
TZOFFSETTO:+0200
TZNAME:EET
DTSTART:20211031T010000
END:STANDARD
BEGIN:DAYLIGHT
TZOFFSETFROM:+0200
TZOFFSETTO:+0300
TZNAME:EEST
DTSTART:20220327T010000
END:DAYLIGHT
BEGIN:STANDARD
TZOFFSETFROM:+0300
TZOFFSETTO:+0200
TZNAME:EET
DTSTART:20221030T010000
END:STANDARD
END:VTIMEZONE
BEGIN:VEVENT
DTSTART;VALUE=DATE:20210526
DTEND;VALUE=DATE:20210527
DTSTAMP:20260423T235509
CREATED:20210519T090106Z
LAST-MODIFIED:20220208T125410Z
UID:10009856-1621987200-1622073599@test.pikk.ee
SUMMARY:Põllumajandusloomade aretus - lihaveisekasvatus
DESCRIPTION:Eesti Põllumajandus-Kaubanduskoda korraldab Maaeluministeeriumi tellimusel ja koostöös Eesti Lihaveisekasvatajate Seltsiga infopäeva \n“Põllumajandusloomade aretus – lihaveisekasvatus” \nToimumise aeg: 26. mai 2021. a. kella 8.00 – 12.00 \nToimumise koht: Videoülekanne \n  \nPÄEVAKAVA* \n  \n  8.00 –   8.15   Avasõnad infopäeva moderaatorilt – Airi Külvet\, MTÜ Eesti Lihaveisekasvatajate Selts \n  8.15 –   8.25   Aretuseesmärgid ja jõudluskontroll – Boyd Gudex\, Austraalia Põllumajanduse Äriuuringute Instituudi (ABRI) tehniline konsultant \n  8.25 –   8.35   Genotüpiseerimise kasutamine geneetilises hindamises – Brad Crook\, ABRI geneetika uurimis- ja arendusmeeskonna juht \n8.35 –   8.45   küsimused/vastused \n8.45 –   9.15   Loomakasvatuse arendamine (lindistatud videolõik) – Dorian Garrick\, Massey ülikooli juhtivteadur \n  9.15 –   9.30   Sirutuspaus \n  9.30 –  10.15  Jõudlusandmete kogumine ja teenuse pakkumine Uus-Meremaa Anguse organisatsiooni ja PBB NZ Uus-Meremaa Jõudluskontroll  näitel (lindistatud videolõik) –  Harry Faas\, PBBnz Ltd peadirektor ja Jane Allen\, Angus NZ \n 10.15 – 10.35   Ülemaailmse korporatsiooni Neogen tutvustus – Pieter van As\, PhD\, Neogen Australia APAC-i genoomika äriarenduse juht \n10.35 – 10.50   Sirutuspaus \n10.50 – 11.15   Neogeni genotüpiseerimise ja sekveneerimise võimalused – Helene Hofeneder-Barclay\, Neogeni genoomika arendusjuht \n11.15 – 11.40   Neogeni poolt pakutavad genotüpiseerimise võimalused lihaveiste tootmisfarmidele – Sharon  Watkinson\,  Neogen Genoomika äriarenduse juht                              \n11.40 – 12.00   Küsimused ja vastused \n  \nNB! Registreerige osalemissoov kuni 25. maini  SIIN \nInfopäev on sünkroontõlkega ja osalejatele TASUTA \n* Korraldaja jätab endale õiguse teha vajadusel päevakavas muudatusi \n  \nInfopäev toimub MAK 2014-2020 meetme „Teadmussiirde pikaajaline programm loomakasvatuse tegevusvaldkonna II“ raames; Rahastamisallikas: riigieelarve\, Euroopa Maaelu Põllumajandusfond (EAFRD). \n  \nLisainformatsioon: EPKK projektijuht Maire Vimb – 50 86 664 või maire@epkk.ee
URL:https://test.pikk.ee/sundmus/pollumajandusloomade-aretus-lihaveisekasvatus/
CATEGORIES:Loomakasvatus
END:VEVENT
BEGIN:VEVENT
DTSTART;TZID=Europe/Tallinn:20210526T080000
DTEND;TZID=Europe/Tallinn:20210526T170000
DTSTAMP:20260423T235509
CREATED:20210518T093749Z
LAST-MODIFIED:20220208T125409Z
UID:10009855-1622016000-1622048400@test.pikk.ee
SUMMARY:Infopäev "Põllumajandusettevõtte raamatupidamine ja aastaaruande koostamine“
DESCRIPTION:Tartumaa põllumeeste liit korraldab 26. mail 10.00-14.00 Jalaka 48 tasuta infopäeva „Põllumajandusettevõtte raamatupidamine ja aastaaruande koostamine“. Lektor on Aino Vooro. \nOsalejatele tasuta Aino Vooro trükis „Bioloogiliste varade kajastamine raamatupidamises“ teine\, täiendatud trükk. \nPäevakava \nMillest lähtuda majandusaasta aruande koostamisel? Finantsnäitajate mõju põllumajandusettevõtte aruannetele: kuidas arvestada bioloogilist vara\, põllumajandus-toodangut; kuidas arvestada vara\, kuidas kulusid; kuidas kujunevad rahandussuhtarvud\, mis iseloomustavad ettevõtte käekäiku. \nMis mõjutab ettevõtte üldist finantsseisundit ja likviidsust\, mis on olulised näitajad laenu või liisingu taotlemisel\, investeeringute tegemisel? \nKuidas hinnangute andmine mõjutab ettevõtte majandustulemusi. \nMateriaalse põhivara arvestus\, sihtfinantseerimine\, kuidas ja kuna tuleb kajastada erinevaid toetusi raamatupidamis-arvestuses. \nMaksumuudatused\, dividendide arvestamine alates 2019. a. \nRegistreerimine: https://forms.gle/4H4aZxhBcmLd4TFw7 \nKoolitus toimub suures saalis\, toolid on hajutatud\, saadaval maskid ja desinfitseerimisvahendid.
URL:https://test.pikk.ee/sundmus/infopaev-pollumajandusettevotte-raamatupidamine-ja-aastaaruande-koostamine/
LOCATION:Eesti
CATEGORIES:Finantsmajandus
END:VEVENT
BEGIN:VEVENT
DTSTART;TZID=Europe/Tallinn:20210526T100000
DTEND;TZID=Europe/Tallinn:20210526T120000
DTSTAMP:20260423T235509
CREATED:20210506T120450Z
LAST-MODIFIED:20240813T125823Z
UID:10007905-1622023200-1622030400@test.pikk.ee
SUMMARY:Eestis levinud nälkjad ja nende tõrjumise meetmed
DESCRIPTION:Kolmapäeval\, 26. mail 2021 kell 10:00-12:00\, toimub tasuta veebiseminar teemal: Eestis levinud nälkjad ja invasiivsete nälkjaliikide tõrjumismeetmetest.\n\nEesti Maaülikooli Põllumajandus- ja keskkonnainstituudi teadur phD Eha Kruus annab ülevaate Eestis levivatest nälkjaliikidest ja erinevatest võimalikest tõrjumismeetmetest.\nTallinna Botaanikaaia taimekaitse spetsialist ja raamatu “Kahjurite tõrje aias ja majas” autor Pille Hermann jagab praktilisi kogemusi ja näiteid invasiivsete nälkjate tõrjumisest Tallinna Botaanikaaias.\nKeskkonnaameti Looduskaitse korraldamise osakonna Loodushoiutööde büroo juhataja Eike Tammekänd tutvustab nälkjate ohjamiskava ning Keskkonnaameti rolli selles ning toob häid näiteid praktikast kohalike omavalitsuse tasandilt ja naaberriikidest. \n\n\nRegistreerunutele saadetakse seminari link sama päeva hommikul. \n\nVestlust juhib Agnes Kivistik\, Põllumajandusuuringute Keskus\nÜlekande teostus: Erik Lööper\, Põllumajandusuuringute Keskus\n\nSeminar on ka hiljem järele vaadatav! \nRegistreerimine maainfo.ee veebis \nÜrituse läbiviimine on toetatud Eesti maaelu arengukava tehnilise abi vahenditest maaeluvõrgustiku tegevusele.
URL:https://test.pikk.ee/sundmus/nalkjad_eestis/
LOCATION:Muu\, Eesti
CATEGORIES:Aiandus,Keskkond,Taimekaitse
GEO:58.595272;25.0136071
END:VEVENT
BEGIN:VEVENT
DTSTART;TZID=Europe/Tallinn:20210526T110000
DTEND;TZID=Europe/Tallinn:20210526T160000
DTSTAMP:20260423T235509
CREATED:20210512T114419Z
LAST-MODIFIED:20210512T114521Z
UID:10007918-1622026800-1622044800@test.pikk.ee
SUMMARY:Mahepõllumajanduslik põllukultuuride kasvatus
DESCRIPTION:Infopäev: mahepõllumajanduslik põllukultuuride kasvatus \nAeg: 26. mai kell 11-16 \nKoht: Veebikeskkond\, link saadetakse osalejatele 25. mail \nKorraldaja: Mahepõllumajanduse Koostöökogu \n  \nProgramm \n11.00 – 15:15\, paus 13.00-13:30 \nTerviktehnoloogia rakendamine Austria mahetootja näitel – mahetootja Gerhard Weißhäupl (Biohof Weißhäupl\, Vortex Energie) \n\norgaanika mulda viimise põhimõtted\,\notsekülv\,\nvahekultuurid\,\nbokaschi\,\nsügavkobestus\,\nsegukultuurid\n\n15:15 – 16:00 Terviktehnoloogia rakendamine Eesti Maheklastri katsetegevustes – Margus Ess\, Maheklaster MTÜ \n  \nInfopäev on tasuta. Osalemiseks on kindlasti vajalik eelregistreerimine hiljemalt 24.05 siin: https://forms.gle/DeffYe7cBQdrzDXu6 \n  \nInfopäev läheb sisseloginud osalejatel arvesse mahetoetuse kohustusliku koolitusena (6 ak tundi). \nLisainfo: maheteave@gmail.com \n  \nInfopäev toimub MAK 2014-2020 meetme „Teadmussiirde programm põllumajanduse\, toidu ja maamajanduse tegevusvaldkonnas“ mahemajanduse valdkonna raames\, toetab Euroopa Liit.
URL:https://test.pikk.ee/sundmus/mahepollumajanduslik-pollukultuuride-kasvatus-11/
LOCATION:Veebis\, Eesti
CATEGORIES:Taimekasvatus
END:VEVENT
BEGIN:VEVENT
DTSTART;TZID=Europe/Tallinn:20210526T160000
DTEND;TZID=Europe/Tallinn:20210526T173000
DTSTAMP:20260423T235509
CREATED:20210412T081644Z
LAST-MODIFIED:20210412T081932Z
UID:10009825-1622044800-1622050200@test.pikk.ee
SUMMARY:Puutuhk kui väärtuslik väetis koduaeda ja metsa (veebipõhine tasuline koolitus)
DESCRIPTION:Täpsem info ja registreerumine SIIN \nKoolitus sobib enesetäiendamiseks kõigile (sh hobiaednikele)\, kes soovivad koguda teadmisi puutuha kasutamise erinevatest võimalustest väetisena koduaias või metsas. \nKoolitus annab ülevaate puutuha kui toitainerikka ja väärtusliku lubiväetise omadustest ning mõjust mulla keemilistele omadustele ja taimede kasvule. \nKoolituse põhiteemad: \n\nMida endast kujutab puutuhk – on see jääde või väärtuslik looduslähedane lubiväetisaine?\nPuutuha keemiline koostis (pH\, makro- ja mikroelemendid sh raskmetallid)\, seda mõjutavad tegurid ja puutuha peamised tekkekohad Eestis.\nPuutuha mõju mulla keemilistele omadustele (pH tõus\, elementide leostumine jms).\nKuidas\, millal ja milliste liikide puhul kasutada puutuhka koduaias?\nPuutuhk ja mets\, mõju bioloogilisele mitmekesisusele – Eesti ja Skandinaavia kogemus.\nPuutuha kasutamise ohutud võtted – mida on oluline teada nii kasutaja kui taime seisukohast?\n\nKoolitus toimub 26. mail 2021 kell 16.00-17.30 maaülikooli videosilla vahendusel BigBlueButton (BBB) keskkonnas.\nBBB keskkonnas asuva seminariruumi aadress ning juhised seminariruumi sisenemiseks saadetakse koolitusele registreerunutele meilidele. \n  \nSellel koolitusel osalemine on tasuline (20 eurot) ning vajalik on eelregistreerimine. \n  \nKoolituse korraldaja:\nEesti Maaülikooli avatud ülikool\nFr. R. Kreutzwaldi 56/1\n51006 Tartu\,\ntel 731 3275\ne-post: avayl@emu.ee\nhttp://avatudylikool.emu.ee/
URL:https://test.pikk.ee/sundmus/puutuhk-kui-vaartuslik-vaetis-koduaeda-ja-metsa-veebipohine-tasuline-koolitus/
LOCATION:Veebis\, Eesti
CATEGORIES:Aiandus,Bioenergia ja biomajandus,Keskkond,Metsandus,Taimekasvatus
END:VEVENT
END:VCALENDAR