BEGIN:VCALENDAR
VERSION:2.0
PRODID:-//METK nõuandeteenistus - ECPv6.15.13//NONSGML v1.0//EN
CALSCALE:GREGORIAN
METHOD:PUBLISH
X-ORIGINAL-URL:https://test.pikk.ee
X-WR-CALDESC:Events for METK nõuandeteenistus
REFRESH-INTERVAL;VALUE=DURATION:PT1H
X-Robots-Tag:noindex
X-PUBLISHED-TTL:PT1H
BEGIN:VTIMEZONE
TZID:Europe/Tallinn
BEGIN:DAYLIGHT
TZOFFSETFROM:+0200
TZOFFSETTO:+0300
TZNAME:EEST
DTSTART:20200329T010000
END:DAYLIGHT
BEGIN:STANDARD
TZOFFSETFROM:+0300
TZOFFSETTO:+0200
TZNAME:EET
DTSTART:20201025T010000
END:STANDARD
BEGIN:DAYLIGHT
TZOFFSETFROM:+0200
TZOFFSETTO:+0300
TZNAME:EEST
DTSTART:20210328T010000
END:DAYLIGHT
BEGIN:STANDARD
TZOFFSETFROM:+0300
TZOFFSETTO:+0200
TZNAME:EET
DTSTART:20211031T010000
END:STANDARD
BEGIN:DAYLIGHT
TZOFFSETFROM:+0200
TZOFFSETTO:+0300
TZNAME:EEST
DTSTART:20220327T010000
END:DAYLIGHT
BEGIN:STANDARD
TZOFFSETFROM:+0300
TZOFFSETTO:+0200
TZNAME:EET
DTSTART:20221030T010000
END:STANDARD
END:VTIMEZONE
BEGIN:VEVENT
DTSTART;TZID=Europe/Tallinn:20210628T100000
DTEND;TZID=Europe/Tallinn:20210629T153000
DTSTAMP:20260426T042317
CREATED:20210421T070054Z
LAST-MODIFIED:20210421T070054Z
UID:10007901-1624874400-1624980600@test.pikk.ee
SUMMARY:Tasuline koolitus "Nõustamismetoodika konsulendile"
DESCRIPTION:Toimumisaeg:\n27.-28. mai\n7.-8. juuni\n15.-16. juuni\n28.-29. juuni \nKoolitus on 8-päevane tervik.\nKoolituse eduka läbimise tulemusena omab õppija ettevalmistust konsulendi 5. taseme kutseeksami sooritamiseks. \nToimumiskoht:\nEelistatult toimub koolitus auditooriumis kõiki kehtivaid viiruspiiranguid arvesse võttes.\nJuhul kui COVID-19 olukord auditooriumis õpet ei võimalda\, tuleb olla valmis veebiõppeks. \nKui koolitus toimub auditooriumis on toimumiskoht Tartu Eesti Maaülikool Kreutzwaldi 56/1 auditoorium A 303 või täpsustub. \nKui koolitus toimub veebis\, siis kasutame veebikeskkonda BIG BLUE BUTTON\nKõige üldisemad soovitused veebiseminaril osalemiseks:\n– BBB kasutamiseks on vaja kiiret internetiühendust (võimalusel kaabliga\, mitte wifit).\n– Audio kuulamiseks on vaja kõrvaklappe või kõlareid\, rääkimiseks mikrofoni ning enda videopildi edastamiseks veebikaamerat (kui kahte viimast ei ole\, saate siiski kursusel osaleda).\n– BBB kasutamiseks sobib kõige paremini Google Chrome. Sellele järgneb Firefox ning Opera. Teiste veebilehitsejega võib esineda probleeme helikvaliteedis ning ekraanijagamisel. Internet Exploreriga BBB ei tööta. \nAjakava: algus kõikidel päevadel kell 10.15 ja lõpp orienteeruvalt 15.30 \nOsavõtutasu: 922 eurot \nLähem info ja registreerimine SIIT. \nKoolitust korraldab:\nEesti Maaülikooli avatud ülikool​\nKreutzwaldi 56/1 (III korrus\, ruumid 303-306)\,\n51006 Tartu\ntel 731 3174\, 731 3175\, 731 3275\, 5344 1844\ne-post: avayl@emu.ee
URL:https://test.pikk.ee/sundmus/tasuline-koolitus-noustamismetoodika-konsulendile-2/2021-06-28/
LOCATION:Eesti
END:VEVENT
END:VCALENDAR