BEGIN:VCALENDAR
VERSION:2.0
PRODID:-//METK nõuandeteenistus - ECPv6.15.13//NONSGML v1.0//EN
CALSCALE:GREGORIAN
METHOD:PUBLISH
X-WR-CALNAME:METK nõuandeteenistus
X-ORIGINAL-URL:https://test.pikk.ee
X-WR-CALDESC:Events for METK nõuandeteenistus
REFRESH-INTERVAL;VALUE=DURATION:PT1H
X-Robots-Tag:noindex
X-PUBLISHED-TTL:PT1H
BEGIN:VTIMEZONE
TZID:Europe/Tallinn
BEGIN:DAYLIGHT
TZOFFSETFROM:+0200
TZOFFSETTO:+0300
TZNAME:EEST
DTSTART:20200329T010000
END:DAYLIGHT
BEGIN:STANDARD
TZOFFSETFROM:+0300
TZOFFSETTO:+0200
TZNAME:EET
DTSTART:20201025T010000
END:STANDARD
BEGIN:DAYLIGHT
TZOFFSETFROM:+0200
TZOFFSETTO:+0300
TZNAME:EEST
DTSTART:20210328T010000
END:DAYLIGHT
BEGIN:STANDARD
TZOFFSETFROM:+0300
TZOFFSETTO:+0200
TZNAME:EET
DTSTART:20211031T010000
END:STANDARD
BEGIN:DAYLIGHT
TZOFFSETFROM:+0200
TZOFFSETTO:+0300
TZNAME:EEST
DTSTART:20220327T010000
END:DAYLIGHT
BEGIN:STANDARD
TZOFFSETFROM:+0300
TZOFFSETTO:+0200
TZNAME:EET
DTSTART:20221030T010000
END:STANDARD
END:VTIMEZONE
BEGIN:VEVENT
DTSTART;TZID=Europe/Tallinn:20210726T090000
DTEND;TZID=Europe/Tallinn:20210727T160000
DTSTAMP:20260422T151109
CREATED:20210702T125639Z
LAST-MODIFIED:20210722T101436Z
UID:10009873-1627290000-1627401600@test.pikk.ee
SUMMARY:Programme of the the training course on Safety Culture and Risk Management in Agriculture  (Riskide hindamine ja juhtimiskultuur põllumajanduses)
DESCRIPTION:Programme of the the training course on Safety Culture and Risk Management in Agriculture \n(Riskide hindamine ja juhtimiskultuur põllumajanduses) \n  \nSihtrühmale tasuta veebipõhine koolitus toimub 26.-27. juulil 2021. \nKoolitus toimub inglise keeles. \nKoolituse sihtrühmaks on diplomeeritud põllumehed ja noored põllumajandusettevõtjad ning valdkonnaga seotud doktorandid ja õppejõud. \nKoolitus toimub maaülikooli videosilla vahendusel BigBlueButton (BBB) keskkonnas. \nKoolituse eesmärk on tutvustada sihtrühmale põllumajandussektori ohutegureid (taime- ja loomakasvatus\, metsandus\, kalandus)\, nendega seotud terviseriske; anda teadmisi riskide hindamisest ja juhtimisest\, et vältida tööõnnetusi ja kutsehaigestumisi. \nKoolituse lektoriteks on lisaks maaülikooli prof Eda Merisalule tõelised oma ala tipud USA-st\, Soomest\, Belgiast ja Sloveeniast. \nAjakava ja lisainfo leiate meie kodulehelt: https://avatudylikool.emu.ee/koolitused/sihtruhmale/sacurima/ \nOsalemissoovi korral on kindlasti vajalik eelnevalt registreeruda: https://ois.emu.ee/pls/ois/!tere.tulemast?leht=OK.AY.VP&id_ay_programm=12342&id_ay_toimumine=17244&systeemi_seaded=3\,1\,12\,1\,  \nKoolitus toimub SACURIMA programmi raames. \n  \nEesti Maaülikooli tehnikainstituudi biomajandustehnoloogiate õppetool ja \nEesti Maaülikooli avatud ülikool​\nKreutzwaldi 56/1\n51006 Tartu\ntel 731 3174\, 731 3175\, 731 3275\, 5344 1844\ne-post: avayl@emu.ee \nhttps://avatudylikool.emu.ee/ \n  \n 
URL:https://test.pikk.ee/sundmus/programme-of-the-the-training-course-on-safety-culture-and-risk-management-in-agriculture-riskide-hindamine-ja-juhtimiskultuur-pollumajanduses/
LOCATION:Muu\, Eesti
CATEGORIES:Muu
GEO:58.595272;25.0136071
END:VEVENT
BEGIN:VEVENT
DTSTART;VALUE=DATE:20210727
DTEND;VALUE=DATE:20210728
DTSTAMP:20260422T151109
CREATED:20210603T120234Z
LAST-MODIFIED:20210713T050136Z
UID:10009867-1627344000-1627430399@test.pikk.ee
SUMMARY:PMK Kuusiku esitluspäev
DESCRIPTION:PMK Kuusiku katsekeskuse Põllupäev \n Suviteravilja\, talirapsi\, kaunviljade sordid  ja viljelusskeemid. Vahekultuuridide segud. \nKuupäev: 27. juuli 2021\nKoht: PMK Kuusiku katsekeskus\, Kuusiku\, Rapla maakond \n  \nPäevakava \n09.30 – 10.00       Registreerimine\, tervituskohv \n10.00 – 10.15        Avasõnad \n10.15 – 10.30         Herne ja oa sortide tutvustus.\nTanel Käbin (Baltic Agro AS)\, Teet  Liiv (Linas Agro)\, Kaarel Kallion (Scandagra). \n10.30 – 11.15         Suviteraviljade sordid ja viljelusskeemid (ETKI\, Baltic Agro\, Kevili\, Linas Agro\, Scandagra)\nKertrud Jaeski\, Tanel Käbin Teet Liiv\, Kaisa Pajusalu (ETKI)\, Kaarel Kallion (Scandagra). \n11.15 – 12.00          Talirapsi sordid ja kasvatustehnoloogiad- Tanel Käbin\, Kertrud Jaeski (Baltic Agro AS). \n12.00 – 12.30         Agrotehnoloogia aktuaalseid küsimusi-  Peeter Viil (ETKI). \n12.35 – 13.00         Vahekultuurid\, erinevate segude võrdlus.   Jaanika Liir (Linas Agro) \n13.00 – 14.00        Mullaharimismasinate demo. Väderstad OÜ \n14.00-14.30            Arutelu\, kokkuvõtted\, lõuna \n  \nOsalemine infopäeval on tasuta \nRegistreerimine allpool \nOsalemisest anda teada hiljemalt 26. juuliks \n  \nLisainformatsioon: rut.kaeval@pmk.agri.ee\, +3725212016 \nEsitluspäev toimub “Teadmussiirde programm põllumajanduse\, toidu ja maamajanduse tegevusvaldkonnas” raames\, toetab Euroopa Maaelu Arengu Põllumajandusfond.
URL:https://test.pikk.ee/sundmus/pmk-kuusiku-esitluspaev/
LOCATION:Raplamaa\, Raplamaa
CATEGORIES:Taimekaitse,Taimekasvatus
GEO:58.8492625;24.7346569
END:VEVENT
BEGIN:VEVENT
DTSTART;TZID=Europe/Tallinn:20210727T100000
DTEND;TZID=Europe/Tallinn:20210727T150000
DTSTAMP:20260422T151109
CREATED:20210712T135104Z
LAST-MODIFIED:20210809T062003Z
UID:10009875-1627380000-1627398000@test.pikk.ee
SUMMARY:Katmiktehnoloogiate infopäev: kasvuhoonete tüübid köögiviljade kasvatamisel
DESCRIPTION:Eesti Maaülikool korraldab katmikala tehnoloogiaid tutvustava infopäeva\, kus tutvustatakse erinevaid Eesti tingimustesse sobivaid kasvuhoonetüüpe ja tehnoloogilisi lahendusi kasvuhoonetes köögiviljade kasvatamisel. \nAeg: 27. juuli 2021\, kell 10.00 – 15.00\nAsukoht: EMÜ mahekeskus (Eerika tee 2\, Õssu küla\, Kambja vald\, Tartumaa; https://goo.gl/maps/ue7A81uNBEFZqKuJ6 ) ja Kuusiku talus (Külitse alevik\, Kambja vald\, Tartumaa) \nPäevakava:\n9.45 Kogunemine\, kohv\n10.00 – 10.45. Põhjamaade tingimustesse sobivad kasvuhoonete tüübid: tunnelkasvuhooned ja plokkkasvuhooned. Roland Rool\, Baltic Agro.\n10.45 – 11.40. Erinevad küttelahendused\, kliimakontrolli ja energiasäästu võimalused kasvuhoonetes. Roland Rool\, Baltic Agro.\n11.40 – 12.00 Innovaatilised lahendused kahjustajate seireks ja keskkonnasõbralikuks tõrjeks katmikalal: ülevaade projekti SMARTPROTECT tegevustest. Priit Põldma\, EMÜ.\n12.00 – 12.30 Energiapaus ja arutelu\n12.30 – 15.00 Kasvuhoonete kütte- ja kastmis/väetustehnika valikud köögiviljakasvatajale. Tutvumine Kuusiku talu kasvuhoonete tehniliste lahendustega. Arutelu\, kohapeal tekkinud küsimused. (Kaidar Kivi\, Roland Rool ja Priit Põldma) \nInfopäev on tasuta\, osalemiseks on vajalik eelregistreerumine hiljemalt 23. juuliks siin: http://bit.ly/katmikala1_2021 \nEsitluse jaotusmaterjalid: Kasvuhoonete tüübid ja energialahendused – R. Rool \nÜlevaade projekti SMARTPROTECT tegevustest – P. Põldma \n  \nLisainfo e-postilt: priit.poldma@emu.ee \nInfopäev toimub MAK 2014-2020 meetme „Teadmussiirde pikaajaline programm põllumajanduse\, toidu ja maamajanduse tegevusvaldkonnas“ aianduse valdkonna raames; Rahastamisallikas: Euroopa Maaelu Põllumajandusfond (EAFRD).
URL:https://test.pikk.ee/sundmus/katmiktehnoloogiate-infopaev-kasvuhoonete-tuubid-koogiviljade-kasvatamisel/
LOCATION:Tartumaa\, Eesti
CATEGORIES:Aiandus
GEO:58.4057128;26.801576
END:VEVENT
END:VCALENDAR