BEGIN:VCALENDAR
VERSION:2.0
PRODID:-//METK nõuandeteenistus - ECPv6.15.13//NONSGML v1.0//EN
CALSCALE:GREGORIAN
METHOD:PUBLISH
X-WR-CALNAME:METK nõuandeteenistus
X-ORIGINAL-URL:https://test.pikk.ee
X-WR-CALDESC:Events for METK nõuandeteenistus
REFRESH-INTERVAL;VALUE=DURATION:PT1H
X-Robots-Tag:noindex
X-PUBLISHED-TTL:PT1H
BEGIN:VTIMEZONE
TZID:Europe/Tallinn
BEGIN:DAYLIGHT
TZOFFSETFROM:+0200
TZOFFSETTO:+0300
TZNAME:EEST
DTSTART:20200329T010000
END:DAYLIGHT
BEGIN:STANDARD
TZOFFSETFROM:+0300
TZOFFSETTO:+0200
TZNAME:EET
DTSTART:20201025T010000
END:STANDARD
BEGIN:DAYLIGHT
TZOFFSETFROM:+0200
TZOFFSETTO:+0300
TZNAME:EEST
DTSTART:20210328T010000
END:DAYLIGHT
BEGIN:STANDARD
TZOFFSETFROM:+0300
TZOFFSETTO:+0200
TZNAME:EET
DTSTART:20211031T010000
END:STANDARD
BEGIN:DAYLIGHT
TZOFFSETFROM:+0200
TZOFFSETTO:+0300
TZNAME:EEST
DTSTART:20220327T010000
END:DAYLIGHT
BEGIN:STANDARD
TZOFFSETFROM:+0300
TZOFFSETTO:+0200
TZNAME:EET
DTSTART:20221030T010000
END:STANDARD
END:VTIMEZONE
BEGIN:VEVENT
DTSTART;TZID=Europe/Tallinn:20210812T093000
DTEND;TZID=Europe/Tallinn:20210812T123000
DTSTAMP:20260422T133632
CREATED:20210728T103608Z
LAST-MODIFIED:20210729T103306Z
UID:10007944-1628760600-1628771400@test.pikk.ee
SUMMARY:Esitluspäev: Õuna- ja ploomipuude kasvatustehnoloogia äriaias
DESCRIPTION:Aeg: 12. august kell 09.45 – 12.30 \nKoht: Kogunemine Morna Talu OÜ\, aadress:  Veski (maaüksus) Morna küla\, Mulgi vald\, Viljandimaa. \nMorna Talu OÜ istandike  ja tootmishoonete külastus. \nEsitluspäeva korraldab Eesti Maaülikool \nProgramm \n09.45 – 10.15  registreerimine\, kohv ja pirukad. \n10.15 –  10.40 Morna Talu OÜ tutvustus\, saagi väärindamine.  Andres Mets \n10.40 –   11. 30 Ringkäik Morna Talu OÜ õuna- ja ploomiaedades. Andres Mets ja Danel Mets \n11.30 –    12.00  Õunapuude suvine lõikus ja viljade harvendus. Toivo Univer \n12.00-    12.30 Tehnika ja tootmishoonete tutvustus. Andres Mets \nTäiendav info tel: 53474802 (Kersti Kahu) \nOsalemine on tasuta ja vajalik eelregistreerimine hiljemalt 10. augustil   SIIN \nEsitlus toimub ’’Teadmussiirde programm põllumajanduse\, toidu ja maamajanduse tegevusvaldkonnas’’ aianduse valdkonna raames\, toetab Euroopa Liit.
URL:https://test.pikk.ee/sundmus/esitluspaev-ouna-ja-ploomipuude-kasvatustehnoloogia-ariaias/
LOCATION:Viljandimaa\, Viljandimaa\, Eesti
CATEGORIES:Aiandus
GEO:58.2821746;25.5752233
END:VEVENT
BEGIN:VEVENT
DTSTART;TZID=Europe/Tallinn:20210812T100000
DTEND;TZID=Europe/Tallinn:20210812T133000
DTSTAMP:20260422T133632
CREATED:20210721T114824Z
LAST-MODIFIED:20220607T112925Z
UID:10009885-1628762400-1628775000@test.pikk.ee
SUMMARY:Kartuli põllupäev
DESCRIPTION:Korraldavad Eesti Taimekasvatuse Instituut ja Kartul Simunast \nVaata täpset asukohta asukohta SIIN \nPäevakava:\n10:00 – kogunemine ja tervituskohv\n10:30 – avasõnad\n10:40 – DEMOPÕLD – katsed; aretised; taimekaitse kartulikasvatuses\n12:10 – TOOTMISPÕLD – tehnoloogia; sordid ‘Teele’ ja ‘Tiina’\n12:45 – SEEMNEPÕLD – tehnoloogia; sortide tutvustus ja uuringud\n13:30 – lõuna ja arutelu \nPäeva jooksul tutvustatakse katseid\, sealhulgas traatussi võrdlus ning arutletakse taimekaitsevahendite hetkesituatsiooni ja tuleviku üle. Tutvustatakse aretisi ja sorte ning räägitakse kuidas on need ETKI katsetes käitunud. Tootmispõllu tehnoloogia all räägitakse aasta eripärast\, istutusaja valikust ja võimalikkusest\, herbitsiidi lahendusest ning fungitsiidide kasutamise regulaarsusest ja ajastamisest. \nPõllupäeva teemasid ja arutelu viivad edasi Mati Koppel (EMÜ)\, Terje Tähtjärv (ETKI)\, Gustav Põldmaa ja Alo Põldmaa (Kartul Simunast)\, Anda Rūtenberga-Āva (Solana Hamburg)\, Indrek Teder (Baltic Agro). \nÜritus on tasuta!\nÜritusele saab registreeruda kuni 10.08.2021 SIIN
URL:https://test.pikk.ee/sundmus/kartuli-pollupaev/
CATEGORIES:Taimekasvatus
END:VEVENT
BEGIN:VEVENT
DTSTART;TZID=Europe/Tallinn:20210812T100000
DTEND;TZID=Europe/Tallinn:20210812T150000
DTSTAMP:20260422T133632
CREATED:20210716T075648Z
LAST-MODIFIED:20210716T075648Z
UID:10009882-1628762400-1628780400@test.pikk.ee
SUMMARY:Taimekaitse esitluspäev Eesti Maaülikoolis
DESCRIPTION:Taimekaitse esitluspäev Eesti Maaülikoolis \nAeg: 12. august kell 10.00-15.00 \nKoht: Eesti Maaülikooli Mahekeskus\, Eerika tee 2\, Õssu küla\, Kambja vald\, Tartumaa \n  \nProgramm \n\nÜlevaade kahjustajate levikust 2021. aastal – Luule Metspalu\nVõimalused traatussikahjustuste vähendamiseks kartulikasvatuses – Mati Koppel\nMaastikuelementide hetkeseis mahemaadel – uue perioodi ökosüsteemi teenuste toetamise toetus – Eve Veromann\nFRAMEwork – Horizon 2020 projekti „Põllumeeste ühendused elurikkuse haldamiseks agroökosüsteemides“ tutvustus – Riina Kaasik\nPõldude asukoht mõjutab rapsikahjureid ja nende parasitoide – Silva Sulg\nLambavillamultši ja püünistaimede kasutamine ristõieliste kahjurite tõrjeks – Marju Varblane\nPõldoasortide vastuvõtlikkus kahjur- ja kasurputukatele – Eha Kruus\nSuurtootmisele mõeldud porgandisortide vastupidavus porgandi kahjuritele Taimeekstraktide ja -õlide kasutamine kahjurite tõrjeks – Angela Ploomi\n\n  \nEsitluspäev on tasuta. Osalemiseks on vaja kindlasti eelregistreerimine hiljemalt 9. augustil siin: https://forms.gle/VFWuaag1QABE5MxBA. Registreerimine lõpetakse kohtade täitumisel. \nEsitluspäev läheb osalejatel arvesse mahetoetuse kohustusliku koolitusena (6 ak tundi). \nLisainfo: maheteave@gmail.com \nKorraldaja: Eesti Maaülikool \nEsitluspäev toimub MAK 2014-2020 meetme „Teadmussiirde programm põllumajanduse\, toidu ja maamajanduse tegevusvaldkonnas“ mahemajanduse valdkonna raames\, toetab Euroopa Liit.
URL:https://test.pikk.ee/sundmus/taimekaitse-esitluspaev-eesti-maaulikoolis/
LOCATION:Tartumaa\, Eesti
CATEGORIES:Taimekaitse
GEO:58.4057128;26.801576
END:VEVENT
BEGIN:VEVENT
DTSTART;TZID=Europe/Tallinn:20210812T123000
DTEND;TZID=Europe/Tallinn:20210812T160000
DTSTAMP:20260422T133632
CREATED:20210728T104136Z
LAST-MODIFIED:20210729T103159Z
UID:10007945-1628771400-1628784000@test.pikk.ee
SUMMARY:Esitluspäev: Õuna- ja ploomisortide kasvatus erinevatel vegetatiivalustel
DESCRIPTION:Aeg: 12. august kell 13.00 – 16.00 \nKoht: Eesti Maaülikooli Polli aiandusuuringute keskuses aadress: Uus tänav 1\, Polli küla\, Mulgi vald\, Viljandimaa \nIstandike külastus Polli aiandusuuringute keskuses aadress: Polli küla\, Mulgi vald\, Viljandimaa \nEsitluspäeva korraldab Eesti Maaülikool \nProgramm \n13.00- 13.30  „Viljapuu-bakterpõletiku (Erwinia amylovora) sissetoomise- ja levikuviiside ning kohastumise takistamise meetmete analüüs“. Kristine Tiirats \n13.30– 14.00 Õuna-ja ploomipuude erinevatele sortidele sobivad vegetatiivalused. Eesti Maaülikooli Polli aiandusuuringute keskuses läbiviidud katsete tulemused. Toivo Univer ja Kersti Kahu \n14.00 -14.30 Lõuna \n14.30-16.00 Õunapuude ja ploomipuude kasvatamine Polli aiandusuuringute keskuses avamaal. Sortide ja vegetatiivaluste sobivus\, kasvutugevused\, saagikus. Toivo Univer\, Matis Moks\, Kersti Kahu. \nTäiendav info tel: 53474802 (Kersti Kahu) \nOsalemine on tasuta ja vajalik eelregistreerimine hiljemalt 10. augustil   SIIN  \nEsitlus toimub ’’Teadmussiirde programm põllumajanduse\, toidu ja maamajanduse tegevusvaldkonnas’’ aianduse valdkonna raames\, toetab Euroopa Liit.
URL:https://test.pikk.ee/sundmus/esitluspaev-ouna-ja-ploomisortide-kasvatus-erinevatel-vegetatiivalustel/
LOCATION:Viljandimaa\, Viljandimaa\, Eesti
CATEGORIES:Aiandus
GEO:58.2821746;25.5752233
END:VEVENT
END:VCALENDAR