BEGIN:VCALENDAR
VERSION:2.0
PRODID:-//METK nõuandeteenistus - ECPv6.15.13//NONSGML v1.0//EN
CALSCALE:GREGORIAN
METHOD:PUBLISH
X-WR-CALNAME:METK nõuandeteenistus
X-ORIGINAL-URL:https://test.pikk.ee
X-WR-CALDESC:Events for METK nõuandeteenistus
REFRESH-INTERVAL;VALUE=DURATION:PT1H
X-Robots-Tag:noindex
X-PUBLISHED-TTL:PT1H
BEGIN:VTIMEZONE
TZID:Europe/Tallinn
BEGIN:DAYLIGHT
TZOFFSETFROM:+0200
TZOFFSETTO:+0300
TZNAME:EEST
DTSTART:20200329T010000
END:DAYLIGHT
BEGIN:STANDARD
TZOFFSETFROM:+0300
TZOFFSETTO:+0200
TZNAME:EET
DTSTART:20201025T010000
END:STANDARD
BEGIN:DAYLIGHT
TZOFFSETFROM:+0200
TZOFFSETTO:+0300
TZNAME:EEST
DTSTART:20210328T010000
END:DAYLIGHT
BEGIN:STANDARD
TZOFFSETFROM:+0300
TZOFFSETTO:+0200
TZNAME:EET
DTSTART:20211031T010000
END:STANDARD
BEGIN:DAYLIGHT
TZOFFSETFROM:+0200
TZOFFSETTO:+0300
TZNAME:EEST
DTSTART:20220327T010000
END:DAYLIGHT
BEGIN:STANDARD
TZOFFSETFROM:+0300
TZOFFSETTO:+0200
TZNAME:EET
DTSTART:20221030T010000
END:STANDARD
END:VTIMEZONE
BEGIN:VEVENT
DTSTART;TZID=Europe/Tallinn:20210814T100000
DTEND;TZID=Europe/Tallinn:20210814T123000
DTSTAMP:20260422T133620
CREATED:20210803T081656Z
LAST-MODIFIED:20210803T081656Z
UID:10007948-1628935200-1628944200@test.pikk.ee
SUMMARY:Mahevaldkonna infopäev
DESCRIPTION:Aeg: 14. august kell 10.00-12.30 \nKoht: Aavikunurga puhketalu\, Randvere küla\, Saaremaa \n\nEuroopa Liidu roheleppest\nÜPP 2017-2023 strateegia arengukava\nArutelu\n\nInfopäeva lektor on Merit Mikk Mahepõllumajanduse Koostöökogust. \nInfopäev on tasuta. Kohtade arv on piiratud\, registreerimine lõpetatakse kohtade täitumisel. Osalemiseks on vaja kindlasti eelregistreerimine hiljemalt 5. augustil e-maili aadressil maheteave@gmail.com. \nLisainfo: maheteave@gmail.com \nInfopäev toimub MAK 2014-2020 meetme „Teadmussiirde programm põllumajanduse\, toidu ja maamajanduse tegevusvaldkonnas“ mahemajanduse valdkonna raames\, toetab Euroopa Liit.
URL:https://test.pikk.ee/sundmus/mahevaldkonna-infopaev/
LOCATION:Saaremaa\, Saaremaa
CATEGORIES:Muu
GEO:58.3705526;22.6876383
END:VEVENT
END:VCALENDAR