BEGIN:VCALENDAR
VERSION:2.0
PRODID:-//METK nõuandeteenistus - ECPv6.15.13//NONSGML v1.0//EN
CALSCALE:GREGORIAN
METHOD:PUBLISH
X-ORIGINAL-URL:https://test.pikk.ee
X-WR-CALDESC:Events for METK nõuandeteenistus
REFRESH-INTERVAL;VALUE=DURATION:PT1H
X-Robots-Tag:noindex
X-PUBLISHED-TTL:PT1H
BEGIN:VTIMEZONE
TZID:Europe/Tallinn
BEGIN:DAYLIGHT
TZOFFSETFROM:+0200
TZOFFSETTO:+0300
TZNAME:EEST
DTSTART:20200329T010000
END:DAYLIGHT
BEGIN:STANDARD
TZOFFSETFROM:+0300
TZOFFSETTO:+0200
TZNAME:EET
DTSTART:20201025T010000
END:STANDARD
BEGIN:DAYLIGHT
TZOFFSETFROM:+0200
TZOFFSETTO:+0300
TZNAME:EEST
DTSTART:20210328T010000
END:DAYLIGHT
BEGIN:STANDARD
TZOFFSETFROM:+0300
TZOFFSETTO:+0200
TZNAME:EET
DTSTART:20211031T010000
END:STANDARD
BEGIN:DAYLIGHT
TZOFFSETFROM:+0200
TZOFFSETTO:+0300
TZNAME:EEST
DTSTART:20220327T010000
END:DAYLIGHT
BEGIN:STANDARD
TZOFFSETFROM:+0300
TZOFFSETTO:+0200
TZNAME:EET
DTSTART:20221030T010000
END:STANDARD
END:VTIMEZONE
BEGIN:VEVENT
DTSTART;TZID=Europe/Tallinn:20210816T120000
DTEND;TZID=Europe/Tallinn:20210816T170000
DTSTAMP:20260421T223751
CREATED:20210803T082640Z
LAST-MODIFIED:20210803T082815Z
UID:10007951-1629115200-1629133200@test.pikk.ee
SUMMARY:Mahepõllumajanduslik lihaveisekasvatus
DESCRIPTION:Infopäev: mahepõllumajanduslik lihaveisekasvatus \nAeg: 16. august 2021 kell 12-17 \nKoht: Undama-Tõnise OÜ\, Undama\, Hiiumaa \nKorraldaja: Mahepõllumajanduse Koostöökogu koostöös Ökoloogiliste Tehnoloogiate Keskusega \n  \nInfopäeva teemad: \n* Undama-Tõnise OÜ mahelihaveisekasvatuse tutvustus \n* Rohumaade majandamine. Kvaliteetse sööda olulisus mahelihaveisekasvatuses. Arutelu \n* ÜPP strateegiakava raames planeeritud toetused. Arutelu \nLektorid: Kaspar Kokla (Undama-Tõnise OÜ)\, Merit Mikk (Mahepõllumajanduse Koostöökogu) \nInfopäev on tasuta. Osalemiseks on kindlasti vajalik eelregistreerumine hiljemalt 8.08 siin: https://forms.gle/japGXpVAPeN6ptjp9. \nKohtade arv on piiratud\, registreerimine lõpetatakse kohtade täitumisel enne registreerimistähtaega. \nInfopäev läheb arvesse mahetoetuse kohustusliku koolitusena (6 ak tundi). \nInfopäev toimub MAK 2014-2020 meetme „Teadmussiirde pikaajaline programm põllumajanduse\, toidu ja maamajanduse tegevusvaldkonnas“ mahemajanduse valdkonna raames\, toetab Euroopa Liit.
URL:https://test.pikk.ee/sundmus/mahepollumajanduslik-lihaveisekasvatus-12/
LOCATION:Hiiumaa\, Hiiumaa\, Eesti
CATEGORIES:Loomakasvatus
END:VEVENT
END:VCALENDAR