BEGIN:VCALENDAR
VERSION:2.0
PRODID:-//METK nõuandeteenistus - ECPv6.15.13//NONSGML v1.0//EN
CALSCALE:GREGORIAN
METHOD:PUBLISH
X-ORIGINAL-URL:https://test.pikk.ee
X-WR-CALDESC:Events for METK nõuandeteenistus
REFRESH-INTERVAL;VALUE=DURATION:PT1H
X-Robots-Tag:noindex
X-PUBLISHED-TTL:PT1H
BEGIN:VTIMEZONE
TZID:Europe/Tallinn
BEGIN:DAYLIGHT
TZOFFSETFROM:+0200
TZOFFSETTO:+0300
TZNAME:EEST
DTSTART:20200329T010000
END:DAYLIGHT
BEGIN:STANDARD
TZOFFSETFROM:+0300
TZOFFSETTO:+0200
TZNAME:EET
DTSTART:20201025T010000
END:STANDARD
BEGIN:DAYLIGHT
TZOFFSETFROM:+0200
TZOFFSETTO:+0300
TZNAME:EEST
DTSTART:20210328T010000
END:DAYLIGHT
BEGIN:STANDARD
TZOFFSETFROM:+0300
TZOFFSETTO:+0200
TZNAME:EET
DTSTART:20211031T010000
END:STANDARD
BEGIN:DAYLIGHT
TZOFFSETFROM:+0200
TZOFFSETTO:+0300
TZNAME:EEST
DTSTART:20220327T010000
END:DAYLIGHT
BEGIN:STANDARD
TZOFFSETFROM:+0300
TZOFFSETTO:+0200
TZNAME:EET
DTSTART:20221030T010000
END:STANDARD
END:VTIMEZONE
BEGIN:VEVENT
DTSTART;VALUE=DATE:20210928
DTEND;VALUE=DATE:20210929
DTSTAMP:20260421T095933
CREATED:20210823T120936Z
LAST-MODIFIED:20210902T150359Z
UID:10009904-1632787200-1632873599@test.pikk.ee
SUMMARY:Kitsejuustu valmistamine koduköögis (10 tundi)
DESCRIPTION:Kitsejuustu valmistamine koduköögis (10 tundi). \nKoolitus toimub Järvamaa Kutsehariduskeskuse  Särevere õppekohas  28. septembril \nKoolitaja Marge Salumäe. \nKoolitus on TASUTA PRIA sihtgruppi kuulujatele. \nKoolitusele registreerimine toimub SIIT. \nKoolituse käigus valmistatakse õppeköögis kitsepiimast juustu\, seetõttu palume kaasa võtta põll\, rätik\, mugavad vahetusjalanõud. \nTäiendav info:\nRuth Türk\nruth.turk@jkhk.ee/5329 2188\n+372 5329 2188 \n\n\n\n\n\n07-08
URL:https://test.pikk.ee/sundmus/kitsejuustu-valmistamine-kodukoogis-10-tundi/
LOCATION:Järvamaa\, Järvamaa\, Eesti
CATEGORIES:Toiduainete tootmine
GEO:58.8866713;25.5000624
END:VEVENT
BEGIN:VEVENT
DTSTART;TZID=Europe/Tallinn:20210928T100000
DTEND;TZID=Europe/Tallinn:20210928T133000
DTSTAMP:20260421T095933
CREATED:20210824T125019Z
LAST-MODIFIED:20210824T125738Z
UID:10009907-1632823200-1632835800@test.pikk.ee
SUMMARY:Digiturundus maamajanduses (veebipõhine tasuline koolitus)
DESCRIPTION:Täpsem info ja registreerumine SIIN \nKoolitus annab juhiseid kuidas oskuslikult digitaalse meedia võimalusi kasutades oma toodet või teenust võimalikule kliendile kõige efektiivsemalt turundada. \n\nKoolituse põhiteemad:\n\nTurundus digitaalses maailmas;\nSotsiaalmeedia turunduse ülevaade;\nSotsiaalmeedia turundus Facebooki ja Instagram’i kanalis- peamised nõuanded\, parimad praktikad maamajandusettevõtete näidetel.\n\nKoolitus toimub 28. septembril 2021 maaülikooli videosilla vahendusel BigBlueButton (BBB) keskkonnas.\nBBB keskkonnas asuva seminariruumi aadress ning juhised seminariruumi sisenemiseks saadetakse koolitusele registreerunutele meilidele.\n\n.\nSellel koolitusel osalemine on tasuline (54 eurot) ning vajalik on eelregistreerimine.\n.\nKoolituse korraldaja:\nEesti Maaülikooli avatud ülikool\nFr. R. Kreutzwaldi 56/1\n51006 Tartu\,\ntel 731 3275\ne-post: avayl@emu.ee\nhttp://avatudylikool.emu.ee/
URL:https://test.pikk.ee/sundmus/digiturundus-maamajanduses/
LOCATION:Veebis\, Eesti
CATEGORIES:Finantsmajandus,Maaettevõtlus,Turundus,Ühistegevus
END:VEVENT
BEGIN:VEVENT
DTSTART;TZID=Europe/Tallinn:20210928T120000
DTEND;TZID=Europe/Tallinn:20210928T163000
DTSTAMP:20260421T095933
CREATED:20210914T193106Z
LAST-MODIFIED:20210914T193106Z
UID:10007986-1632830400-1632846600@test.pikk.ee
SUMMARY:Ettevõtte külastus: Energia talu ravimtaimekasvatus
DESCRIPTION:Mahepõllumajanduse Koostöökogu koostöös Eesti Mahepõllumajanduse Sihtasutusega korraldab 28. septembril 2021 ettevõtte külastuse. \nEttevõtte külastus: Energia talu ravimtaimekasvatus \nAeg: 28. september 2021 kell 12:00-16:30 \nKoht: Energia talu\, Vihi küla\, Suure-Jaani vald\, Viljandimaa GPS: 58°34’57”N 25°22’41”E \nKorraldaja: Mahepõllumajanduse Koostöökogu koostöös Eesti Mahepõllumajanduse Sihtasutusega \nTeemad: \n\nRavimtaimekasvatus Energia talus\nRavimtaimede kuivatamine\, pakendamine\, säilitamine\, turustamine\nMuud seonduvad tegevused ettevõttes (öko-spa\, seminarid jm)\n\nEttevõtet tutvustab Aivar Siim \nEttevõtte külastus on tasuta. Osalemiseks on vajalik eelregistreerumine siin: https://forms.gle/hSQVbFLRD4ymNomz8 \nEttevõtte külastus läheb arvesse mahetoetuse kohustusliku koolitusena. \nEttevõtte külastus toimub MAK 2014-2020 meetme „Teadmussiirde pikaajaline programm põllumajanduse\, toidu ja maamajanduse tegevusvaldkonnas“ mahemajanduse valdkonna raames\, toetab Euroopa Liit.
URL:https://test.pikk.ee/sundmus/ettevotte-kulastus-energia-talu-ravimtaimekasvatus/
LOCATION:Viljandimaa\, Viljandimaa\, Eesti
CATEGORIES:Taimekasvatus
GEO:58.2821746;25.5752233
END:VEVENT
BEGIN:VEVENT
DTSTART;TZID=Europe/Tallinn:20210928T130000
DTEND;TZID=Europe/Tallinn:20210928T160000
DTSTAMP:20260421T095933
CREATED:20210916T093517Z
LAST-MODIFIED:20210916T093517Z
UID:10009935-1632834000-1632844800@test.pikk.ee
SUMMARY:Ettevõtte külastus: Karu Aiandustalu
DESCRIPTION:Mahepõllumajanduse Koostöökogu koostöös Ökoloogiliste Tehnoloogiate Keskusega korraldab 28. septembril k 13.00-16.00 maheettevõtte külastuse. Külastatavaks ettevõtteks on Karu Aiandustalu (Keravere küla\, Läänemaa)\, kus kasvatatakse väikestel pindadel laia valikut maheköögivilju ja -maitsetaimi. \nEttevõtte külastus on tasuta. Kohtade arv on piiratud\, registreerimine lõpetatakse kohtade täitumisel. Osalemiseks on kindlasti vajalik eelregistreerumine hiljemalt 20. septembril e-maili aadressil maheteave[A]gmail.com. \nLisainfo: maheteave[A]gmail.com \nEttevõtte külastus toimub MAK 2014-2020 meetme „Teadmussiirde programm põllumajanduse\, toidu ja maamajanduse tegevusvaldkonnas“ mahemajanduse valdkonna raames\, toetab Euroopa Liit.
URL:https://test.pikk.ee/sundmus/ettevotte-kulastus-karu-aiandustalu/
LOCATION:Läänemaa
CATEGORIES:Aiandus
END:VEVENT
END:VCALENDAR