BEGIN:VCALENDAR
VERSION:2.0
PRODID:-//METK nõuandeteenistus - ECPv6.15.13//NONSGML v1.0//EN
CALSCALE:GREGORIAN
METHOD:PUBLISH
X-WR-CALNAME:METK nõuandeteenistus
X-ORIGINAL-URL:https://test.pikk.ee
X-WR-CALDESC:Events for METK nõuandeteenistus
REFRESH-INTERVAL;VALUE=DURATION:PT1H
X-Robots-Tag:noindex
X-PUBLISHED-TTL:PT1H
BEGIN:VTIMEZONE
TZID:Europe/Tallinn
BEGIN:DAYLIGHT
TZOFFSETFROM:+0200
TZOFFSETTO:+0300
TZNAME:EEST
DTSTART:20200329T010000
END:DAYLIGHT
BEGIN:STANDARD
TZOFFSETFROM:+0300
TZOFFSETTO:+0200
TZNAME:EET
DTSTART:20201025T010000
END:STANDARD
BEGIN:DAYLIGHT
TZOFFSETFROM:+0200
TZOFFSETTO:+0300
TZNAME:EEST
DTSTART:20210328T010000
END:DAYLIGHT
BEGIN:STANDARD
TZOFFSETFROM:+0300
TZOFFSETTO:+0200
TZNAME:EET
DTSTART:20211031T010000
END:STANDARD
BEGIN:DAYLIGHT
TZOFFSETFROM:+0200
TZOFFSETTO:+0300
TZNAME:EEST
DTSTART:20220327T010000
END:DAYLIGHT
BEGIN:STANDARD
TZOFFSETFROM:+0300
TZOFFSETTO:+0200
TZNAME:EET
DTSTART:20221030T010000
END:STANDARD
END:VTIMEZONE
BEGIN:VEVENT
DTSTART;TZID=Europe/Tallinn:20210929T100000
DTEND;TZID=Europe/Tallinn:20210929T144500
DTSTAMP:20260421T045914
CREATED:20210909T204702Z
LAST-MODIFIED:20220208T125419Z
UID:10007983-1632909600-1632926700@test.pikk.ee
SUMMARY:Mahepõllumajanduse algõpe (loomakasvatus)
DESCRIPTION:Mahepõllumajandusega alustajatele toimub septembris ja oktoobris 5 algõppe infopäeva. 3 neist on veebis ja 2 maheettevõtetes. Infopäevad korraldab Mahepõllumajanduse Koostöökogu koostöös Eesti Mahepõllumajanduse Sihtasutusega. \n  \nInfopäev: mahepõllumajanduse algõpe\, loomakasvatus \nAeg: 29. september 2021 kell 10:00-14:45 \nKoht: veebis\, keskkonnas zoom \nKorraldaja: Mahepõllumajanduse Koostöökogu koostöös Eesti Mahepõllumajanduse Sihtasutusega \n  \nInfopäeva teemad: \nKülvikord loomakasvatusega tegelevas ettevõttes \nPidamistingimused\, loomade sissetoomine ettevõttesse \nLoomade söötmine\, erinevad ratsioonid \nLoomatervishoid\, veterinaarsed jm toimingud \n  \nLektorid on Margo Mansberg\, Erto talu ja Ragnar Leming\, Eesti Maaülikool \n  \nOsalemiseks palume registreeruda: \n29.09. veeb: https://forms.gle/MLBAphAcoRPGXdbs8 \n  \nTeised algõppe infopäevad: \nInfopäevad: mahepõllumajanduse algõpe\, sissejuhatus \nAeg: 17. september ja 12. oktoober kell 10:00-14:45 \nKoht: veebis\, keskkonnas zoom \nKorraldaja: Mahepõllumajanduse Koostöökogu koostöös Eesti Mahepõllumajanduse Sihtasutusega \n  \nInfopäevade teemad: \nÜlevaade mahepõllumajandusest \nPeamised mahepõllumajanduse nõuded ja põhimõtted \nMahepõllumajanduse järelevalve \nMahepõllumajanduse toetused \n  \nLektorid: Margo Mansberg\, Erto talu (17.09) või Lilia Kulli (12.10)\, nõustaja; Airi Vetemaa\, EMSA \n  \n Osalemiseks palume registreeruda: \n12.10. veeb: https://forms.gle/igkGyAVAcP9G81gw5 \n17.09. veeb: https://forms.gle/gxUyUU1zYTgPomEy6 \n  \nInfopäev: mahepõllumajanduse algõpe\, praktilised kogemused \nAeg: 22. september 2021 kell 10:00-14:45 \nKoht: kogunemine Vigala külade keskuses\, Kooli tn 2\, Kivi-Vigala\, Märjamaa vald\, Raplamaa\, külastame ettevõtteid Narafarm ja Väntoveis \nKorraldaja: Mahepõllumajanduse Koostöökogu koostöös Eesti Mahepõllumajanduse Sihtasutusega \n  \nInfopäeva teemad: \nMaheettevõtte majandamine\, külvikorrad\, tootmistehnoloogia \nPõldude (taliviljad) vaatlus ja põllutehnika vaatlus \nLihaveisekasvatuse tutvustus \nPeamised praktilised aspektid mahetootmisega alustamisel\, arutelu \n  \nLektorid: Viljo Siimsalu\, Narafarm; Martin Üürike\, Väntoveis; Lilia Kulli\, nõustaja \n  \nOsalemiseks palume registreeruda: \n22.09. Narafarm/Vänto Veis: https://forms.gle/uqq6iq97VxfcB5678 \n  \nInfopäev: mahepõllumajanduse algõpe\, praktilised kogemused \nAeg: 24. september 2021 kell 10:00-14:45 \nKoht: Erto talu\, Kõrenduse küla\, Tartu vald\, Tartu maakond\, 49111 \nKorraldaja: Mahepõllumajanduse Koostöökogu koostöös Eesti Mahepõllumajanduse Sihtasutusega \n  \nInfopäeva teemad: \nMaheettevõtte majandamine\, külvikorrad\, tootmistehnoloogia \nPõldude (taliviljad\, köögivili) vaatlus ja põllutehnika vaatlus \nLihaveisekasvatuse tutvustus \nPeamised praktilised aspektid mahetootmisega alustamisel\, arutelu \n  \nLektorid: Margo Mansberg\, Erto talu; Airi Vetemaa\, EMSA \n  \nOsalemiseks palume registreeruda: \n24.09. Erto talu: https://forms.gle/eCD6zdo6KsV5fG6r5 \n  \nInfopäevad lähevad arvesse mahetoetuse kohustusliku koolitusena (6 ak tundi). Infopäevad on tasuta. \n  \nInfopäevad toimuvad MAK 2014-2020 meetme „Teadmussiirde pikaajaline programm põllumajanduse\, toidu ja maamajanduse tegevusvaldkonnas“ mahemajanduse valdkonna raames\, toetab Euroopa Liit.
URL:https://test.pikk.ee/sundmus/mahepollumajanduse-algope-loomakasvatus/
LOCATION:Eesti
CATEGORIES:Loomakasvatus
END:VEVENT
END:VCALENDAR