BEGIN:VCALENDAR
VERSION:2.0
PRODID:-//METK nõuandeteenistus - ECPv6.15.13//NONSGML v1.0//EN
CALSCALE:GREGORIAN
METHOD:PUBLISH
X-WR-CALNAME:METK nõuandeteenistus
X-ORIGINAL-URL:https://test.pikk.ee
X-WR-CALDESC:Events for METK nõuandeteenistus
REFRESH-INTERVAL;VALUE=DURATION:PT1H
X-Robots-Tag:noindex
X-PUBLISHED-TTL:PT1H
BEGIN:VTIMEZONE
TZID:Europe/Tallinn
BEGIN:DAYLIGHT
TZOFFSETFROM:+0200
TZOFFSETTO:+0300
TZNAME:EEST
DTSTART:20200329T010000
END:DAYLIGHT
BEGIN:STANDARD
TZOFFSETFROM:+0300
TZOFFSETTO:+0200
TZNAME:EET
DTSTART:20201025T010000
END:STANDARD
BEGIN:DAYLIGHT
TZOFFSETFROM:+0200
TZOFFSETTO:+0300
TZNAME:EEST
DTSTART:20210328T010000
END:DAYLIGHT
BEGIN:STANDARD
TZOFFSETFROM:+0300
TZOFFSETTO:+0200
TZNAME:EET
DTSTART:20211031T010000
END:STANDARD
BEGIN:DAYLIGHT
TZOFFSETFROM:+0200
TZOFFSETTO:+0300
TZNAME:EEST
DTSTART:20220327T010000
END:DAYLIGHT
BEGIN:STANDARD
TZOFFSETFROM:+0300
TZOFFSETTO:+0200
TZNAME:EET
DTSTART:20221030T010000
END:STANDARD
END:VTIMEZONE
BEGIN:VEVENT
DTSTART;TZID=Europe/Tallinn:20211008T090000
DTEND;TZID=Europe/Tallinn:20211008T160000
DTSTAMP:20260423T100914
CREATED:20210824T131511Z
LAST-MODIFIED:20210907T074647Z
UID:10007964-1633683600-1633708800@test.pikk.ee
SUMMARY:RAALPROJEKTEERIMINE JA -TOOTMINE
DESCRIPTION:Täiskasvanute täienduskoolituse kursuste riikliku koolitustellimuse 2021. aastaks raames toimuv TASUTA koolitus tootmisettevõtete töötajatele (eelistatult väikese ja keskmise suurusega ettevõtetest)  ja FIE-dele. \n  \nKoolitus annab tootmises ja tööstuses töötavale inimesele baasteadmised\, mille abil uute tehnoloogiate arendamise ja kasutuselevõtuga edasi minna. \nKoolituse põhiteemad: \n– Ülevaade erinevatest modelleerimise meetodidest: kasutamine\, puudused ja tugevused;\n– Fusion 360 tarkvara kasutajaliidese\, töökeskkonna ülevaade\, tutvustus;\n– Töö salvestamine\, tulemuse edastamise erinevad võimalused;\n– Enamlevinud modelleerimise tööriistad ja nendega töötamine;\n– Staatilise koostu modelleerimine;\n– Mudeli redigeerimine;\n– Raaltootmine. \n. \nTäpsem info ja registreerumine SIIN \nKoolitus toimub viie 8-tunnise õppepäevana auditoorselt kontaktõppes. \n  \nKoolitus toimub ülikoolides ja rakenduskõrgkoolides toimuvate täiskasvanute täienduskoolituse kursuste riikliku koolitustellimuse 2021. aastaks raames ning tegevust rahastatakse ESF programmist “Täiskasvanuhariduse edendamine ja õppimisvõimaluste avardamine”. \n  \nKoolituse korraldaja:\nEesti Maaülikooli avatud ülikool\nFr. R. Kreutzwaldi 56/1\n51006 Tartu\,\ntel 731 3275\ne-post: avayl@emu.ee\nhttp://avatudylikool.emu.ee/
URL:https://test.pikk.ee/sundmus/raalprojekteerimine-ja-tootmine-3/
LOCATION:Eesti
CATEGORIES:Maaettevõtlus,Toiduainete tootmine
END:VEVENT
BEGIN:VEVENT
DTSTART;TZID=Europe/Tallinn:20211008T100000
DTEND;TZID=Europe/Tallinn:20211008T153000
DTSTAMP:20260423T100914
CREATED:20210922T124154Z
LAST-MODIFIED:20220707T062517Z
UID:10009941-1633687200-1633707000@test.pikk.ee
SUMMARY:Allergeeniohje toidukäitlemisettevõtte enesekontrolliplaanis (veebipõhine kursus)
DESCRIPTION:Täpsem info ja registreerumine SIIT \nKatrin Laikoja koolitus annab toidukäitlejatest osalejatele ülevaate toiduallergeenidest\, toiduallergeenidega seotud ohtudest ja allegeeniohjest toidukäitlemise ettevõttes. \nKoolitusel käsitletavad teemad: \n\nMõisted (allergeen\, allergia\, toiduallergia\, toidutalumatus\, toiduallergeenid\, ristkontakt);\nToiduallergia ja tsöliaakia esinemisest Eestis;\nÕigusaktidest tulenevad kohustused toidukäitlejatele\, sh märgistamine (määrus 1169/2011\, PõM määrus 24\, vead märgistamisel\, RASFF);\nAllergeenid enesekontrolliplaanis\, sh HACCP plaanis;\nAllergeenide juhtimine ettevõttes;\nVead käitlemisel\, ennetamine.\n\nTäienduskoolitusest võivad osa võtta: \n\npõllumajandustoodete töötlemise või turustamisega tegelev füüsilisest isikust ettevõtja ja tema töötaja ning eraõigusliku juriidilise isiku osanik\, aktsionär\, liige\, juhtorgani liige ja tema töötaja;\npõllumajandustoodetest mittepõllumajandustoodete töötlemise sh toidu valmistamise või töötlemisega tegelev füüsilisest isikust ettevõtja ja tema töötaja ning eraõigusliku juriidilise isiku osanik\, aktsionär\, liige\, juhtorgani liige ja tema töötaja;\ntoidu valmistamise või töötlemisega tegelev avalik-õigusliku juriidilise isiku juhtorgani liige või töötaja;\npõllumajandustootjate valdkonda teenindavad isikud (nt kokkuostuga tegelevate ettevõtete töötajad);\nisikud (FIE-d või ettevõtte esindajad)\, kes koguvad teadmisi uue tegevusvaldkonna kohta;\npõllumajanduslike esindus- ja erialaorganisatsioonide (MTÜ-d\, mille liikmeteks on põllumajandussaaduste töötlejad) juhatuse liikmed ja töötajad.\n\nFüüsiliste isikute ja riigiametnike täienduskoolitusel osalemine ei ole toetatav! \nKoolitus toimub MAK 2014-2020 meetme “Teadmussiirde pikaajaline programm põllumajanduse\, toidu ja maamajanduse tegevusvaldkonnas” toidu ja toiduohutuse valdkonna raames\, toetab Euroopa Liit. \nKoolitusel osalemine on vähese tähtsusega abi (VTA). Abisumma ühe osavõtja kohta arvutatakse osavõtjate lõpliku arvu järgi\, kuid see ei ületa 250 eurot. \nEttevõtte VTA vaba jääki saab kontrollida SIIT \nKui osaleja ettevõttel ei ole piisavalt VTA vaba jääki\, siis on osalemise eest antav toetus riigiabi ning sellisel juhul tuleb ettevõttel esitada enne tegevuse toimumist riigiabi taotlus (vormi saab korraldajalt).\nKeskmise suurusega ettevõtja korral toetatakse infopäeval või koolitusel osalemist 60%\, mikro-ja väikeettevõtja korral 70% ning suurettevõtja korral 50% ulatuses osaleja kohta.\nPuudujääv osa tuleb osalejal/ettevõttel endal tasuda. \n. \nKoolituse korraldaja:\nEesti Maaülikooli avatud ülikool\nFr. R. Kreutzwaldi 56/1\n51006 Tartu\,\ntel 731 3275\ne-post: avayl@emu.ee\nhttp://avatudylikool.emu.ee/
URL:https://test.pikk.ee/sundmus/allergeeniohje-toidukaitlemisettevotte-enesekontrolliplaanis-veebipohine-kursus-2/
LOCATION:Veebis\, Eesti
CATEGORIES:Toiduainete tootmine
END:VEVENT
END:VCALENDAR