BEGIN:VCALENDAR
VERSION:2.0
PRODID:-//METK nõuandeteenistus - ECPv6.15.13//NONSGML v1.0//EN
CALSCALE:GREGORIAN
METHOD:PUBLISH
X-ORIGINAL-URL:https://test.pikk.ee
X-WR-CALDESC:Events for METK nõuandeteenistus
REFRESH-INTERVAL;VALUE=DURATION:PT1H
X-Robots-Tag:noindex
X-PUBLISHED-TTL:PT1H
BEGIN:VTIMEZONE
TZID:Europe/Tallinn
BEGIN:DAYLIGHT
TZOFFSETFROM:+0200
TZOFFSETTO:+0300
TZNAME:EEST
DTSTART:20200329T010000
END:DAYLIGHT
BEGIN:STANDARD
TZOFFSETFROM:+0300
TZOFFSETTO:+0200
TZNAME:EET
DTSTART:20201025T010000
END:STANDARD
BEGIN:DAYLIGHT
TZOFFSETFROM:+0200
TZOFFSETTO:+0300
TZNAME:EEST
DTSTART:20210328T010000
END:DAYLIGHT
BEGIN:STANDARD
TZOFFSETFROM:+0300
TZOFFSETTO:+0200
TZNAME:EET
DTSTART:20211031T010000
END:STANDARD
BEGIN:DAYLIGHT
TZOFFSETFROM:+0200
TZOFFSETTO:+0300
TZNAME:EEST
DTSTART:20220327T010000
END:DAYLIGHT
BEGIN:STANDARD
TZOFFSETFROM:+0300
TZOFFSETTO:+0200
TZNAME:EET
DTSTART:20221030T010000
END:STANDARD
END:VTIMEZONE
BEGIN:VEVENT
DTSTART;TZID=Europe/Tallinn:20211013T090000
DTEND;TZID=Europe/Tallinn:20211014T133000
DTSTAMP:20260420T231447
CREATED:20210818T080557Z
LAST-MODIFIED:20210825T060126Z
UID:10009893-1634115600-1634218200@test.pikk.ee
SUMMARY:Taimekasvatus vähendatud pestitsiidide ja väetistega\, ilma saaki ja kvaliteeti kahjustamata
DESCRIPTION:13. – 14. oktoobril 2021 kell 8:50 – 13:30 toimub AAB (Association of Applied Biologists) korraldatud veebiüritus “Pestitsiidide ja vätiste vähendandamine taimekasvatuses\, ilma saaki ja kvaliteeti kahjustamata”. \nSeadusemuudatuste tõttu seisab Ühendkuningriigi toiduainetööstus silmitsi tõsiste ohtudega seoses tootlikkuse ja põllukultuuride ohutusega\, sest keelatakse oluliste taimekaitsevahendite kasutamine. Lisaks peavad põllumajandustootjad tootma väiksemaid sisendeid kasutades sama suurt saaki\, et vähendada süsiniku jalajälge. Sellega aidatakse kaasa Ühendkuningriigi kohustusele vähendada aastaks 2035 heitkoguseid 78%. \nSeminari raames uuritakse sellest olukorrast tulenevaid väljakutseid ja võimalusi. Keskendutakse olemasolevatele ja uutele pestitsiidide\, biostimulantide ja põllukultuuride toitaineid suurendavate toodete tõhususe suurendamisele\, alternatiivsete toodete kasutamisele\, et asendada otseselt või kaudselt keelatud tooteid ning pööratakse tähelepanu varem väheväärtuslikuks peetud tehnikatele. \nOsalema oodatakse kõiki põllumajandustootjaid\, akadeemikuid ja tööstuse liikmeid\, kes on huvitatud põllumajanduse tulevikust. \n\nVaata ürituse päevakava SIIT\nLisainfot ürituse kohta leiad SIIN
URL:https://test.pikk.ee/sundmus/taimekasvatus-vahendatud-pestitsiidide-ja-vaetistega-saaki-ja-kvaliteeti-kahjustamata/
LOCATION:Veebis\, Eesti
END:VEVENT
BEGIN:VEVENT
DTSTART;TZID=Europe/Tallinn:20211014T080000
DTEND;TZID=Europe/Tallinn:20211014T183000
DTSTAMP:20260420T231447
CREATED:20210927T145903Z
LAST-MODIFIED:20210927T150000Z
UID:10009956-1634198400-1634236200@test.pikk.ee
SUMMARY:Taimekaitsevahendite professionaalse kasutaja täienduskoolitus (12 t)
DESCRIPTION:Taimekaitsevahendite professionaalse kasutaja täienduskoolitus (12 t)\nKoolitus toimub 14. oktoober.\nKoolitaja: Kaja Marrandi\nKoolitus on TASUTA PRIA sihtgruppi kuulujatele.\nKoolitusele registreerimine toimub SIIT\nPS! Koolitus on mõeldud kehtiva taimekaitsetunnistuse pikendamiseks!\nTäiendav info:\nRuth Türk\nruth.turk@jkhk.ee\n+372 5329 2188
URL:https://test.pikk.ee/sundmus/taimekaitsevahendite-professionaalse-kasutaja-taienduskoolitus-12-t-6/
LOCATION:Järvamaa\, Järvamaa\, Eesti
CATEGORIES:Taimekaitse
GEO:58.8866713;25.5000624
END:VEVENT
BEGIN:VEVENT
DTSTART;TZID=Europe/Tallinn:20211014T090000
DTEND;TZID=Europe/Tallinn:20211014T123000
DTSTAMP:20260420T231447
CREATED:20211001T134225Z
LAST-MODIFIED:20211007T085730Z
UID:10008021-1634202000-1634214600@test.pikk.ee
SUMMARY:EPKK Metsandusfoorum 2021
DESCRIPTION:Eesti Põllumajandus-Kaubanduskoja Metsandusfoorum 2021\nToimumise aeg: 14. oktoober 2021 kell 9.00 – 12.35\nToimumise koht: EPA raames Eesti Rahva Muuseumis (Muuseumi tee 2\, 60532 Tartu)\nVõimalus jälgida ka videoülekannet foorumilt! \nPÄEVAKAVA\n8.30 – 9.00 Kogunemine ja registreerimine\n9.00 – 9.10 Konverentsi avamine\n9.10 – 9.35 Mida toob Euroopa Liidu rohelepe kaasa metsandussektorile? – Meelis Seedre\, Keskkonnaministeeriumi metsaosakonna juhataja\n9.35 – 10.05 LULUCF-i uuringu tutvustus: metsandussektori võime panustada kliimaeesmärkidesse – Mati Valgepea\, Keskkonnaagentuuri juhtivspetsialist\n10.05 – 10.35 Metsade süsiniku sidumise ja talletamise võime ning selle seosed metsade majandamisega – Jürgen Aosaar\, Eesti Maaülikooli vanemteadur\n10.35 – 11.00 Kohvipaus\n11.00 – 11.30 Püsimetsandus\, kas see on Eestis võimalik? – Hardi Tullus\, Eesti Maaülikooli metsakasvatuse ja metsaökoloogia professor\n11.30 – 12.00 Jätkusuutlik metsamajandus praktikas – Gunnar Lepasaar\, Parim metsamajandaja 2021\, Lepasaare Puit OÜ juht\n12.00 – 12.30 Vestlusvoor: Metsa väärindamine – milline on puidutööstuse roll süsinikusidumises?\nVestlusvoorus osalevad: Eesti Metsa- ja Puidutööstuse Liidu tegevjuht Henrik Välja\, metsandusekspert\, riigikogu liige Heiki Hepner\, Keskühistu Eramets TÜ tegevjuht Priit Põllumäe ja Eesti Maaülikooli vanemteadur Jürgen Aosaar\n12.30 – 12.35 Konverentsi lõpetamine\n12.35 Ühine lõuna messikeskuses ja messikülastus \nPäeva modereerib ajakirjanik Kristo Elias. \nRegistreerimine on avatud  SIIN  koos võimalusega valida osalemine ERM-s või jälgida otseülekannet.\nMõlemal juhul on etteregistreerimine vajalik! ERM-i tulijatele lõpeb registreerimine 7. oktoobri hilisõhtul\, videoülekande jälgijatele on link avatud kuni 10. oktoobrini. \nVarane registreerimise kuupäev on tingitud toitlustuse tellimuse esitamise tähtajast!\nOsalemine on TASUTA.\nRegistreerumisel võimalus saada tasuta EPA 2021 elektrooniline messipääse. \nKonverentsi korraldamist toetab Euroopa Liit. \nLisainformatsioon: Meelika Sander-Sõrmus\, EPKK põllumajandusvaldkonna juht\,\ntel. 555 33 789\, e-post: meelika@epkk.ee.
URL:https://test.pikk.ee/sundmus/epkk-metsandusfoorum-2021/
CATEGORIES:Metsandus
END:VEVENT
BEGIN:VEVENT
DTSTART;TZID=Europe/Tallinn:20211014T100000
DTEND;TZID=Europe/Tallinn:20211014T123000
DTSTAMP:20260420T231447
CREATED:20210929T132346Z
LAST-MODIFIED:20211019T083954Z
UID:10008007-1634205600-1634214600@test.pikk.ee
SUMMARY:EPKK infopäev „Loomatervisealased uued õigusaktid“
DESCRIPTION:Eesti Põllumajandus-Kaubanduskoja infopäev „Loomatervisealased uued õigusaktid“   \nAeg: 14. oktoober 2021 kell 10.00 – 12.30 \nKoht: EPA raames ERMis (ruumis Helmi Kurrik) \n  \nPÄEVAKAVAS \n10.00 – 10.45  Uus õigusruum (EL Loomatervise määrus\, veterinaarseaduse eelnõu ja EL veterinaarravimite määrus) – Enno Piisang\, Maaeluministeerium\n10.45 – 11.30  Loomatervishoid – ELi loomatervise määrus (2016/429) ja nõudmised loomapidajale – Anne-Ly Veetamm\, Põllumajandus ja Toiduamet\n11.30 – 11.45  Kohvipaus\n11.45 – 12.30  Loomade heaolu (loomade nõuetekohane pidamine ja loomade nõuetekohase pidamise kohustuse ülevõtmine; loomade nõuetekohane vedu (eeltingimused\, osapoolte vastutus ja kohustused)) – Olev Kalda\, Põllumajandus ja Toiduamet \n  \nRegistreerimine on avatud kuni 8. oktoobri õhtuni SIIN. \nVarane registreerimise kuupäev on tingitud toitlustuse tellimuse esitamise tähtajast! \nInfopäeval osalemine on TASUTA. \n  \nInfopäev toimub MAK 2014-2020 meetme „Teadmussiirde pikaajaline programm põllumajanduse\, toidu ja maamajanduse tegevusvaldkonnas“ raames; Rahastamisallikas: Euroopa Maaelu Põllumajandusfond (EAFRD). \nLisainformatsioon: EPKK projektijuht Maire Vimb – 50 86 664 või maire@epkk.ee
URL:https://test.pikk.ee/sundmus/epkk-infopaev-loomatervisealased-uued-oigusaktid/
CATEGORIES:Loomakasvatus
END:VEVENT
BEGIN:VEVENT
DTSTART;TZID=Europe/Tallinn:20211014T100000
DTEND;TZID=Europe/Tallinn:20211014T133000
DTSTAMP:20260420T231447
CREATED:20210927T072052Z
LAST-MODIFIED:20211017T092242Z
UID:10008000-1634205600-1634218200@test.pikk.ee
SUMMARY:Infopäev  Finantsteadmised loomapidamisettevõttes
DESCRIPTION:Infopäev toimub 14. oktoobril 2021 Tartus\, hotelli Sophia Põhja saalis (Ringtee 75\, 50407 Tartu) \nRegistreerimine: SIIN \nInfopäeval käsitletakse loomapidamisettevõttet puudutavaid finantsteadmiseid. \nAjakava:\n9.45 – 10.00 kogunemine\n10.00 – 11.30 infopäeva ettekanded\n11.30 – 11.45 paus\n11.45 – 13.15 infopäeva ettekanded \nEttekanne \nLektor Maire Nurmet \nInfopäev on osavõtjatele tasuta. \nKorraldaja Maaelu Edendamise Sihtasutus \nInfopäev toimub Teadmussiirde pikaajalise programmi loomakasvatuse valdkonnas raames ja on sihtgrupile tasuta. \n  \nNakkusohutuse tagamisel lähtume Vabariigi Valitsuse juhistest ning osalemiseks on vaja esitada tõend vaktsineerimise/ läbi põdemise kohta või negatiivne koroonaviiruse testi tulemus. \nOhutu ja nakatumisvaba ürituse tagamiseks järgime valitsuse poolt kehtestatud COVID-19 reegleid. Palume saabuda varem\, et esitada COVID tervisetõend. \nNendel\, kes ei ole vaktsineeritud või kellel puudub laboris tehtud test\, on võimalik võimalik teha kohapeal tasuline kiirtest. Kohapeal on võimalus teha kiirtesti kl 9.30 -10.00. Tasumine sularahas! Positiivse koroonatesti puhul üritustest osa võtta ei lubata. \n 
URL:https://test.pikk.ee/sundmus/infopaev-finantsteadmised-loomapidamisettevottes-3/
LOCATION:Tartu\, Eesti
ORGANIZER;CN="Maaelu Edendamise Sihtasutus":MAILTO:angelika.nops@pikk.ee
END:VEVENT
BEGIN:VEVENT
DTSTART;TZID=Europe/Tallinn:20211014T103000
DTEND;TZID=Europe/Tallinn:20211014T113000
DTSTAMP:20260420T231447
CREATED:20211001T144319Z
LAST-MODIFIED:20211001T144447Z
UID:10009962-1634207400-1634211000@test.pikk.ee
SUMMARY:EPKK seminar „Toitainete bilanss – tähtsus põllumajanduses\, võimalikud lähenemised ja kalkulaatorid“
DESCRIPTION:Eesti Põllumajandus-Kaubanduskoja seminar „Toitainete bilanss – tähtsus põllumajanduses\, võimalikud lähenemised ja kalkulaatorid“ \nAeg ja koht:\n14.10.2021 kell 10:30-11:30 Eesti Rahva Muuseumi Gustav Ränki auditooriumis\nSihtgrupp:\npõllumajandustootjad\, taimekasvatusjuhid\, agronoomid\nEsineja:\nAlar Astover\, Eesti Maaülikooli mullateaduse õppetooli juht \nTeemad/päevakava: \n\nÜlevaade toitainete bilansi tähtsusest põllumajanduses\, võimalikest lähenemistest ja kalkulaatoritest\nEMÜ äsjavalminud toitainete bilansikalkulaatori ja selle testimise võimaluste tutvustamine\nArutelu\n\nSeminari taust ja lisainfo:\nEesti Põllumajandus-Kaubanduskoda koostöös Eesti Maaülikooli ja Tallinna Tehnikaülikooliga LIFE IP CleanEST projekti raames on koostamas põllumajandustootjatele juhendmaterjali EMÜ äsjavalminud toitainete bilansikalkuklaatori kasutamiseks. Selleks\, et kalkulaator vastaks tootjate vajadusele ja oleks kasutajasõbralik pakume võimalust osaleda tasuta toitainete bilansikalkulaatori testimisel. \nSeminaril selgitame erinevate bilansikalkulaatorite võimalusi ning tulemuste tõlgendamise võimalusi nii keskkonnamõju hindamise kui väetamise optimeerimise valguses. \nNB! Registreerige seminaril osalemise soov kuni 10. oktoobri tööpäeva lõpuni SIIN. \nLisainfo: Riina Maruštšak\, e-post: riina@epkk.ee\, tel +372 600 9315.
URL:https://test.pikk.ee/sundmus/epkk-seminar-toitainete-bilanss-tahtsus-pollumajanduses-voimalikud-lahenemised-ja-kalkulaatorid-2/
CATEGORIES:Keskkond
END:VEVENT
BEGIN:VEVENT
DTSTART;TZID=Europe/Tallinn:20211014T103000
DTEND;TZID=Europe/Tallinn:20211014T124500
DTSTAMP:20260420T231447
CREATED:20211001T140735Z
LAST-MODIFIED:20211004T061220Z
UID:10008024-1634207400-1634215500@test.pikk.ee
SUMMARY:EPKK infopäev „Maapoliitika aktuaalsed küsimused“
DESCRIPTION:Eesti Põllumajandus-Kaubanduskoja infopäev „Maapoliitika aktuaalsed küsimused“\nAeg: 14. oktoober kell 10.30 – 12.45\nKoht: EPA raames ERM-i B-osa Teatrisaal\nModeraator: Jaak Läänemets \nPÄEVAKAVAS: \n\nRiigimaa enampakkumised (rent ja müük) – Anu Jürgenson\, Maa-amet\nRiigimaa kasutusvalduste väljaostmisest\, pikendamisest ja sellega seonduvast – Heleri Kivi\, Maa-amet\nVäärtuslik põllumaa – Helve Hunt\, Maaeluministeerium\nPõllumajanduslike maade masshindamine 2022. aastal – Johannes Nõupuu\, Maa-amet\n\nRegistreerimine on avatud kuni 10. oktoobrini SIIN.\nInfopäeval osalemine on TASUTA. \nKonverentsi korraldamist toetab Euroopa Liit. \nLisainformatsioon: Kaisa Vahtmäe\, EPKK põllumajandusvaldkonna nõunik\, mob 5196 4675\, kaisa@epkk.ee.
URL:https://test.pikk.ee/sundmus/epkk-infopaev-maapoliitika-aktuaalsed-kusimused/
CATEGORIES:Muu
END:VEVENT
BEGIN:VEVENT
DTSTART;TZID=Europe/Tallinn:20211014T130000
DTEND;TZID=Europe/Tallinn:20211014T163000
DTSTAMP:20260420T231447
CREATED:20211001T135333Z
LAST-MODIFIED:20211006T084132Z
UID:10008022-1634216400-1634229000@test.pikk.ee
SUMMARY:EPKK Maheturu aastakonverents 2021
DESCRIPTION:Eesti Põllumajandus-Kaubanduskoja Maheturu aastakonverents 2021\nAeg: 14. oktoober kell 13.00-16.30\nKoht: EPA raames ERM-i A-osa Jakob Hurda saal\nModeraator: Elen Peetsmann\, SA Eesti Maaülikooli Mahekeskuse juhataja \nMaheturu aastakonverentsi 2021 läbivaks teemaks on mahetooraine väärindamine. \nPÄEVAKAVA\n13.00 – 13.10 Tervitussõnad – Roomet Sõrmus\, EPKK\n13.10 – 13.30 ÜPP 2021-27 meetmed mahesektori arendamiseks – Sigmar Suu\, Maaeluministeerium\n13.30 – 14.00 Maheturu arengud rahvusvahelisel tasandil – Helga Willer\, Research Institute of Organic Agriculture FiBL\n14.00 – 14.30 Mahetoodete nõudlus Eesti turul – Merit Mikk\, Eesti Mahepõllumajanduse Koostöökogu\n14.30 – 15.00 Paus\n15.00 – 15.20 Mis võiks olla Eesti mahetootja eelised ja kuidas neid mahetooteid lõpp bränditult eksportida üle maailma? – Siim Kabrits\, Chaga OÜ\n15.20 – 15.40 Maheliha väärindamise võimalused ja kitsaskohad – Marko Hiiemäe\, AS Linnamäe Lihatööstus\n15.40 – 16.20 Arutelu paneel. Mahetoodete väärindamise võimalused ja kitsaskohad\n16.20 – 16.30 Konverentsi lõpetamine \nRegistreerimine on avatud kuni 6. oktoobri õhtuni SIIN.\nOsalemine on TASUTA.\nRegistreerunutele saadame elektroonilise messipääsme.\nKonverentsi korraldamist toetab Euroopa Liit.\nLisainformatsioon: Kaisa Vahtmäe\, EPKK põllumajandusvaldkonna nõunik\, mob 5196 4675\, kaisa@epkk.ee.
URL:https://test.pikk.ee/sundmus/epkk-maheturu-aastakonverents-2021/
CATEGORIES:Loomakasvatus,Maaettevõtlus,Taimekasvatus
END:VEVENT
END:VCALENDAR