BEGIN:VCALENDAR
VERSION:2.0
PRODID:-//METK nõuandeteenistus - ECPv6.15.13//NONSGML v1.0//EN
CALSCALE:GREGORIAN
METHOD:PUBLISH
X-WR-CALNAME:METK nõuandeteenistus
X-ORIGINAL-URL:https://test.pikk.ee
X-WR-CALDESC:Events for METK nõuandeteenistus
REFRESH-INTERVAL;VALUE=DURATION:PT1H
X-Robots-Tag:noindex
X-PUBLISHED-TTL:PT1H
BEGIN:VTIMEZONE
TZID:Europe/Tallinn
BEGIN:DAYLIGHT
TZOFFSETFROM:+0200
TZOFFSETTO:+0300
TZNAME:EEST
DTSTART:20200329T010000
END:DAYLIGHT
BEGIN:STANDARD
TZOFFSETFROM:+0300
TZOFFSETTO:+0200
TZNAME:EET
DTSTART:20201025T010000
END:STANDARD
BEGIN:DAYLIGHT
TZOFFSETFROM:+0200
TZOFFSETTO:+0300
TZNAME:EEST
DTSTART:20210328T010000
END:DAYLIGHT
BEGIN:STANDARD
TZOFFSETFROM:+0300
TZOFFSETTO:+0200
TZNAME:EET
DTSTART:20211031T010000
END:STANDARD
BEGIN:DAYLIGHT
TZOFFSETFROM:+0200
TZOFFSETTO:+0300
TZNAME:EEST
DTSTART:20220327T010000
END:DAYLIGHT
BEGIN:STANDARD
TZOFFSETFROM:+0300
TZOFFSETTO:+0200
TZNAME:EET
DTSTART:20221030T010000
END:STANDARD
END:VTIMEZONE
BEGIN:VEVENT
DTSTART;TZID=Europe/Tallinn:20211017T100000
DTEND;TZID=Europe/Tallinn:20211017T140000
DTSTAMP:20260420T230617
CREATED:20211011T081129Z
LAST-MODIFIED:20211029T111334Z
UID:10009973-1634464800-1634479200@test.pikk.ee
SUMMARY:Infopäev Bioturvalisuse kava koostamine linnukasvatusettevõttes (toimub veebis)
DESCRIPTION:Infopäev teemal „Bioturvalisuse kava koostamine linnukasvatusettevõttes“ toimub 17. oktoobril 2021 Veebis \nRegistreerimine SIIN \nNõutav eelregistreerimine hiljemalt 15.10.2021 kell 17. 00 Koolitusele sisenemisel link saadetakse registreerunud kasutajatele enne koolituse algust meilile. \nAjakava\n9.45-10.00 sisenemine Zoomi\n10.00-11.30 ettekanne\n11.30-11.45 paus\n11.45-14.00 ettekanne\, küsimused ja arutelu \nEttekanne osa 1\, osa 2\, osa 3 \nInfopäeva lektor on Janek Prits\, kes on Foodest Baltic OÜ ja Estfarm OÜ juht\, Eesti Linnukasvatajate Selts’i juhatuse liige. Tegeleb linnukasvatusega\, omab erinevate linnuliikide- ja tõugude kollektsiooni. Estfarm OÜ on EMÜ teadus- ja õppebaas ning ainus eesti vuti aretusfarm Eestis. Omab põllumajandustootja 4 ja 5 taseme kutset linnukasvatuse erialal. Omab Veterinaar- ja Toiduameti poolt väljastatud kodulindude\, jäneseliste\, veiste\, sigade\, lammaste tapatoimingute teostaja pädevustunnistust ning lindude ja loomade veo\, juhtide ja vedajate pädevustunnistust. On tegev Järvamaa Kutsehariduskeskuses linnukasvatuse ja karusloomakasvatuse küülikukasvatusvaldkonna 4 ja 5 kutsetaseme erialaõppejõuna. \nInfopäev toimub MAK 2014-2020 meetme „Teadmussiirde pikaajaline programm loomakasvatuse tegevusvaldkonnas II “ raames ja on sihtgrupile tasuta. \n 
URL:https://test.pikk.ee/sundmus/infopaev-bioturvalisuse-kava-koostamine-linnukasvatusettevottes-toimub-veebis/
LOCATION:Veebis\, Eesti
ORGANIZER;CN="Maaelu Edendamise Sihtasutus":MAILTO:angelika.nops@pikk.ee
END:VEVENT
END:VCALENDAR