BEGIN:VCALENDAR
VERSION:2.0
PRODID:-//METK nõuandeteenistus - ECPv6.15.13//NONSGML v1.0//EN
CALSCALE:GREGORIAN
METHOD:PUBLISH
X-WR-CALNAME:METK nõuandeteenistus
X-ORIGINAL-URL:https://test.pikk.ee
X-WR-CALDESC:Events for METK nõuandeteenistus
REFRESH-INTERVAL;VALUE=DURATION:PT1H
X-Robots-Tag:noindex
X-PUBLISHED-TTL:PT1H
BEGIN:VTIMEZONE
TZID:Europe/Tallinn
BEGIN:DAYLIGHT
TZOFFSETFROM:+0200
TZOFFSETTO:+0300
TZNAME:EEST
DTSTART:20200329T010000
END:DAYLIGHT
BEGIN:STANDARD
TZOFFSETFROM:+0300
TZOFFSETTO:+0200
TZNAME:EET
DTSTART:20201025T010000
END:STANDARD
BEGIN:DAYLIGHT
TZOFFSETFROM:+0200
TZOFFSETTO:+0300
TZNAME:EEST
DTSTART:20210328T010000
END:DAYLIGHT
BEGIN:STANDARD
TZOFFSETFROM:+0300
TZOFFSETTO:+0200
TZNAME:EET
DTSTART:20211031T010000
END:STANDARD
BEGIN:DAYLIGHT
TZOFFSETFROM:+0200
TZOFFSETTO:+0300
TZNAME:EEST
DTSTART:20220327T010000
END:DAYLIGHT
BEGIN:STANDARD
TZOFFSETFROM:+0300
TZOFFSETTO:+0200
TZNAME:EET
DTSTART:20221030T010000
END:STANDARD
END:VTIMEZONE
BEGIN:VEVENT
DTSTART;TZID=Europe/Tallinn:20211117T080000
DTEND;TZID=Europe/Tallinn:20211119T170000
DTSTAMP:20260421T012923
CREATED:20211027T153443Z
LAST-MODIFIED:20211027T153443Z
UID:10009998-1637136000-1637341200@test.pikk.ee
SUMMARY:Taimekaitse aluskoolitus professionaalsele kasutajale (22 t)
DESCRIPTION:Taimekaitse aluskoolitus professionaalsele kasutajale (22 t) \nKoolitus toimub 17.-19. november 2021\nKoolitajad: Kaja Marrandi\, Marek Kõbu\nKoolitusele registreerimine toimub SIIT \nTäiendav info:\nRuth Türk\nruth.turk@jkhk.ee\n+372 5329 2188
URL:https://test.pikk.ee/sundmus/taimekaitse-aluskoolitus-professionaalsele-kasutajale-22-t-9/
LOCATION:Järvamaa\, Järvamaa\, Eesti
CATEGORIES:Taimekaitse
GEO:58.8866713;25.5000624
END:VEVENT
BEGIN:VEVENT
DTSTART;VALUE=DATE:20211118
DTEND;VALUE=DATE:20211120
DTSTAMP:20260421T012923
CREATED:20211130T160842Z
LAST-MODIFIED:20211130T160842Z
UID:10010038-1637193600-1637366399@test.pikk.ee
SUMMARY:2-päevane kvaliteedijuhtimissüsteemi siseaudiitorite koolitus
DESCRIPTION:Kvaliteedijuhtimissüsteemi siseaudiitorite koolitus \nKoolituse toimumise aeg: 18.-19. november 2021. \nToimumise koht: TJO Konsultatsioonid OÜ ruumides\, (aadressil: Väike – Paala 1\, Tallinn) \nKoolituse sihtgrupp: toidutöötlejad \nKestvus: 2 koolituspäeva.  Koolitus\, õppeauditid ning sellele järgnevad arutelud on jagatud kokku kahele päevale. \n  \nPalun regisrtreeruge SIIT LINGILT\, sest kohtade arv on piiratud! \nKoolituse eesmärk on anda osalejatele teadmised\, oskused ja vilumus juhtimissüsteemi tulemuslike\nsiseauditite ettevalmistamiseks\, läbiviimiseks ja kokkuvõtete tegemiseks.\nKoolituse sihtgrupp: toidutöötlejad\nToimumiskoht: TJO Konsultatsioonid OÜ ruumides\, (aadressil: Väike – Paala 1\, Tallinn)\nKestvus: 2 koolituspäeva. Koolitus\, õppeauditid ning sellele järgnevad arutelud on jagatud kokku\nkahele päevale.\n \nPÄEVAKAVA 1.päev\nKoolitaja ja audiitorite juhendaja: Ain Reinbusch\n10.00 – 10.05 Sissejuhatus koolituspäeva\n10.05 – 11.30 Auditeerimise mõisted ja olemus\nOsalejate ettevalmistamine kvaliteedijuhtimissüsteemi siseauditite läbiviimiseks\, kus peatutakse\nauditeerimise alustel\n11.30 – 11.45 Kohvipaus\n11.45 – 13.15 Lühiülevaade standardi ISO 9001:2015 nõuetest (audiitori vaates)\nLühiülevaade ISO 9001:2015 nõuetest\, millele peaks audiitorid auditeerimisel tähelepanu pöörama\n13.15 – 13.45 Lõuna\n13.45 – 15.15 Tulemusliku siseauditi ettevalmistamisel kasutatavad tehnikad\nOsalejate ettevalmistamine kvaliteedijuhtimissüsteemi siseauditite läbiviimiseks\, kus käsitletakse\nauditeerimise protsessi ja etappe ning auditeerimise ettevalmistamisega seonduvaid tehnikaid\n15.15 – 15.30 Kohvipaus\n15.30 – 16.45 Grupitöö\nOsalejad jagunevad gruppidesse ning viiakse kogenud juhendaja toetusel läbi dokumentatsiooni\naudit ja järgmise päeva õppeauditi ettevalmistus näidisjuhtumi baasil\n16.45 – 17.00 Koolituspäeva kokkuvõte \n  \nPÄEVAKAVA 2.päev\nKoolitaja ja audiitorite juhendaja: Ain Reinbusch\n10.00 – 10.05 Sissejuhatus koolituspäeva\n10.05 – 11.30 Praktiline ülevaade auditi läbiviimise tehnikatest\, häälestamine auditi läbiviimisele\nOsalejate ettevalmistamine kvaliteedijuhtimissüsteemi siseauditite läbiviimiseks\, kus käsitletakse\nauditeerimise läbiviimisega seonduvaid tehnikaid\n11.30 – 11.45 Kohvipaus\n11.45 – 13.15 Praktiline õppeaudit kogenud juhendaja toetusel\nPraktilise õppeauditi läbiviimine – isikute intervjueerimine\, tõendusdokumentide läbivaatamine\n13.15 – 13.45 Lõuna\n13.45 – 15.15 Auditile järgnevad tegevused ning järelauditite läbiviimine\nAuditi tulemuste analüüsimine ja vormistamine (auditi koondaruannete vormistamine\,\nmittevastavuste sõnastamine ja auditi töödokumendid)\n15.15 – 15.30 Kohvipaus\n15.30 – 16.45 Eksam\n16.45 – 17.00 Koolituse kokkuvõte
URL:https://test.pikk.ee/sundmus/2-paevane-kvaliteedijuhtimissusteemi-siseaudiitorite-koolitus/
END:VEVENT
BEGIN:VEVENT
DTSTART;TZID=Europe/Tallinn:20211118T100000
DTEND;TZID=Europe/Tallinn:20211119T170000
DTSTAMP:20260421T012923
CREATED:20211110T151953Z
LAST-MODIFIED:20211110T152552Z
UID:10008062-1637229600-1637341200@test.pikk.ee
SUMMARY:Kvaliteedijuhtimissüsteemi siseaudiitorite koolitus
DESCRIPTION:Toimumisaeg: 18. – 19. november \nToimumiskoht: TJO Konsultatsioonid OÜ ruumides\, (aadressil: Väike – Paala 1\, Tallinn) \nKestvus: 2 koolituspäeva. Koolitus\, õppeauditid ning sellele järgnevad arutelud on jagatud kokku\nkahele päevale. \nKoolituse sihtgrupp: toidutöötlejad \n  \nKoolituse eesmärk on anda osalejatele teadmised\, oskused ja vilumus juhtimissüsteemi tulemuslike siseauditite ettevalmistamiseks\, läbiviimiseks ja kokkuvõtete tegemiseks.\n \n  \nPalun registreeruge SIIT LINGILT\, sest kohtade arv on piiratud \n\nPÄEVAKAVA 1. päev \nKoolitaja ja audiitorite juhendaja: Ain Reinbusch \n10.00 – 10.05     Sissejuhatus koolituspäeva\n10.05 – 11.30      Auditeerimise mõisted ja olemus. Osalejate ettevalmistamine kvaliteedijuhtimissüsteemi siseauditite läbiviimiseks\, kus peatutakse auditeerimise alustel.\n11.30 – 11.45      Kohvipaus\n11.45 – 13.15       Lühiülevaade standardi ISO 9001:2015 nõuetest (audiitori vaates). Lühiülevaade ISO 9001:2015 nõuetest\, millele peaks audiitorid auditeerimisel tähelepanu pöörama.\n13.15 – 13.45      Lõuna\n13.45 – 15.15      Tulemusliku siseauditi ettevalmistamisel kasutatavad tehnikad. Osalejate ettevalmistamine kvaliteedijuhtimissüsteemi siseauditite läbiviimiseks\, kus käsitletakse auditeerimise protsessi ja etappe ning auditeerimise ettevalmistamisega seonduvaid tehnikaid.\n15.15 – 15.30     Kohvipaus\n15.30 – 16.45    Grupitöö. Osalejad jagunevad gruppidesse ning viiakse kogenud juhendaja toetusel läbi dokumentatsiooni audit ja järgmise päeva õppeauditi ettevalmistus näidisjuhtumi baasil\n16.45 – 17.00    Koolituspäeva kokkuvõte \n  \nPÄEVAKAVA 2. päev \nKoolitaja ja audiitorite juhendaja: Ain Reinbusch \n10.00 – 10.05    Sissejuhatus koolituspäeva\n10.05 – 11.30     Praktiline ülevaade auditi läbiviimise tehnikatest\, häälestamine auditi läbiviimisele. Osalejate              ettevalmistamine kvaliteedijuhtimissüsteemi siseauditite läbiviimiseks\, kus käsitletakse                                            auditeerimise läbiviimisega seonduvaid tehnikaid.\n11.30 – 11.45      Kohvipaus\n11.45 – 13.15      Praktiline õppeaudit kogenud juhendaja toetusel. Praktilise õppeauditi läbiviimine – isikute intervjueerimine\, tõendusdokumentide läbivaatamine.\n13.15 – 13.45      Lõuna\n13.45 – 15.15      Auditile järgnevad tegevused ning järelauditite läbiviimine. Auditi tulemuste analüüsimine ja vormistamine (auditi koondaruannete vormistamine\,\nmittevastavuste sõnastamine ja auditi töödokumendid)\n15.15 – 15.30      Kohvipaus\n15.30 – 16.45     Eksam\n16.45 – 17.00     Koolituse kokkuvõte \n  \nCOVID-19 piirangutest tulenev info\nSeoses avalike ürituste korraldamisele seatud piirangutega saame infopäevale lubada vaid vaktsineeritud või COVID-19 haiguse läbi põdenud inimesed (Osalejatel peab olema kas läbipõdemist või vaktsineerimist tõendav sertifikaat\, mis tuleb esitada koos ID-kaardiga). Vastavad tõendid saab luua patsiendiportaalis digilugu.ee ning on kohustuslikud ettenäitamiseks kõigile üritusel osalejatele. Kohapeal kehtib maskikandmise kohustus. Samuti on olemas võimalus käsi desotada.
URL:https://test.pikk.ee/sundmus/kvaliteedijuhtimissusteemi-siseaudiitorite-koolitus-2/
END:VEVENT
BEGIN:VEVENT
DTSTART;TZID=Europe/Tallinn:20211119T090000
DTEND;TZID=Europe/Tallinn:20211119T123000
DTSTAMP:20260421T012923
CREATED:20210922T130217Z
LAST-MODIFIED:20220707T062519Z
UID:10009945-1637312400-1637325000@test.pikk.ee
SUMMARY:Salmonella spp toidupatogeenina (veebipõhine kursus)
DESCRIPTION:Täpsem info ja registreerumine SIIT \nProfessor Mati Roasto koolitus annab ülevaate väga olulise toidupatogeeni\, Salmonella spp\, esinemisest toidu käitlemise ahelas; patogeeni ohjemeetmetest ja hävitamisest. \nKoolitusel käsitletavad teemad: \n\nSalmonella spp toidupatogeenina\nSalmonella haiguspuhangute näiteid\nSalmonella ohjemeetmed\nSalmonella toiduohutuse kriteeriumid\nSalmonella probleemide ennetamise võimalused\nSalmonellade hävitamine toidus\n\nTäienduskoolitusest võivad osa võtta: \n\npõllumajandustoodete töötlemise või turustamisega tegelev füüsilisest isikust ettevõtja ja tema töötaja ning eraõigusliku juriidilise isiku osanik\, aktsionär\, liige\, juhtorgani liige ja tema töötaja;\npõllumajandustoodetest mittepõllumajandustoodete töötlemise sh toidu valmistamise või töötlemisega tegelev füüsilisest isikust ettevõtja ja tema töötaja ning eraõigusliku juriidilise isiku osanik\, aktsionär\, liige\, juhtorgani liige ja tema töötaja;\ntoidu valmistamise või töötlemisega tegelev avalik-õigusliku juriidilise isiku juhtorgani liige või töötaja;\npõllumajandustootjate valdkonda teenindavad isikud (nt kokkuostuga tegelevate ettevõtete töötajad);\nisikud (FIE-d või ettevõtte esindajad)\, kes koguvad teadmisi uue tegevusvaldkonna kohta;\npõllumajanduslike esindus- ja erialaorganisatsioonide (MTÜ-d\, mille liikmeteks on põllumajandussaaduste töötlejad) juhatuse liikmed ja töötajad.\n\nFüüsiliste isikute ja riigiametnike täienduskoolitusel osalemine ei ole toetatav! \nKoolitus toimub MAK 2014-2020 meetme “Teadmussiirde pikaajaline programm põllumajanduse\, toidu ja maamajanduse tegevusvaldkonnas” toidu ja toiduohutuse valdkonna raames\, toetab Euroopa Liit. \nKoolitusel osalemine on vähese tähtsusega abi (VTA). Abisumma ühe osavõtja kohta arvutatakse osavõtjate lõpliku arvu järgi\, kuid see ei ületa 250 eurot. \nEttevõtte VTA vaba jääki saab kontrollida SIIT \nKui osaleja ettevõttel ei ole piisavalt VTA vaba jääki\, siis on osalemise eest antav toetus riigiabi ning sellisel juhul tuleb ettevõttel esitada enne tegevuse toimumist riigiabi taotlus (vormi saab korraldajalt).\nKeskmise suurusega ettevõtja korral toetatakse infopäeval või koolitusel osalemist 60%\, mikro-ja väikeettevõtja korral 70% ning suurettevõtja korral 50% ulatuses osaleja kohta.\nPuudujääv osa tuleb osalejal/ettevõttel endal tasuda. \n. \nKoolituse korraldaja:\nEesti Maaülikooli avatud ülikool\nFr. R. Kreutzwaldi 56/1\n51006 Tartu\,\ntel 731 3275\ne-post: avayl@emu.ee\nhttp://avatudylikool.emu.ee/
URL:https://test.pikk.ee/sundmus/salmonella-spp-toidupatogeenina-veebipohine-kursus/
LOCATION:Veebis\, Eesti
CATEGORIES:Toiduainete tootmine
END:VEVENT
BEGIN:VEVENT
DTSTART;TZID=Europe/Tallinn:20211119T090000
DTEND;TZID=Europe/Tallinn:20211119T123000
DTSTAMP:20260421T012923
CREATED:20210930T120224Z
LAST-MODIFIED:20220226T080206Z
UID:10008015-1637312400-1637325000@test.pikk.ee
SUMMARY:Koolitus "Sotsiaalsed oskused rasketel kõnelustel ja vaimse töövormi hoidmine"
DESCRIPTION:Koolitusel tutvustakse erinevaid sotsiaalse käitumise mudeleid\, eeskätt nende rakendamist raskete kõneluste kontekstis ning õpetatakse kasutama hea vaimse töövormi hoidmise eneseabivahendeid. \nAeg: 19. novembril 2021\, kl 9:00 – 12:30 \nToimumiskoht:  veebis (Zoom) \nKoolitaja: Kristel Jalak (PhD) ja Annika Jalak (MS) \nRegistreerimine avatud 15. novembrini. Reistreerumise link allpool. Kohtade arv on piiratud. \n  \nKoolitus on suunatud põllumajandustoodete tootmise ja töötlemise\, põllumajandusmaa hooldamise\, põllumajandustoodetest mittepõllumajandustoodete töötlemise või metsa majandamisega tegelevate keskastmejuhtide või väikeettevõtjatele ja mittepõllumajandusliku ettevõtlusega tegelevatele mikroettevõtjatele. \nKoolitusel käsitletavad teemad \n\nSissejuhatus\, soojendus.\nInimeste käitumismustrid. Manipulatiivsed käitumisviisid.\nPeamised sotsiaalsed oskused raskete kõneluste pidamiseks ja konfliktide lahendamiseks.\nRaske kõneluse tunnused ja komponendid. Vestluse ettevalmistus ja läbiviimine.\nVastupanu olemus ja selle maandamise tehnikad.\nVaimse heaolu komponendid\, nn heaoluratta analüüs. Töövormi hoidmise võimalused. Eneseabi ja toetuse saamise võimalused vaimse tervise säilitamiseks.\n\nKoolitajad: \nKristel Jalak\, (PhD Agri) – põllumajandusharidusega\, 30-aastase praktilise juhtimise kogemusega ning 20-aastase inimeste arendamise ja koolitamise kogemusega konsultant ja koolitaja. Töötanud kõikidel juhtimistasanditel\, sh juhtkonna liikmena rahvusvahelistes suurkorporatsioonides (PepsiCo\, Cleanaway/Brambles Group\, Enics) ja Eesti avalikus teenistused (PRIA\, HTM). Täiskasvanute koolitaja ja suhtlemistreeneri (videotreeneri) kogemus alates 1999. aastast. Läbinud Hancocki esinemisoskuste treeneri väljaõppe Moskvas ja Londonis ning Bowperson aktiivmeetodite väljaõppe Londonis. Aasta Koolitaja 2019. Kristeli kvalifikatsiooni kohta leiate rohkem infot www.developdesign.eu \nAnnika Jalak\, (MS) – Sotsioloogia magister\, omandamas teist magistrikraadi info- ja teadmusjuhtimises. 10-aastane uuringute\, sh 360o tagasiside uuringute ettevalmistamise ja läbiviimise kogemus. Peamised koolitusteemad: mõjutamisoskused\, tagasiside\, suhtlemis- ja esinemisoskused. Läbinud suhtlemistreenerite kvalifikatsiooniprogrammi. Täiskasvanute koolitaja alates 2013. Annika kvalifikatsiooni kohta leiate rohkem infot www.developdesign.eu \n  \nInfopäev toimub MAK 2014-2020 „Teadmussiirde programm põllumajanduse\, toidu ja maamajanduse tegevusvaldkonnas“  raames\, toetab Euroopa Liit.
URL:https://test.pikk.ee/sundmus/koolitus-sotsiaalsed-oskused-rasketel-konelustel-ja-vaimse-toovormi-hoidmine-2/
LOCATION:Muu\, Eesti
CATEGORIES:Maaettevõtlus,Muu,Ühistegevus
GEO:58.595272;25.0136071
END:VEVENT
BEGIN:VEVENT
DTSTART;TZID=Europe/Tallinn:20211119T090000
DTEND;TZID=Europe/Tallinn:20211119T170000
DTSTAMP:20260421T012923
CREATED:20210903T081348Z
LAST-MODIFIED:20211103T072932Z
UID:10009920-1637312400-1637341200@test.pikk.ee
SUMMARY:2. Taimekaitse täienduskoolitus professionaalsele taimekaitsevahendite kasutajale (11h)
DESCRIPTION:Räpina Aianduskooli korraldab järgmised TAIMEKAITSE koolitused. \nI Räpina Aianduskool osaleb Eesti maaelu arengukava 2014–2020 meetme 1 “Teadmussiire ja teavitus” tegevuse „Pikaajalised programmid” hankes. Kursused viiakse läbi “Taimekasvatuse Teadmussiirde Programmi” raames ning on sihtgruppi kuuluvale osalejale tasuta.\nMaaeluministri 17.06.2015 määruse nr 68 „Teadmussiirde ja teavituse toetus“ § 5 lg 7 kohaselt \nvõivad TASUTA täienduskoolitusest osa võtta põllumajandustoodete tootmise\, töötlemise ja turustamise\, \npõllumajandusmaa hooldamise\, põllumajandustoodetest mittepõllumajandustoodete töötlemise\, sealhulgas \ntoidu valmistamine või töötlemine\, või metsa majandamisega seotud või tegelev füüsilisest isikust ettevõtja\nja tema töötaja\, eraõigusliku juriidilise isiku osanik\, aktsionär\, liige\, juhtorgani liige ja tema töötaja\, metsa \nmajandamisega tegelev füüsiline isik või toidu valmistamise või töötlemisega tegeleva avalik-õigusliku \njuriidilise isiku juhtorgani liige või töötaja.\nKoolitus: 1. Taimekaitse täienduskoolitus professionaalsele taimekaitsevahendite kasutajale\n(11h)\nToimumise aeg: N\, 15.oktoober 2021\, algusega kell 9.00.\nToimumise koht: Tartumaa Põllumeeste Liit\, Jalaka 48\, Tartu \n2. Taimekaitse täienduskoolitus professionaalsele taimekaitsevahendite kasutajale (11h)\nToimumise aeg: K\, 19.november 2021\, algusega kell 9.00\nToimumise koht: Võrus\, Räpina mnt. 12\, MTÜ Võluvõru Võrumaa Rahvaülikoolis. \nKursused on sihtgruppi kuuluvale osalejale TASUTA juhul kui õppegrupp täitub. Tasuta õppekohti 15.\nKui tasuta õppekohad on täitunud\, siis on võimalus registreeruda koolituse tasulisele õppekohale.\nNB! Vajalik eelregistreerimine\, sest kohtade arv on siiski piiratud. Registreerimine kursusele lõpetatakse 5 tööpäeva enne koolituse algust või õppegrupi täitumisel.\nTäpsem info ja kursusele registreerimine toimub Räpina Aianduskooli kodulehel\nhttps://www.aianduskool.ee/taimekaitse-taienduskoolitus-profile-veebikoolitus/ \nvõi tel: 796 1549 ja 5346 1209 \nII Räpina Aianduskool korraldab 23. septembril koolituse „Taimekaitse turustajale“ (11h).\nKoolitus toimub Tartus\, Jalaka 48\, Tartumaa Põllumeeste Liidu ruumides algusega kell 9.00 Kursusele on\noodatud nii turustaja taimekaitsetunnistuse taotlejad kui ka pikendajad.NB! Kaasa võtta sülearvuti (vajadusel ka pikendusjuhe) ning isikut tõendav dokument.\nVajalik eelregistreerimine\, sest kohtade arv on siiski piiratud. Registreerimine kursusele lõpetatakse\n5 tööpäeva enne koolituse algust või õppegrupi täitumisel. \nTäpsem info ja kursusele registreerimine toimub Räpina Aianduskooli kodulehel\nhttps://www.aianduskool.ee/taimekaitse-turustajatele/ või tel: 796 1549 ja 5346 1209\nNB! Koolitusele tulija peab olema täiesti terve ja tõendama oma nakkusohutust\, selleks tuleb esitada kas COVID-19 tõendi vaktsineerituse\, läbipõdemise või varasemalt tehtud negatiivse testi tulemuse kohta. Täpsem info Vabariigi Valitsuse 23.08.2021 korralduses\nhttps://www.kriis.ee/sites/default/files/eriolukord/2021.08.23_k305_vv.pdf 
URL:https://test.pikk.ee/sundmus/2-taimekaitse-taienduskoolitus-professionaalsele-taimekaitsevahendite-kasutajale-11h/
CATEGORIES:Taimekaitse
END:VEVENT
BEGIN:VEVENT
DTSTART;TZID=Europe/Tallinn:20211119T110000
DTEND;TZID=Europe/Tallinn:20211119T110000
DTSTAMP:20260421T012923
CREATED:20211107T124320Z
LAST-MODIFIED:20211118T192900Z
UID:10008059-1637319600-1637319600@test.pikk.ee
SUMMARY:Mahelambakasvatuse infopäev - JÄÄB ÄRA!
DESCRIPTION:INFOPÄEV JÄÄB ÄRA! \nMahepõllumajanduse Koostöökogu koostöös Ökoloogiliste Tehnoloogiate Keskusega korraldab 19. novembril k 11.00 mahelambakasvatuse infopäeva\, mille raames külastatakse Iisaka talu (Priidu Veersalu FIE\, Kuusalu vald\, Harjumaa). Ettevõttes tegeletakse tõulammaste kasvatusega ja majandatakse suures osas taastatud poollooduslikel kooslustel. Pärast ettevõttega tutvumist arutatakse sõnnikumajanduse teemadel. \nInfopäev on tasuta. Osalemiseks on kindlasti vajalik eelregistreerumine hiljemalt 10. novembriks e-maili aadressil maheteave@gmail.com. Kohtade arv on piiratud\, kohtade täitumisel lõpetatakse registreerimine enne registreerimistähtaega. \nLisainfo: maheteave@gmail.com \nInfopäev toimub MAK 2014-2020 meetme „Teadmussiirde programm põllumajanduse\, toidu ja maamajanduse tegevusvaldkonnas“ mahemajanduse valdkonna raames\, toetab Euroopa Liit.
URL:https://test.pikk.ee/sundmus/mahelambakasvatuse-infopaev-2/
LOCATION:Harjumaa\, Harjumaa\, Eesti
CATEGORIES:Loomakasvatus
END:VEVENT
END:VCALENDAR