BEGIN:VCALENDAR
VERSION:2.0
PRODID:-//METK nõuandeteenistus - ECPv6.15.13//NONSGML v1.0//EN
CALSCALE:GREGORIAN
METHOD:PUBLISH
X-WR-CALNAME:METK nõuandeteenistus
X-ORIGINAL-URL:https://test.pikk.ee
X-WR-CALDESC:Events for METK nõuandeteenistus
REFRESH-INTERVAL;VALUE=DURATION:PT1H
X-Robots-Tag:noindex
X-PUBLISHED-TTL:PT1H
BEGIN:VTIMEZONE
TZID:Europe/Tallinn
BEGIN:DAYLIGHT
TZOFFSETFROM:+0200
TZOFFSETTO:+0300
TZNAME:EEST
DTSTART:20200329T010000
END:DAYLIGHT
BEGIN:STANDARD
TZOFFSETFROM:+0300
TZOFFSETTO:+0200
TZNAME:EET
DTSTART:20201025T010000
END:STANDARD
BEGIN:DAYLIGHT
TZOFFSETFROM:+0200
TZOFFSETTO:+0300
TZNAME:EEST
DTSTART:20210328T010000
END:DAYLIGHT
BEGIN:STANDARD
TZOFFSETFROM:+0300
TZOFFSETTO:+0200
TZNAME:EET
DTSTART:20211031T010000
END:STANDARD
BEGIN:DAYLIGHT
TZOFFSETFROM:+0200
TZOFFSETTO:+0300
TZNAME:EEST
DTSTART:20220327T010000
END:DAYLIGHT
BEGIN:STANDARD
TZOFFSETFROM:+0300
TZOFFSETTO:+0200
TZNAME:EET
DTSTART:20221030T010000
END:STANDARD
END:VTIMEZONE
BEGIN:VEVENT
DTSTART;TZID=Europe/Tallinn:20211124T100000
DTEND;TZID=Europe/Tallinn:20211124T160000
DTSTAMP:20260420T060702
CREATED:20211015T163103Z
LAST-MODIFIED:20211221T164936Z
UID:10009983-1637748000-1637769600@test.pikk.ee
SUMMARY:Toidusektori tootearenduspäevad 2021
DESCRIPTION:Toidusektori tootearenduspäevad 2021 konverentsi sisu ja ülesehitus \nToimumisaeg: K 24. november \nLäbiviija: Eesti Kaubandus-Tööstuskoda \nToimumiskoht: Veebis Zoom platvormil \nTootearenduspäeva moderaator on Kaur Orgusaar\, Eesti Kaubandus-Tööstuskoja eksporditeenuste koordinaator \n  \nOsalemine Tootearenduspäevadel on TASUTA\, aga väga oluline on registreerimine SIIN \nII Tootearenduspäev\nKolmapäev\, 24. november 2021\nVeebis Zoom platvormil \n\n9.45-10.00      Sisselogimine II Tootearenduspäevale Zoom keskkonda \n  \n10.00- 10.45   Neuroteadlase vaatepunkt toidule- kuidas toita oma aju? (1 akadeemiline tund)\nGill McKay\, neuroteadlane\, coach ja konsultant\, inglise keeles\nGill on pikaajalise kogemusega koolitaja\, coach ning treener. Tema karjäär sai alguse\npersonalivaldkonnas ning on edasi arenenud neuroteaduse põnevasse maailma. Gill on\nMyBrain International ettevõtte looja ja tegevjuht. Ta on välja andnud ka neuroteaduslikke\nraamatuid ning nõustab kliente üle maailma. Tutvu Gilli profiiliga LinekdInis                                                                        https://www.linkedin.com/in/gillmckay/ \n\n10.45- 13.00    Koostöö erinevate põlvkondade esindajate vahel tootearendusmeeskonnas\n(3 akadeemilist tundi\, neist 2 akadeemilist tundi praktikum)\nKati Tikenberg\, Aeternumi konsultant-koolitaja\nKati Tikenberg on konsulteerimise ja koolitamisega tegelenud juba aastast 2005. Tema jaoks\non kõige olulisem enda tegevuse kaudu panna inimesed mõtlema väljaspool enda seniseid\nmõtteraame. Hariduselt on Kati andragoog ja psühholoog. Ta on õppinud ka pedagoogikat.\nKati väärtustab pidevat õppimist ja arengut ning otsib igapäevaselt viise ja võimalusi enda\ntäiendamiseks ja uute kogemuste saamiseks. Ta on läbiviinud eelnevalt koolitusi ning\ntöötubasid toiduainetetööstuse ettevõtetele\, seega on tal otsene kokkupuude põlvkondade\nvahetusega seonduvatest väljakutsetest toidusektoris. Tutvu Kati profiiliga LinkedInis                                                         https://www.linkedin.com/in/kati-tikenberg-5419111a4/ \n\nTeemad\, mida käsitletakse:\n– Millised erinevad generatsioonid meil täna organisatsioonis/meeskondades on?\n– Millised on erinevate generatsioonide juhtivad väärtussüsteemid?\n– Kuidas inimese väärtused panevad teda tegutsema ning mõjutavad koostööd?\n– Kuidas teha koostööd erinevate väärtussüsteemidega inimestega?\n– Juhtumine analüüs rühmatööna ning reflektsioon \n  \n13.00-13.45     Lõunapaus \n13.45-14.30     Mida tähendab tulla turule uudistootega lastetoitude segmenti? Babycool\nkogemuslugu (1 akadeemiline tund)\n \nKaia Sink on uuendusliku beebitoidu brändi BabyCool tootva ettevõtte OÜ Saaregurmee looja ning juhatuse liige. Talle on oluline\, et ettevõtmisest võidaks kõik- kvaliteetne kohalik mahetoit beebidele\, vanematel hea ja mugav kasutada\, talunikel võimalus oma toodangut turustada ja mahe tootmine ei koorma liialt loodust ning on jätkusuutlik. \nhttps://www.linkedin.com/in/kaia-sink-43490066/ \n  \n14.30- 15.15     Puljong OÜ tootearenduse tõusud ja mõõnad (1 akadeemiline tund)        \nHelgor Markov\, Puljong OÜ tegevjuht\nHelgor on Puljong OÜ tegevjuht. Tema karjäär on olnud pikki aastaid toiduainetööstuses esmalt lihasektoris müügijuhina\, seejärel vedades koostöös äripartneriga Food                                              Stuudiot eripäraste söögivalmistamise sündmuste keskust Tallinna kesklinnas. Ta on kirglik kodukokk ning sama emotsioon on pandud ka Puljong uuenduslikesse toodetesse. Tutvu tema LinkedIn profiiliga https://www.linkedin.com/in/helgor-markov-a46989182/ \n  \n15.15-16.00    Praktiline harjutus\, mille viib läbi päeva moderaator\, kinnistamaks päeva jooksul\nomandatud uusi teadmisi (1 akadeemiline tund) \n  \n16.00              Tootearenduspäeva lõpp \n\nTootearenduspäeva moderaator on Kaur Orgusaar\, Eesti Kaubandus-Tööstuskoja\nkommunikatsioonijuht. \nKaur Orgusaar töötab kaubanduskojas kommunikatsioonijuhina ning omab mitmekesist tausta\npersonalivaldkonnas\, turunduses ning ürituste korraldamises. Kaur on õppinud reklaami ning\nsuhtekorraldust ja tegelenud kommunikatsiooniteemadega juba ligi 10 aastat. Täpsem info:\nhttps://www.linkedin.com/in/kaurorgusaar/ \nTootearenduspäeva pikkus: 7 akadeemilist tundi\, millest 3 tundi on praktilisi harjutusi\nTootearenduspäeval osaleja omandab järgmised teadmised/oskused:\n– Neuroteadlase vaatepunkt toidule- kuidas toita oma aju\n– Praktilised tööriistad ja meetodid\, kuidas juhtide tulemuslikult koostööd erinevate\npõlvkondade esindajate vahel tootearendusmeeskonnas\n– Tootearenduse protsess ettevõtetes Puljong ja Saaregurmee \n\nCOVID19 võimaliku kolmanda laine tõttu viiakse II Tootearenduspäev läbi 100%\ndigitaalselt. See minimeerib COVID19 nakatumise riski üritustel. Kuna paljudes toidusektori\nettevõtetes on kokku lepitud\, et ettevõtte välistel üritustel ei osaleta\, tagab see ka selle\, et\nosalejad\, kel huvi ja soov oma teadmisi arendada\, saaksid seda teha.
URL:https://test.pikk.ee/sundmus/toidusektori-tootearenduspaevad-2021-2/
END:VEVENT
BEGIN:VEVENT
DTSTART;TZID=Europe/Tallinn:20211124T100000
DTEND;TZID=Europe/Tallinn:20211124T160000
DTSTAMP:20260420T060703
CREATED:20211028T115826Z
LAST-MODIFIED:20221115T113056Z
UID:10010006-1637748000-1637769600@test.pikk.ee
SUMMARY:Konverents Eesti taimekaitse 100
DESCRIPTION:Päevakava\n09.30 – 10.00 Kogunemine ja tervitus\n10.00 – 10.45 Taimekaitse läbi aja\, Marika Mänd (Eesti Maaülikool)\n10.45 – 11.10 Taimekaitse muutused ja võimalused\, Sigmar Suu (Maaeluministeerium)\n11.10 – 11.35 Taimekasvatuse ja taimekaitse tulevik\, põllumehe vaade\, Henrik Klammer (Voore farm OÜ)\n11.35 – 12.00 Praegused taimekaitselased uuringud ETKIs\, Riinu Kiiker ja Andres Mäe (Eesti Taimekasvatuse Instituut)\n12.00 – 13.00 Lõuna\n13.00 – 13.25 Umbrohtumuse ennetamine taimekasvatuslike võtetega\, Liina Talgre (Eesti Maaülikool)\n13.25 – 13.50 ITK alustala kahjuritõrjes\, Riina Kaasik (Eesti Maaülikool)\n13.50 – 14.15 Taimehaiguste teadlik ennetamine\, Kaire Loit (Eesti Maaülikool)\n14.15 – 14.30 Kohvipaus\n14.30 – 14.55 Taimekaitsevahendite madalate dooside mõju kasulikele putukatele\, Risto Raimets (Eesti Maaülikool)\n14.55 – 15.20 Muutused taimekaitsevahendite müügis Eestis\, Margus Ameerikas (Baltic Agro AS)\n15.20 – 15.40 Arutelu ja konverentsi lõpetamine \nRegistreeruda saab SIIN \nKonverentsi toimumist rahastatakse läbi programmi „Teadmussiirde pikaajaline programm põllumajanduse\, toidu ja maamajanduse tegevusvaldkonnas” \nKonverentsi ülekannet on võimalik jälgida siit: https://us06web.zoom.us/j/81097270018?pwd=VE1hbjlzLzZuQVFvKzRqMW9TTk5FQT09\nMeeting ID: 810 9727 0018\nPasscode: 098440 \nLisainfo: Kaire Loit\, kaire.loit@emu.ee
URL:https://test.pikk.ee/sundmus/konverents-eesti-taimekaitse-100/
LOCATION:Veebis\, Eesti
CATEGORIES:Taimekaitse
END:VEVENT
END:VCALENDAR