BEGIN:VCALENDAR
VERSION:2.0
PRODID:-//METK nõuandeteenistus - ECPv6.15.13//NONSGML v1.0//EN
CALSCALE:GREGORIAN
METHOD:PUBLISH
X-WR-CALNAME:METK nõuandeteenistus
X-ORIGINAL-URL:https://test.pikk.ee
X-WR-CALDESC:Events for METK nõuandeteenistus
REFRESH-INTERVAL;VALUE=DURATION:PT1H
X-Robots-Tag:noindex
X-PUBLISHED-TTL:PT1H
BEGIN:VTIMEZONE
TZID:Europe/Tallinn
BEGIN:DAYLIGHT
TZOFFSETFROM:+0200
TZOFFSETTO:+0300
TZNAME:EEST
DTSTART:20210328T010000
END:DAYLIGHT
BEGIN:STANDARD
TZOFFSETFROM:+0300
TZOFFSETTO:+0200
TZNAME:EET
DTSTART:20211031T010000
END:STANDARD
BEGIN:DAYLIGHT
TZOFFSETFROM:+0200
TZOFFSETTO:+0300
TZNAME:EEST
DTSTART:20220327T010000
END:DAYLIGHT
BEGIN:STANDARD
TZOFFSETFROM:+0300
TZOFFSETTO:+0200
TZNAME:EET
DTSTART:20221030T010000
END:STANDARD
BEGIN:DAYLIGHT
TZOFFSETFROM:+0200
TZOFFSETTO:+0300
TZNAME:EEST
DTSTART:20230326T010000
END:DAYLIGHT
BEGIN:STANDARD
TZOFFSETFROM:+0300
TZOFFSETTO:+0200
TZNAME:EET
DTSTART:20231029T010000
END:STANDARD
END:VTIMEZONE
BEGIN:VEVENT
DTSTART;TZID=Europe/Tallinn:20220112T100000
DTEND;TZID=Europe/Tallinn:20220112T130000
DTSTAMP:20260419T232638
CREATED:20211229T201030Z
LAST-MODIFIED:20220113T072413Z
UID:10008113-1641981600-1641992400@test.pikk.ee
SUMMARY:Infopäev „Rohelepe ja ühistud: piimatootmise tulemuslikkuse ja keskkonnamõju mõõtmine“
DESCRIPTION:Eesti Maaülikool korraldab 12. jaanuaril 2022 kell 10.00–13.00 veebis infopäeva „Rohelepe ja ühistud: piimatootmise tulemuslikkuse ja keskkonnamõju mõõtmine“. \nPäevakava: \n\n10.00–12.00 Rando Värnik ja Aadi Remmik\, Eesti Maaülikool. Piimatootmise tulemusmõõdikute aastate 2017–2021 kohta kasutamine strateegiliseks planeerimiseks: lisasööda kasutamine ja selle keskkonnajalajälg (ettekanne asub SIIN).\n12.00–13.00 Liis Tuur\, AS E-Piim Tootmine. Epiima kogemus süsinikujalajälje mõõtmisel farmides (ettekanne asub SIIN).\n\nInfopäeval osalemine on tasuta\, kuid selleks tuleb registreeruda SIIN. Link veebikeskkonnaga liitumiseks saadetakse enne infopäeva toimumist osaleja meilile. \nÜritust saab järele vaadata SIIN. \nLisainfot saab Taavi Kiisa käest meiliaadressilt taavi.kiisk@emu.ee. \nInfopäev toimub MAK 2014–2020 meetme „Teadmussiirde programm põllumajanduse\, toidu ja maamajanduse tegevusvaldkonnas“ ühistegevuse valdkonna raames ning seda toetab Euroopa Liit.
URL:https://test.pikk.ee/sundmus/infopaev-rohelepe-ja-uhistud-piimatootmise-tulemuslikkuse-ja-keskkonnamoju-mootmine/
LOCATION:Eesti
CATEGORIES:Ühistegevus
END:VEVENT
BEGIN:VEVENT
DTSTART;TZID=Europe/Tallinn:20220112T100000
DTEND;TZID=Europe/Tallinn:20220112T153000
DTSTAMP:20260419T232638
CREATED:20210906T083430Z
LAST-MODIFIED:20210906T083430Z
UID:10009925-1641981600-1642001400@test.pikk.ee
SUMMARY:Tasuline koolitus "Nõustamismetoodika konsulendile"
DESCRIPTION:Koolitus on 8-päevane tervik \nToimumisaeg\n11.-12. jaanuar 2022 (T / K )\n18. jaanuar ( T )\n19. jaanuar ( K )\n25.-26. jaanuar (T/K )\n28. jaanuar (R)\n31. jaanuar (E) \nAlgus kõikidel päevadel kell 10.15 ja lõpp orienteeruvalt 15.30 (olude sunnil ja kokkuleppel osalejatega võib ajakavas muudatusi ette tulla).\nOsalema on oodatud vähemalt keskerihariduse omandanud\, kes juba tegutsevad või kavatsevad tegutsema asuda konsulendina. Osalejal peab olema asjakohane eriharidus.\nOsalejal peab olema õppekeeles (eesti) vähemalt B1-tase. \n\n\n\nEelistatult toimub koolitus auditooriumis kõiki kehtivaid viiruspiiranguid arvesse võttes.\nJuhul kui COVID-19 olukord auditooriumis õpet ei võimalda\, tuleb olla valmis veebiõppeks.\n\n\n\nKui koolitus toimub auditooriumis on toimumiskoht Tartu Eesti Maaülikool Kreutzwaldi 56/1 auditoorium A 303 (või täpsustub). \nKui koolitus toimub veebis\, siis kasutame veebikeskkonda BIG BLUE BUTTON\n(- BBB kasutamiseks on vaja kiiret internetiühendust (võimalusel kaabliga\, mitte wifit).\n– Audio kuulamiseks on vaja kõrvaklappe või kõlareid\, rääkimiseks mikrofoni ning enda videopildi edastamiseks veebikaamerat.\n– BBB kasutamiseks sobib kõige paremini Google Chrome. Sellele järgneb Firefox ning Opera. Teiste veebilehitsejega võib esineda probleeme helikvaliteedis ning ekraanijagamisel. Internet Exploreriga BBB ei tööta.) \nKoolituse eduka läbimise tulemusena omab õppija ettevalmistust konsulendi 5. taseme kutseeksami sooritamiseks. \nKoolitus on tasuline\, 922 eurot. \nLähem info ja registreerimine SIIT. \nKoolituse korraldaja \nEesti Maaülikooli avatud ülikool​\nKreutzwaldi 56/1 (III korrus\, ruumid 303-306)\,\n51006 Tartu\ntel 731 3174\, 731 3175\, 731 3275\, 5344 1844\ne-post: avayl@emu.ee
URL:https://test.pikk.ee/sundmus/tasuline-koolitus-noustamismetoodika-konsulendile-3/2022-01-12/
CATEGORIES:Muu
END:VEVENT
BEGIN:VEVENT
DTSTART;TZID=Europe/Tallinn:20220112T100000
DTEND;TZID=Europe/Tallinn:20220112T160000
DTSTAMP:20260419T232638
CREATED:20211006T125728Z
LAST-MODIFIED:20211006T125728Z
UID:10009971-1641981600-1642003200@test.pikk.ee
SUMMARY:Tasuline veebikoolitus " Putukad toiduks ja söödaks"
DESCRIPTION:  \nToimumisaeg 12. jaanuar 2022\nToimumiskeskkond veebiruum Big Blue Button \nKoolituse eesmärk on omandada teadmisi\, milliseid putukaid tohib söögiks ning söödaks kasvatada ja kuidas seda teha ning tutvuda nõuete ja seadustega. \nKoolitus on registreerumiseks avatud kõigile huvilistele.\nKoolitus on tasuline\, hind 85 eurot.\nKoolitus toimub veebis ja eeldab osalemist reaalajas. \nOsalemissoovi korral on vajalik eelregistreeimine\, seda saate teha SIIT. \nKoolitust korraldab\nEesti Maaülikooli avatud ülikool\nKreutzwaldi 56/1 (III korrus\, ruumid 303-306)\n51006 Tartu\ntel 731 3174\, 731 3175\, 731 3275\, 5344 1844\ne-post: avayl@emu.ee
URL:https://test.pikk.ee/sundmus/tasuline-veebikoolitus-putukad-toiduks-ja-soodaks/
END:VEVENT
END:VCALENDAR