BEGIN:VCALENDAR
VERSION:2.0
PRODID:-//METK nõuandeteenistus - ECPv6.15.13//NONSGML v1.0//EN
CALSCALE:GREGORIAN
METHOD:PUBLISH
X-WR-CALNAME:METK nõuandeteenistus
X-ORIGINAL-URL:https://test.pikk.ee
X-WR-CALDESC:Events for METK nõuandeteenistus
REFRESH-INTERVAL;VALUE=DURATION:PT1H
X-Robots-Tag:noindex
X-PUBLISHED-TTL:PT1H
BEGIN:VTIMEZONE
TZID:Europe/Tallinn
BEGIN:DAYLIGHT
TZOFFSETFROM:+0200
TZOFFSETTO:+0300
TZNAME:EEST
DTSTART:20220327T010000
END:DAYLIGHT
BEGIN:STANDARD
TZOFFSETFROM:+0300
TZOFFSETTO:+0200
TZNAME:EET
DTSTART:20221030T010000
END:STANDARD
BEGIN:DAYLIGHT
TZOFFSETFROM:+0200
TZOFFSETTO:+0300
TZNAME:EEST
DTSTART:20230326T010000
END:DAYLIGHT
BEGIN:STANDARD
TZOFFSETFROM:+0300
TZOFFSETTO:+0200
TZNAME:EET
DTSTART:20231029T010000
END:STANDARD
BEGIN:DAYLIGHT
TZOFFSETFROM:+0200
TZOFFSETTO:+0300
TZNAME:EEST
DTSTART:20240331T010000
END:DAYLIGHT
BEGIN:STANDARD
TZOFFSETFROM:+0300
TZOFFSETTO:+0200
TZNAME:EET
DTSTART:20241027T010000
END:STANDARD
END:VTIMEZONE
BEGIN:VEVENT
DTSTART;TZID=Europe/Tallinn:20230411T090000
DTEND;TZID=Europe/Tallinn:20230411T170000
DTSTAMP:20260425T192810
CREATED:20230313T062616Z
LAST-MODIFIED:20240813T125900Z
UID:10010555-1681203600-1681232400@test.pikk.ee
SUMMARY:Taimekaitse täienduskoolitus professionaalsele taimekaitsevahendite kasutajale
DESCRIPTION:11.04.2023 Veebikeskkonnas MS Teams „Taimekaitse täienduskoolitus professionaalsele taimekaitsevahendite kasutajale“ (11h) algusega kell 9.00 \nKursus on tasuline. Täpsem info ja kursusele registreerumine aianduskooli kodulehel \nhttps://www.aianduskool.ee/taimekaitse-taienduskoolitus-profile/ \n  \nNB! \n\nKõigile koolitustele vajalik eelregistreerumine\, sest kohtade arv on piiratud.\nKoolitused toimuvad õppegrupi täitumisel. Osalejate vähesusel jätab Räpina Aianduskool omale õiguse koolituse edasilükkamiseks või selle ärajäämiseks.
URL:https://test.pikk.ee/sundmus/taimekaitse-taienduskoolitus-professionaalsele-taimekaitsevahendite-kasutajale-21/
LOCATION:Veebis\, Eesti
END:VEVENT
BEGIN:VEVENT
DTSTART;TZID=Europe/Tallinn:20230411T100000
DTEND;TZID=Europe/Tallinn:20230411T150000
DTSTAMP:20260425T192810
CREATED:20230324T071806Z
LAST-MODIFIED:20230809T074556Z
UID:10010578-1681207200-1681225200@test.pikk.ee
SUMMARY:Tootjate pindala- ja loomatoetuste infopäev (Pärnumaa)
DESCRIPTION:Infopäev toimub 11 aprill 2023 Pärnus Roheline tn 1 Noorusemajas algusega kell 10 00. Registreerimine on kohustuslik kuna osalejate arv on piiratud.\nInfopäevale registreerumine SIIN\n\n\nInfopäeval räägime\n – 2023 avanevatest pindala ja loomatoetustest.\n – võimalusel saame rääkida ja näidata ka e-prias taotluse koostamist.\n\nAjakava:\n\n10.00-11.30 ettekanne \n11.30-11.45 paus \n11.45-13.15 ettekanne \n13.15-13.30 paus \n13.30-15.00 ettekanne \n\n\n\nLektoriteks on\n\nOlavy Sülla ja Hillar Lilleste.\n\n\nInfot saab \, kui esitate küsimused infopäeva kohta\, meilile olavy@nouanne.ee või hillar@nouanne.ee\n\n\nInfopäev viiakse läbi „Teadmussiirde pikaajaline programm põllumajanduse\, toidu ja maamajanduse tegevusvaldkonnas“ raames ja on osavõtjatele tasuta.
URL:https://test.pikk.ee/sundmus/tootjat-pindala-ja-loomatoetuste-infopaev-parnumaa/
LOCATION:Pärnumaa\, Pärnumaa\, Eesti
ORGANIZER;CN="Maaelu Edendamise Sihtasutus":MAILTO:angelika.nops@pikk.ee
END:VEVENT
BEGIN:VEVENT
DTSTART;TZID=Europe/Tallinn:20230411T100000
DTEND;TZID=Europe/Tallinn:20230411T150000
DTSTAMP:20260425T192810
CREATED:20230324T131601Z
LAST-MODIFIED:20230328T084928Z
UID:10010580-1681207200-1681225200@test.pikk.ee
SUMMARY:Tootjate pindala- ja loomatoetuste infopäev (Tartumaa)
DESCRIPTION:Infopäev toimub 11 aprill 2023 Tartumaa Põllumeeste Liidus\, Jalaka 48\, Tartu\, algusega kell 10 00. Registreerimine on kohustuslik kuna osalejate arv on piiratud.\nInfopäevale registreerumine SIIN\n\n\nInfopäeval räägime\n – 2023 avanevatest pindala ja loomatoetustest.\n – võimalusel saame rääkida ja näidata ka e-prias taotluse koostamist.\n\nAjakava:\n\n10.00-11.30 ettekanne \n11.30-11.45 paus \n11.45-13.15 ettekanne \n13.15-13.30 paus \n13.30-15.00 ettekanne \n\n\n\nLektoriteks on\n\nMerry Aart ja Linda Raasik\n\n\nInfopäev viiakse läbi „Teadmussiirde pikaajaline programm põllumajanduse\, toidu ja maamajanduse tegevusvaldkonnas“ raames ja on osavõtjatele tasuta.\n\n 
URL:https://test.pikk.ee/sundmus/tootjate-pindala-ja-loomatoetuste-infopaev-tartumaa-2/
LOCATION:Tartumaa\, Eesti
ORGANIZER;CN="Maaelu Edendamise Sihtasutus":MAILTO:angelika.nops@pikk.ee
GEO:58.4057128;26.801576
END:VEVENT
BEGIN:VEVENT
DTSTART;TZID=Europe/Tallinn:20230411T100000
DTEND;TZID=Europe/Tallinn:20230411T150000
DTSTAMP:20260425T192810
CREATED:20230327T060727Z
LAST-MODIFIED:20230327T061147Z
UID:10010585-1681207200-1681225200@test.pikk.ee
SUMMARY:Tootjate pindala- ja loomatoetuste infopäev (Järvamaa)
DESCRIPTION:Infopäev toimub 11 aprill 2023 Türi Kultuurimajas algusega kell 10 00. Registreerimine on kohustuslik kuna osalejate arv on piiratud.\nInfopäevale registreerumine SIIN\n\n\nInfopäeval räägime\n – 2023 avanevatest pindala ja loomatoetustest.\n – võimalusel saame rääkida ja näidata ka e-prias taotluse koostamist.\n\nAjakava:\n\n10.00-11.30 ettekanne \n11.30-11.45 paus \n11.45-13.15 ettekanne \n13.15-13.30 paus \n13.30-15.00 ettekanne \n\n\n\nLektoriteks on Liia Lust ja  Helle Rohtla\n\n\nInfopäev viiakse läbi „Teadmussiirde pikaajaline programm põllumajanduse\, toidu ja maamajanduse tegevusvaldkonnas“ raames ja on osavõtjatele tasuta.
URL:https://test.pikk.ee/sundmus/tootjate-pindala-ja-loomatoetuste-infopaev-jarvamaa-2/
LOCATION:Järvamaa\, Järvamaa\, Eesti
ORGANIZER;CN="Maaelu Edendamise Sihtasutus":MAILTO:angelika.nops@pikk.ee
GEO:58.8866713;25.5000624
END:VEVENT
BEGIN:VEVENT
DTSTART;TZID=Europe/Tallinn:20230411T100000
DTEND;TZID=Europe/Tallinn:20230411T160000
DTSTAMP:20260425T192810
CREATED:20230313T081444Z
LAST-MODIFIED:20230313T081444Z
UID:10010556-1681207200-1681228800@test.pikk.ee
SUMMARY:Põllumajandusliku biomassi ressursid taastuvenergia tootmiseks
DESCRIPTION:Täpsem info ja registreerumine SIIT \nKoolitus annab teadmisi põllumajandusliku biomassi kasutamisest taastuvenergia tootmiseks. \nKoolitusel käsitletavad teemad: \n– Uuringud biogaasiga ja selle potensiaal; \n– Biolagunevate jäätmete tahekääritamine: jäätmete liigid ning omadused\, võõrised\, massibilanss ja digestaat. \nTäienduskoolitusest võivad osa võtta: \n– põllumajandustoodete töötlemise või turustamisega tegelev füüsilisest isikust ettevõtja ja tema töötaja ning eraõigusliku juriidilise isiku osanik\, aktsionär\, liige\, juhtorgani liige ja tema töötaja;\n– põllumajandustoodetest mittepõllumajandustoodete töötlemise sh toidu valmistamise või töötlemisega tegelev füüsilisest isikust ettevõtja ja tema töötaja ning eraõigusliku juriidilise isiku osanik\, aktsionär\, liige\, juhtorgani liige ja tema töötaja;\n– toidu valmistamise või töötlemisega tegelev avalik-õigusliku juriidilise isiku juhtorgani liige või töötaja;\n– põllumajandustootjate valdkonda teenindavad isikud (nt kokkuostuga tegelevate ettevõtete töötajad);\n– isikud (FIE-d või ettevõtte esindajad)\, kes koguvad teadmisi uue tegevusvaldkonna kohta;\n– põllumajanduslike esindus- ja erialaorganisatsioonide (MTÜ-d\, mille liikmeteks on põllumajandussaaduste töötlejad) juhatuse liikmed ja töötajad. \nFüüsiliste isikute ja riigiametnike täienduskoolitusel osalemine ei ole toetatav. \nKoolitus toimub meetme “Teadmussiirde pikaajaline programm põllumajanduse\, toidu ja maamajanduse tegevusvaldkonnas” \n  \nKoolituse korraldaja:\nEesti Maaülikooli avatud ülikool\nFr. R. Kreutzwaldi 56/1\n51006 Tartu\,\ntel 731 3275\ne-post: avayl@emu.ee\nhttp://avatudylikool.emu.ee/ \n 
URL:https://test.pikk.ee/sundmus/pollumajandusliku-biomassi-ressursid-taastuvenergia-tootmiseks/
CATEGORIES:Aiandus,Bioenergia ja biomajandus,Loomakasvatus,Maaettevõtlus,Mahemajandus,Taimekasvatus
ORGANIZER;CN="Eesti Maa%C3%BClikooli avatud %C3%BClikool":MAILTO:avayl@emu.ee
END:VEVENT
END:VCALENDAR