BEGIN:VCALENDAR
VERSION:2.0
PRODID:-//METK nõuandeteenistus - ECPv6.15.13//NONSGML v1.0//EN
CALSCALE:GREGORIAN
METHOD:PUBLISH
X-ORIGINAL-URL:https://test.pikk.ee
X-WR-CALDESC:Events for METK nõuandeteenistus
REFRESH-INTERVAL;VALUE=DURATION:PT1H
X-Robots-Tag:noindex
X-PUBLISHED-TTL:PT1H
BEGIN:VTIMEZONE
TZID:Europe/Tallinn
BEGIN:DAYLIGHT
TZOFFSETFROM:+0200
TZOFFSETTO:+0300
TZNAME:EEST
DTSTART:20220327T010000
END:DAYLIGHT
BEGIN:STANDARD
TZOFFSETFROM:+0300
TZOFFSETTO:+0200
TZNAME:EET
DTSTART:20221030T010000
END:STANDARD
BEGIN:DAYLIGHT
TZOFFSETFROM:+0200
TZOFFSETTO:+0300
TZNAME:EEST
DTSTART:20230326T010000
END:DAYLIGHT
BEGIN:STANDARD
TZOFFSETFROM:+0300
TZOFFSETTO:+0200
TZNAME:EET
DTSTART:20231029T010000
END:STANDARD
BEGIN:DAYLIGHT
TZOFFSETFROM:+0200
TZOFFSETTO:+0300
TZNAME:EEST
DTSTART:20240331T010000
END:DAYLIGHT
BEGIN:STANDARD
TZOFFSETFROM:+0300
TZOFFSETTO:+0200
TZNAME:EET
DTSTART:20241027T010000
END:STANDARD
END:VTIMEZONE
BEGIN:VEVENT
DTSTART;TZID=Europe/Tallinn:20230427T100000
DTEND;TZID=Europe/Tallinn:20230427T150000
DTSTAMP:20260420T190641
CREATED:20230324T133843Z
LAST-MODIFIED:20230324T134313Z
UID:10010583-1682589600-1682607600@test.pikk.ee
SUMMARY:Tootjate pindala- ja loomatoetuste infopäev (Saaremaa)
DESCRIPTION:Infopäev toimub  27 aprill 2023 Kuressaare Ametikooli saalis algusega kell 10 00. Registreerimine on kohustuslik kuna osalejate arv on piiratud. \nRegistreerimine SIIN  \nInfopäeval räägime\n – 2023 avanevatest pindala ja loomatoetustest.\n – võimalusel saame rääkida ja näidata ka e-prias taotluse koostamist.\n\nAjakava:\n\n10.00-11.30 ettekanne \n11.30-11.45 paus \n11.45-13.15 ettekanne \n13.15-13.30 paus \n13.30-15.00 ettekanne \n\n\n\nLektoriteks on\n\nJekaterina Näälik\, Veeve Kaasik\, Lea Toompuu\, Mai Vaher\n\n\n\nInfopäev viiakse läbi „Teadmussiirde pikaajaline programm põllumajanduse\, toidu ja maamajanduse tegevusvaldkonnas“ raames ja on osavõtjatele tasuta.\n 
URL:https://test.pikk.ee/sundmus/tootjate-pindala-ja-loomatoetuste-infopaev-27-04-2023-saaremaa/
LOCATION:Saaremaa\, Saaremaa
ORGANIZER;CN="Maaelu Edendamise Sihtasutus":MAILTO:angelika.nops@pikk.ee
GEO:58.3705526;22.6876383
END:VEVENT
END:VCALENDAR