BEGIN:VCALENDAR
VERSION:2.0
PRODID:-//METK nõuandeteenistus - ECPv6.15.13//NONSGML v1.0//EN
CALSCALE:GREGORIAN
METHOD:PUBLISH
X-ORIGINAL-URL:https://test.pikk.ee
X-WR-CALDESC:Events for METK nõuandeteenistus
REFRESH-INTERVAL;VALUE=DURATION:PT1H
X-Robots-Tag:noindex
X-PUBLISHED-TTL:PT1H
BEGIN:VTIMEZONE
TZID:Europe/Tallinn
BEGIN:DAYLIGHT
TZOFFSETFROM:+0200
TZOFFSETTO:+0300
TZNAME:EEST
DTSTART:20220327T010000
END:DAYLIGHT
BEGIN:STANDARD
TZOFFSETFROM:+0300
TZOFFSETTO:+0200
TZNAME:EET
DTSTART:20221030T010000
END:STANDARD
BEGIN:DAYLIGHT
TZOFFSETFROM:+0200
TZOFFSETTO:+0300
TZNAME:EEST
DTSTART:20230326T010000
END:DAYLIGHT
BEGIN:STANDARD
TZOFFSETFROM:+0300
TZOFFSETTO:+0200
TZNAME:EET
DTSTART:20231029T010000
END:STANDARD
BEGIN:DAYLIGHT
TZOFFSETFROM:+0200
TZOFFSETTO:+0300
TZNAME:EEST
DTSTART:20240331T010000
END:DAYLIGHT
BEGIN:STANDARD
TZOFFSETFROM:+0300
TZOFFSETTO:+0200
TZNAME:EET
DTSTART:20241027T010000
END:STANDARD
END:VTIMEZONE
BEGIN:VEVENT
DTSTART;TZID=Europe/Tallinn:20230606T093000
DTEND;TZID=Europe/Tallinn:20230607T160000
DTSTAMP:20260423T223655
CREATED:20230515T090816Z
LAST-MODIFIED:20230515T092358Z
UID:10010652-1686043800-1686153600@test.pikk.ee
SUMMARY:Esmatasandi juhi koolitus
DESCRIPTION:Eesti Toiduainetööstuse Liit korraldab ja  DVSP Consulting OÜ viib läbi koolituse tootmisettevõtete uutele või vähese juhtimiskogemusega esmatasandi juhtidele\, kelle oskused ja teadmised juhirolli täitmiseks vajavad arendamist. \nKoolitus aitab osalejatel: \n\nvältida tüüpilisi vigu\, mida spetsialistid teevad juhiks saades;\nteadvustada erinevaid juhi ülesandeid;\naru saada\, milles seisneb juhtimise ja eesvedamise erinevus ning kuidas on need  seotud  töötajate motivatsiooni ja tootlikkusega;\nnäha erinevaid juhi võimu ja autoriteedi allikaid;\nosata vältida ala- ja ülekehtestamist ning hoida kinni juhile kohasest suhtlemisstandardist;\nnäha liidri hoiakute ja väärtuste mõju;\nmõista\, kuidas valida konkreetses olukorras sobiv juhtimisstiil;\nmõista\, millised on tööülesande andmise põhimõtted ja tüüpilised vead;\nmõista\, milline tähtsus on tulemuslikul tagasisidel juhi töös;\nosata kasutada selget ja struktureeritud tagasisidet;\nteadvustada\, millised on levinud tüüpreaktsioonid tagasiside saamisel oma kolleegidelt\, mis võivad takistada edaspidi olulise info saamist;\nosata tagasisidet vastu võtta.\n\n\n\nOodatud on toidu tootmise ja  käitlemisega seotud ettevõtete töötajad ja FIEd. Füüsilised isikud  ei kuulu sihtrühma. Täienduskoolitus on sihtrühma kuulujale tasuta. \nAjakava mõlemal päeval: \n9.30 Koolituspäeva algus \n11.00-11.15 paus \n12.30-13.00 lõunapaus \n14.45-15.00 paus \n16.00 Koolituspäeva lõpp \n\n\n\n\nKohtade arv on piiratud (15 kohta).  Registreerudes võtab osaleja vastutuse osaleda koolitusel täies mahus mõlemal koolituspäeval. Korraldaja jätab endale õiguse vajadusel piirata ühest ettevõttest tulevate osalejate arvu. Koolitusel kasutatakse muu hulgas rollimängu\, grupi- ja paaristöö meetodeid. Väga tähtis on\, et igal osalejal on hea ühendusega arvuti\, kõrvaklapid\, töötav mikrofon ja kaamera ning osaleja on kogu koolituse jooksul teistele nähtav (osaleja kaamera on avatud). Eeldame aktiivset osavõttu. \n\n\n\n\nAjakava ja registreerumine: https://toiduteave.ee/taienduskoolitus-6-7-06-2023-veebis-esmatasandi-juhtimisoskused/
URL:https://test.pikk.ee/sundmus/esmatasandi-juhi-koolitus/
LOCATION:Veebis\, Eesti
CATEGORIES:Maaettevõtlus,Toiduainete tootmine
END:VEVENT
BEGIN:VEVENT
DTSTART;TZID=Europe/Tallinn:20230606T100000
DTEND;TZID=Europe/Tallinn:20230606T130000
DTSTAMP:20260423T223655
CREATED:20230526T200804Z
LAST-MODIFIED:20230526T200804Z
UID:10010674-1686045600-1686056400@test.pikk.ee
SUMMARY:Maitse- ja ravimtaimekasvatuse ettevõtte külastus
DESCRIPTION:Mahepõllumajanduse Koostöökogu korraldab 6. juunil 2023 kell 10:00 – 13:00 maitse- ja ravimtaimekasvatusega tegeleva ettevõtte MK Loodusravi külastuse asukohaga Pape talu\, Venevere küla\, Põhja-Sakala vald\, Viljandimaa (https://mkloodusravi.ee/). \nOsalemiseks on kindlasti vajalik eelregistreerumine hiljemalt 2. juuniks lingil https://forms.gle/gqCBBhkrpq3nqfFd6 \nKohtade arv on piiratud\, registreerimine lõpetatakse kohtade täitumisel enne tähtaega. \nLisainfo: maheteave@gmail.com \nEttevõtte külastuse korraldab Mahepõllumajanduse Koostöökogu koostöös Eesti Mahepõllumajanduse Sihtasutusega. \nEttevõtte külastus toimub MAK 2014-2020 meetme „Teadmussiirde pikaajaline programm põllumajanduse\, toidu ja maamajanduse tegevusvaldkonnas“ mahemajanduse valdkonna raames\, toetab Euroopa Liit.
URL:https://test.pikk.ee/sundmus/maitse-ja-ravimtaimekasvatuse-ettevotte-kulastus/
LOCATION:Viljandimaa\, Viljandimaa\, Eesti
CATEGORIES:Aiandus,Mahemajandus
GEO:58.2821746;25.5752233
END:VEVENT
BEGIN:VEVENT
DTSTART;TZID=Europe/Tallinn:20230606T110000
DTEND;TZID=Europe/Tallinn:20230606T131500
DTSTAMP:20260423T223655
CREATED:20230522T131321Z
LAST-MODIFIED:20230602T071053Z
UID:10010662-1686049200-1686057300@test.pikk.ee
SUMMARY:EPKK infopäev „Sõnniku- ja silohoidlate renoveerimine ja rajamine“
DESCRIPTION:Eesti Põllumajandus-Kaubanduskoda korraldab infopäeva „Sõnniku- ja silohoidlate renoveerimine ja rajamine“  \n Aeg: 6. juunil kell 10.00-12.45\nKoht: veebikeskkond Zoom  \nRegistreerimine on SIIN  \n   \nPäevakavas*:  \n11:00- 11.45 Sõnniku- ja silohoidlate projekteerimine ja ehitamine. Margus Väärsi\, Mapri OÜ  \n11:45- 12:30 Väljakutsed silo-ja sõnnikuhoidlate renoveerimisel ja rajamisel. Raul Peetson\, Halinga OÜ  \n12:30- 13:15 Õiguslikud soovitused ehituse tellimisel ja ehituslepingute täitmisel. Siim Maripuu\, advokaadibüroo Triniti  \n  \n*Korraldajal on õigus teha päevakavas muudatusi   \n    \nLisainfo: Marge Mänd\, EPKK projektijuht\, e-post: marge@epkk.ee\, tel: 53009034  \nSündmus toimub MAK 2014-2020 „Teadmussiirde pikaajaline programm põllumajanduse\, toidu ja maamajanduse tegevusvaldkonnas“ raames. Rahastamisallikas: Euroopa Maaelu Põllumajandusfond (EAFRD). 
URL:https://test.pikk.ee/sundmus/sonniku-ja-silohoidlate-renoveerimine-ja-rajamine/
LOCATION:Veebis\, Eesti
CATEGORIES:Keskkond,Loomakasvatus,Maaettevõtlus,Mahemajandus,Muu
ATTACH;FMTTYPE=image/jpeg:https://test.pikk.ee/wp-content/uploads/2023/05/StockSnap_FWVL6GD2QU-scaled.webp
ORGANIZER;CN="Eesti P%C3%B5llumajandus-Kaubanduskoda":MAILTO:info@epkk.ee
END:VEVENT
BEGIN:VEVENT
DTSTART;TZID=Europe/Tallinn:20230606T110000
DTEND;TZID=Europe/Tallinn:20230606T160000
DTSTAMP:20260423T223655
CREATED:20230524T102424Z
LAST-MODIFIED:20230524T103452Z
UID:10010667-1686049200-1686067200@test.pikk.ee
SUMMARY:Ökosüsteemi teenused põllumajanduses
DESCRIPTION:Mahepõllumajanduse Koostöökogu koostöös Ökoloogiliste Tehnoloogiate Keskusega korraldavad 6. ja 7. juunil 2023 infopäevad ettevõtte külastusega teemal Ökosüsteemi teenused põllumajanduses. \nInfopäevad on sarnase sisuga ja nende peamiseks teemaks on erinevate maastikuelementide ja looduslike alade roll ökosüsteemiteenuste pakkumisel. Räägitakse ka uuest\, 2023. aastast rakendunud Ökosüsteemiteenuste säilitamise toetusest\, mille raames hakatakse maksma täiendavat pindalatoetust nende põldude (P) eest\, kus on tagatud ökosüsteemi teenuse pakkumine vähemalt 60%-l pinnast. Kuuleme\, kui suurt mõjuala on ühe v teise elemendi puhul ökosüsteemiteenuse pakkumise arvestamisel arvesse võetud\, vaatame põldude kaarte ja pärast lõunat kaartidel vaadeldud kohti ka looduses. \nLisaks räägime ka rohumaaribade rajamise võimalustest ja miks neid võiks rajada ning anname ülevaate tootjatele kasulikest putukatest. Rohumaaribad on üheks toetatavaks elemendiks ökoalade toetuse puhul. \nMõlemat toetust saab taotleda sarnaselt teiste pindalatoetustega 15. juunini. Toetused on seotud põllumaaga (P)\, mitte püsirohumaaga (PR). \n\n6. juunil k 11 – 16 toimub infopäev Põlgaste talus (Setomaa vald\, Võrumaa). Lektoriteks on Eve Veromann (Eesti Maaülikool) ja Merit Mikk (Mahepõllumajanduse Koostöökogu).\n\nOsalemiseks 6. juunil on kindlasti vajalik eelregistreerumine hiljemalt 29. maiks lingil: https://forms.gle/ANh7NTa1SnXCPGx47  \n\n7. juunil k 11 – 16 toimub infopäev Pajumäe talus (Mulgi vald\, Viljandimaa). Lektoriteks on Eve Veromann ja Ell Sellis (konsulent).\n\nOsalemiseks 7. juunil on kindlasti vajalik eelregistreerumine hiljemalt 29. maiks lingil: https://forms.gle/s9esBmKJGaNpUuj49  \nNB! Kohtade arv on piiratud\, registreerimine lõpetatakse kohtade täitumisel enne tähtaega. \nInfopäev läheb soovi korral arvesse KSM või MAHE toetusega seotud kohustusliku koolitusena. \nLisainfo: maheteave@gmail.com \nInfopäev toimub MAK 2014-2020 meetme „Teadmussiirde pikaajaline programm põllumajanduse\, toidu ja maamajanduse tegevusvaldkonnas“ raames\, toetab Euroopa Liit.
URL:https://test.pikk.ee/sundmus/okosusteemi-teenused-pollumajanduses-3/
LOCATION:Võrumaa\, Võrumaa
CATEGORIES:Keskkond,Mahemajandus,Taimekasvatus
GEO:57.7377372;27.1398938
END:VEVENT
BEGIN:VEVENT
DTSTART;TZID=Europe/Tallinn:20230606T150000
DTEND;TZID=Europe/Tallinn:20230606T180000
DTSTAMP:20260423T223655
CREATED:20230426T132950Z
LAST-MODIFIED:20230612T122844Z
UID:10010631-1686063600-1686074400@test.pikk.ee
SUMMARY:EPKK infopäev "Lammaste kunstlik seemendamine"
DESCRIPTION:EPKK infopäev “Lammaste kunstlik seemendamine”\n(Väikemäletsejaliste emakasisene seemendamine laparoskoopilise tehnikaga (teoreetiline koolitus)). \nKahepäevase kursuse viib läbi dr Antonio Spezzigu\, veterinaar ja väikemäletsejaliste sigimise ekspert Itaaliast. \nLektor töötab peamiselt väikemäletsejaliste ultraheliuuringu\, laparoskoopilise seemendamise ja embrüosiirdamise alal. Koostöös Sassari ülikooliga uurib Dr. Spezzigu rektaalse ultraheliuuringu abil lammaste ja kitsede folliikulite dünaamikat. \n  \nKursuse toimumise ajad: 6. juuni ja 9. juuni 15-18 \nKursuse toimumise koht: veebikeskkond Zoom (järeltõlge eesti keelde) \n  \nKoolituse 1. osa  6.06.2023 kell 15-18 \n– Sigimisfüsioloogia ja follikulaarne dünaamika väikemäletsejalistel \n– Inna sünkroniseerimise protokollid laparoskoopilise seemendamise jaoks \nVaata videot SIIT. \nKoolituse 2. osa 9.06.2023 kell 15-18 \n– Ultraheliseadmed ja andurid günekoloogilisteks uuringuteks\, erinevate seadmete plussid ja miinused \n– Sperma ettevalmistamine ja hindamine enne laparoskoopilist seemendamist \nVaata videot SIIT. \n  \nLisainfo: Marge Mänd\, EPKK projektijuht\, e-post: marge@epkk.ee\, tel: 53009034  \n  \nSündmus toimub MAK 2014-2020 „Teadmussiirde pikaajaline programm põllumajanduse\, toidu ja maamajanduse tegevusvaldkonnas“ raames. Rahastamisallikas: Euroopa Maaelu Põllumajandusfond (EAFRD). 
URL:https://test.pikk.ee/sundmus/lammaste-kunstlik-seemendamine/
LOCATION:Veebis\, Eesti
CATEGORIES:Loomakasvatus
ATTACH;FMTTYPE=image/jpeg:https://test.pikk.ee/wp-content/uploads/2023/04/goat-g8abc2e05a_1920-jpg.webp
ORGANIZER;CN="Eesti P%C3%B5llumajandus-Kaubanduskoda":MAILTO:info@epkk.ee
END:VEVENT
END:VCALENDAR