BEGIN:VCALENDAR
VERSION:2.0
PRODID:-//METK nõuandeteenistus - ECPv6.15.13//NONSGML v1.0//EN
CALSCALE:GREGORIAN
METHOD:PUBLISH
X-ORIGINAL-URL:https://test.pikk.ee
X-WR-CALDESC:Events for METK nõuandeteenistus
REFRESH-INTERVAL;VALUE=DURATION:PT1H
X-Robots-Tag:noindex
X-PUBLISHED-TTL:PT1H
BEGIN:VTIMEZONE
TZID:Europe/Tallinn
BEGIN:DAYLIGHT
TZOFFSETFROM:+0200
TZOFFSETTO:+0300
TZNAME:EEST
DTSTART:20220327T010000
END:DAYLIGHT
BEGIN:STANDARD
TZOFFSETFROM:+0300
TZOFFSETTO:+0200
TZNAME:EET
DTSTART:20221030T010000
END:STANDARD
BEGIN:DAYLIGHT
TZOFFSETFROM:+0200
TZOFFSETTO:+0300
TZNAME:EEST
DTSTART:20230326T010000
END:DAYLIGHT
BEGIN:STANDARD
TZOFFSETFROM:+0300
TZOFFSETTO:+0200
TZNAME:EET
DTSTART:20231029T010000
END:STANDARD
BEGIN:DAYLIGHT
TZOFFSETFROM:+0200
TZOFFSETTO:+0300
TZNAME:EEST
DTSTART:20240331T010000
END:DAYLIGHT
BEGIN:STANDARD
TZOFFSETFROM:+0300
TZOFFSETTO:+0200
TZNAME:EET
DTSTART:20241027T010000
END:STANDARD
END:VTIMEZONE
BEGIN:VEVENT
DTSTART;TZID=Europe/Tallinn:20230608T110000
DTEND;TZID=Europe/Tallinn:20230608T133000
DTSTAMP:20260423T102437
CREATED:20230515T134854Z
LAST-MODIFIED:20230609T085242Z
UID:10010653-1686222000-1686231000@test.pikk.ee
SUMMARY:EPKK infopäev "Uuemad arengud piimakarja söötmises"
DESCRIPTION:Eesti Põllumajandus-Kaubanduskoja infopäev „Uuemad arengud piimakarja söötmises“ \nAeg: 8. juunil\, kell 11.00 – 13.30 \nKoht: Veebikeskkond ZOOM \nInfopäeva on võimalik järelvaadata SIIN \n  \nPäevakavas* \n\nMetaani eritust vähendav söödalisand Bovaer ning selle praktilise kasutamise tulemused. Christer Ohlsson\, Ph.D\, Bovaeri äriarendusjuht\nSöötmisstrateegia lüpsilehmade tervise\, immuunsuse ja toodangu parandamiseks./ Võtmetegurid ainevahetuse kontrollimiseks üleminekuperioodil. Tõnis Jairus\, Anu Ait\, projektijuht/ loomakasvatusnõustaja\n\n  \n*Korraldajal on õigus teha päevakavas muudatusi \n  \n  \nLisainfo: Helen Orutar\, EPKK projektijuht\, e-post: helen@epkk.ee\, tel: 5353 4329 \nSündmus toimub MAK 2014-2020 „Teadmussiirde pikaajaline programm põllumajanduse\, toidu ja maamajanduse tegevusvaldkonnas“ raames. Rahastamisallikas: Euroopa Maaelu Põllumajandusfond (EAFRD).
URL:https://test.pikk.ee/sundmus/uuemad-arengud-piimakarja-sootmises/
CATEGORIES:Loomakasvatus,Maaettevõtlus
ATTACH;FMTTYPE=image/jpeg:https://test.pikk.ee/wp-content/uploads/2023/05/uuemad-arengud-piimakarja2-jpg.webp
ORGANIZER;CN="Eesti P%C3%B5llumajandus-Kaubanduskoda":MAILTO:info@epkk.ee
END:VEVENT
END:VCALENDAR