BEGIN:VCALENDAR
VERSION:2.0
PRODID:-//METK nõuandeteenistus - ECPv6.15.13//NONSGML v1.0//EN
CALSCALE:GREGORIAN
METHOD:PUBLISH
X-ORIGINAL-URL:https://test.pikk.ee
X-WR-CALDESC:Events for METK nõuandeteenistus
REFRESH-INTERVAL;VALUE=DURATION:PT1H
X-Robots-Tag:noindex
X-PUBLISHED-TTL:PT1H
BEGIN:VTIMEZONE
TZID:Europe/Tallinn
BEGIN:DAYLIGHT
TZOFFSETFROM:+0200
TZOFFSETTO:+0300
TZNAME:EEST
DTSTART:20230326T010000
END:DAYLIGHT
BEGIN:STANDARD
TZOFFSETFROM:+0300
TZOFFSETTO:+0200
TZNAME:EET
DTSTART:20231029T010000
END:STANDARD
BEGIN:DAYLIGHT
TZOFFSETFROM:+0200
TZOFFSETTO:+0300
TZNAME:EEST
DTSTART:20240331T010000
END:DAYLIGHT
BEGIN:STANDARD
TZOFFSETFROM:+0300
TZOFFSETTO:+0200
TZNAME:EET
DTSTART:20241027T010000
END:STANDARD
BEGIN:DAYLIGHT
TZOFFSETFROM:+0200
TZOFFSETTO:+0300
TZNAME:EEST
DTSTART:20250330T010000
END:DAYLIGHT
BEGIN:STANDARD
TZOFFSETFROM:+0300
TZOFFSETTO:+0200
TZNAME:EET
DTSTART:20251026T010000
END:STANDARD
END:VTIMEZONE
BEGIN:VEVENT
DTSTART;TZID=Europe/Tallinn:20240210T100000
DTEND;TZID=Europe/Tallinn:20240210T170000
DTSTAMP:20260421T031829
CREATED:20240122T174624Z
LAST-MODIFIED:20240123T085121Z
UID:10011001-1707559200-1707584400@test.pikk.ee
SUMMARY:Infopäev: Tee tervislikuma elu poole
DESCRIPTION:Tarmere OÜ korraldab infopäeva “Tee tervislikuma elu poole”. \nInfopäeval tutvustavad väikeettevõtjad oma tööprotseduure läbi töötubade. Käe saab külge lüüa tatrapadja ja meeküünla meisterdamises ning juuretise leiva valmistamises. \nEsinejad ja õpitubade läbiviijateks on Tarmere OÜ\, Sangaste Mesi OÜ\, Lemna OÜ\, Sirje käsitööleib\, Seljamaa talu OÜ. \nLisaks annab Kaidi Hunt praktilisi teadmisi näojoogast ja toitumise mõjust tervisele. \nTarmere OÜ viib päeva jooksul läbi ekskursiooni oma ettevõttes. Teada saab vastused küsimustele – kuidas jõuab tatar põllult poodi\, kuidas töötavad erinevad tootmismasinad ja kuidas valmib kanepiõli kosmeetika\, kanepikama\, tatrapasta. \n  \n*Esinejate nimekiri on veel täiendamisel. \n \nNB! Registreerumine üritusele toimub kohapeal. \n  \nLisainfo: \nMari-Liis Hendrikson \ne-mail: mahekanep@gmail.com \ntelefon: +372 56367225
URL:https://test.pikk.ee/sundmus/infopaev-tervislikum-elu/
LOCATION:Valgamaa\, Eesti
CATEGORIES:Maaettevõtlus
END:VEVENT
END:VCALENDAR