BEGIN:VCALENDAR
VERSION:2.0
PRODID:-//METK nõuandeteenistus - ECPv6.15.13//NONSGML v1.0//EN
CALSCALE:GREGORIAN
METHOD:PUBLISH
X-WR-CALNAME:METK nõuandeteenistus
X-ORIGINAL-URL:https://test.pikk.ee
X-WR-CALDESC:Events for METK nõuandeteenistus
REFRESH-INTERVAL;VALUE=DURATION:PT1H
X-Robots-Tag:noindex
X-PUBLISHED-TTL:PT1H
BEGIN:VTIMEZONE
TZID:Europe/Tallinn
BEGIN:DAYLIGHT
TZOFFSETFROM:+0200
TZOFFSETTO:+0300
TZNAME:EEST
DTSTART:20230326T010000
END:DAYLIGHT
BEGIN:STANDARD
TZOFFSETFROM:+0300
TZOFFSETTO:+0200
TZNAME:EET
DTSTART:20231029T010000
END:STANDARD
BEGIN:DAYLIGHT
TZOFFSETFROM:+0200
TZOFFSETTO:+0300
TZNAME:EEST
DTSTART:20240331T010000
END:DAYLIGHT
BEGIN:STANDARD
TZOFFSETFROM:+0300
TZOFFSETTO:+0200
TZNAME:EET
DTSTART:20241027T010000
END:STANDARD
BEGIN:DAYLIGHT
TZOFFSETFROM:+0200
TZOFFSETTO:+0300
TZNAME:EEST
DTSTART:20250330T010000
END:DAYLIGHT
BEGIN:STANDARD
TZOFFSETFROM:+0300
TZOFFSETTO:+0200
TZNAME:EET
DTSTART:20251026T010000
END:STANDARD
END:VTIMEZONE
BEGIN:VEVENT
DTSTART;VALUE=DATE:20240302
DTEND;VALUE=DATE:20240303
DTSTAMP:20260425T164519
CREATED:20231230T052524Z
LAST-MODIFIED:20231230T052524Z
UID:10010962-1709337600-1709423999@test.pikk.ee
SUMMARY:Seemnefestival 2024
DESCRIPTION:Traditsiooniline seemnefestival toimub 2. märtsil 2024 Jõgeval \nInfo lisandub
URL:https://test.pikk.ee/sundmus/seemnefestival-2024/
LOCATION:Jõgevamaa\, Jõgevamaa\, Eesti
CATEGORIES:Aiandus
ORGANIZER;CN="J%C3%B5gevamaa Koost%C3%B6%C3%B6koda":MAILTO:info@jogevamaa.co
END:VEVENT
BEGIN:VEVENT
DTSTART;TZID=Europe/Tallinn:20240306T100000
DTEND;TZID=Europe/Tallinn:20240306T170000
DTSTAMP:20260425T164519
CREATED:20240131T100016Z
LAST-MODIFIED:20240307T114000Z
UID:10011013-1709719200-1709744400@test.pikk.ee
SUMMARY:EPKK konverents Aiandusfoorum 2024
DESCRIPTION:Eesti Põllumajandus-kaubanduskoda kutsub osalema Aiandusfoorumil 2024  \nToimumise aeg: 6. märts 2024 kell 10.20-16.30\nToimumise formaat: hübriidkonverents\nToimumise koht: EMÜ Polli Aiandusuuringute Keskus (Uus tn 2\, Polli küla\, Mulgi vald\, Viljandi maakond) ja veebiülekanne\n  \nKonverents on järelvaadatav\, lingi leiate SIIT. \nPÄEVAKAVA*:  \n10.00 – 10.20 Kogunemine ja hommikukohv  \n10.20 – 12.00 Aiandusel on tulevikku!  \n\nFoorumi avamine\, tervitussõnad. Ants Noot\, Eesti Põllumajandus-Kaubanduskoja juhatuse esimees \nAiandussektor eile\, täna ja homme. Madis Pärtel\, Regionaal- ja Põllumajandusministeerium biomajanduse asekantsler \nUued juhtimisstrateegiad aianduses. Andres Kase\, Opstar Profit OÜ \nTagasivaade luuviljaliste sordiaretusest Pollis. Kersti Kahu\, EMÜ Polli aiandusuuringute keskus \n\n 12.00 – 13.00 Lõunapaus. \nLõunapausi ajal on võimalik külastada Polli laborit. Registreerumine kohapeal.  \n13.00 – 14.30 Aiandussektor kui võimaluste valdkond  \n\nEesti Toidupiirkond Mulgimaa – võimalus Eesti toidule. Leana Liivson\, Eesti toidupiirkond 2023 Mulgimaa eestvedaja \nKoostöö edukuse tagab ühine siht. Margus Timmo\, Aiasaaduste Väärinduskeskus OÜ juhataja ja Setomaa Liit MTÜ juhatuse esimees \nKogemuslugu Mahenäki vabrikust Süü ää. Piret Leskova\, Ää Süük OÜ \n\n14.30 – 15.00 Kohvipaus  \n15.00 – 16.20 ARUTELUPANEEL. Milliseid päästerõngaid on aiandussektoril vaja? \n16.20 – 16.30 Foorumi kokkuvõte  \nModeraator: Raivo Külasepp\, Grüne Fee Eesti AS tegevjuht  \n*Korraldajal on õigus teha päevakavas muudatusi  \nKonverentsil osalemine on TASUTA.\nKonverentsil osalemine läheb Keskkonnasõbraliku majandamise kohustuse (KSM) arvestusse.            \n   \nLisainfo: Marge Mänd\, EPKK projektijuht\, e-post: marge@epkk.ee\, tel: 53009034  \nSündmus toimub MAK 2014-2020 „Teadmussiirde pikaajaline programm põllumajanduse\, toidu ja maamajanduse tegevusvaldkonnas“ raames. Rahastamisallikas: Euroopa Maaelu Põllumajandusfond (EAFRD). 
URL:https://test.pikk.ee/sundmus/aiandusfoorum-2024/
LOCATION:Viljandimaa\, Viljandimaa\, Eesti
CATEGORIES:Aiandus,Keskkond,Maaettevõtlus,Taimekaitse,Tootmine ja kvaliteet
ATTACH;FMTTYPE=image/jpeg:https://test.pikk.ee/wp-content/uploads/2024/01/garden-1290804_1280-jpg.webp
ORGANIZER;CN="Eesti P%C3%B5llumajandus-Kaubanduskoda":MAILTO:info@epkk.ee
GEO:58.2821746;25.5752233
END:VEVENT
BEGIN:VEVENT
DTSTART;TZID=Europe/Tallinn:20240307T100000
DTEND;TZID=Europe/Tallinn:20240307T151500
DTSTAMP:20260425T164519
CREATED:20240112T124555Z
LAST-MODIFIED:20240112T124555Z
UID:10010974-1709805600-1709824500@test.pikk.ee
SUMMARY:Toiduhügieen ja enesekontroll eraelamus toidu valmistamisel (veebikoolitus)
DESCRIPTION:Täpsem info ja registreerumine SIIT \nKatrin Laikoja koolitus annab ülevaade enesekontrolli olemusest ja toiduhügieeni tagamise võtetest toidu käitlemisel eraelamus. \nKoolitusel käsitletavad teemad: \n\nEraelamus toidu valmistamine\nToidukäitleja kohustused (toidu ohutus\, enesekontroll\, jälgitavus jne) ja vastutus\nEnesekontrolliplaani koostamise juhend\, enesekontrolli põhimõtted\, eeltingimusprogrammid ja HACCP\nToiduhügieeni põhimõtted\nMikroorganismid ja nende kasvu ja paljunemist mõjutavad tegurid\nToiduainete kaudu levivad haigused\, toidumürgistused ja -infektsioonid\nToidu füüsikaline\, keemiline ja mikrobioloogiline saastumine ja selle vältimine\nPuhastamine\, desinfitseerimine\nToidukäitlemisruumi korrashoid\, kahjuritõrje\nIsiklik hügieen\n\nTäienduskoolitusest võivad osa võtta: \n\npõllumajandustoodete töötlemise või turustamisega tegelev füüsilisest isikust ettevõtja ja tema töötaja ning eraõigusliku juriidilise isiku osanik\, aktsionär\, liige\, juhtorgani liige ja tema töötaja;\npõllumajandustoodetest mittepõllumajandustoodete töötlemise sh toidu valmistamise või töötlemisega tegelev füüsilisest isikust ettevõtja ja tema töötaja ning eraõigusliku juriidilise isiku osanik\, aktsionär\, liige\, juhtorgani liige ja tema töötaja;\ntoidu valmistamise või töötlemisega tegelev avalik-õigusliku juriidilise isiku juhtorgani liige või töötaja;\npõllumajandustootjate valdkonda teenindavad isikud (nt kokkuostuga tegelevate ettevõtete töötajad);\nisikud (FIE-d või ettevõtte esindajad)\, kes koguvad teadmisi uue tegevusvaldkonna kohta;\npõllumajanduslike esindus- ja erialaorganisatsioonide (MTÜ-d\, mille liikmeteks on põllumajandussaaduste töötlejad) juhatuse liikmed ja töötajad.\n\nFüüsiliste isikute ja riigiametnike täienduskoolitusel osalemine ei ole toetatav! \nKoolitus toimub MAK 2014-2020 meetme “Teadmussiirde pikaajaline programm põllumajanduse\, toidu ja maamajanduse tegevusvaldkonnas” toidu ja toiduohutuse valdkonna raames\, toetab Euroopa Liit. \nKoolitusel osalemine on vähese tähtsusega abi (VTA). Abisumma ühe osavõtja kohta arvutatakse osavõtjate lõpliku arvu järgi\, kuid see ei ületa 250 eurot. \nEttevõtte VTA vaba jääki saab kontrollida veebilehelt: https://fin.ee/riigihanked-riigiabi-osalused-kin.. \nKui osaleja ettevõttel ei ole piisavalt VTA vaba jääki\, siis on osalemise eest antav toetus riigiabi ning sellisel juhul tuleb ettevõttel esitada enne tegevuse toimumist riigiabi taotlus (vormi saab korraldajalt).\nKeskmise suurusega ettevõtja korral toetatakse infopäeval või koolitusel osalemist 60%\, mikro-ja väikeettevõtja korral 70% ning suurettevõtja korral 50% ulatuses osaleja kohta.\nPuudujääv osa tuleb osalejal/ettevõttel endal tasuda. \n  \nKoolituse korraldaja:\nEesti Maaülikooli avatud ülikool\nFr. R. Kreutzwaldi 56/1\n51006 Tartu\,\ntel 731 3275\ne-post: avayl@emu.ee\nhttp://avatudylikool.emu.ee/
URL:https://test.pikk.ee/sundmus/toiduhugieen-ja-enesekontroll-eraelamus-toidu-valmistamisel-veebikoolitus/
LOCATION:Veebis\, Eesti
CATEGORIES:Aiandus,Loomakasvatus,Maaettevõtlus,Taimekasvatus,Toiduainete tootmine
ORGANIZER;CN="Eesti Maa%C3%BClikooli avatud %C3%BClikool":MAILTO:avayl@emu.ee
END:VEVENT
BEGIN:VEVENT
DTSTART;TZID=Europe/Tallinn:20240321T100000
DTEND;TZID=Europe/Tallinn:20240321T130000
DTSTAMP:20260425T164519
CREATED:20240301T141839Z
LAST-MODIFIED:20240321T104246Z
UID:10011031-1711015200-1711026000@test.pikk.ee
SUMMARY:EPKK infopäev "Seemneseminar"
DESCRIPTION:Eesti Põllumajandus-Kaubanduskoda kutsub osalema infopäeval veebis “Seemneseminar” \nToimumisaeg: 21. märts kell 10.00-13:00 \nToimumiskoht:  veebikeskkond Zoom \nInfopäev on järelvaadatav. Lingi leiate SIIT. \n  \nPäevakavas*: \n10:00-10:05 Infopäeva avamine. \n10:10-10:55 Oma tarbeks kasvatatud seeme ja ülevaade Eesti seemnesektorist. Christel Mölder\, Eesti Seemneliit\, tegevjuht \n11:00-11:45 Praktiline taimegeneetika sortide eristamisel\, aretamisel ja parandamisel. Kristiina Laanemets\, METK\, taimebiotehnoloogia osakonna juhataja \n11:50-12:35 METKi nõuandeteenistuse tegevused ja muutused. Leho Verk\, Maaelu Teadmuskeskuse koolitus- ja nõuandeteenistuse juhataja  \n12:30- 13:00 Uued aretustehnoloogiad. Kadri Just\, Regionaal- ja põllumajandusministeerium\, teadus- ja arendusosakonna peaspetsialist \nInfopäeva modereerib: Ragnar Viikoja\, Eesti Põllumajandus-Kaubanduskoja põllumajandusvaldkonna juht \n  \nLisainfo: Marge Mänd\, EPKK projektijuht\, e-post: marge@epkk.ee\, tel: 53009034 \nSündmus toimub MAK 2014-2020 „Teadmussiirde pikaajaline programm põllumajanduse\, toidu ja maamajanduse tegevusvaldkonnas“ raames. Rahastamisallikas: Euroopa Maaelu Põllumajandusfond (EAFRD).
URL:https://test.pikk.ee/sundmus/seemneseminar/
LOCATION:Veebis\, Eesti
CATEGORIES:Aiandus,Taimekaitse,Taimekasvatus
ATTACH;FMTTYPE=image/jpeg:https://test.pikk.ee/wp-content/uploads/2024/03/pexels-markus-spiske-113335-scaled.webp
ORGANIZER;CN="Eesti P%C3%B5llumajandus-Kaubanduskoda":MAILTO:info@epkk.ee
END:VEVENT
BEGIN:VEVENT
DTSTART;TZID=Europe/Tallinn:20240325T180000
DTEND;TZID=Europe/Tallinn:20240325T200000
DTSTAMP:20260425T164519
CREATED:20240319T062219Z
LAST-MODIFIED:20240319T062313Z
UID:10011046-1711389600-1711396800@test.pikk.ee
SUMMARY:Marjad koduaias - kuidas suurendada saagikust
DESCRIPTION:Marjad koduaias – kuidas suurendada saagikust?\n\n\nKoolitaja: Liina Arus\nToimumiskoht: Arensburg Boutique Hotel & Spa seminariruum (Lossi 15) ja veebis Zoomi keskkond\nToimumisaeg: 25.03.2024\nKellaaeg: 18.00-20.00\nOsalustasu: 15€   Soovid osaleda?Registreeri siin!\n\n\nSel korral on aiajuttudes teemaks marjad ja nende erinevad sordid\, mis võiksid ühes koduaias olemas olla. \nKäsitlemisele tulevad nii tavalisemad marjakultuurid (sõstrad\, vaarikad\, karusmarjad)\, aga ka mõningad huvitavad liigid (kuslapuu\, toompihlakas\, ebaküdoonia\, pampel jpt). \nJagame praktilisi näpunäiteid:  \n\nmilliseid sorte valida (nii vanemad kui uued)\,\nkuidas taimi istutada ja millele tähelepanu pöörata\,\nkuidas hooldada ja väetada\,\nmida teha kui avastad kahjustajaid.\n\n \nNB! Osaledes nii teoreetilisel koolitusel kui 24. märtsil toimuval praktilise hoolduslõikuse töötoas\, kehtib soodushind! \nKoolitaja: Liina Arus \nLiina Arus on õppinud Eesti Maaülikoolis aianduse erialal. Aastatel 1999-2023 töötas ta Polli Aiandusuuringute keskuses\, kus tegeles peamiselt marjakultuuride ja nendega seotud küsimuste ja teemadega. Suurimaks kireks on olnud alati vaarikas ja tema kasvatamine. Viimastel aastatel on ta olnud rohkem seotud vähemlevinud marjakultuuridega – kuslapuu\, toompihlakas\, karusmari\, aroonia\, ebaküdoonia\, must leeder ja lodjapuu. \nSamuti on Liina kirjutanud marjakasvatusteemalisi artikleid ja on mitmete raamatute autor (Maalehe “Vaarikaraamat”\, “Väike kuslapuuraamat”\, “Väike toompihlakaraamat”\, “Väike tikriraamat”\, “Väike arooniaraamat”\, “Väike leedriraamat”\, “Väike ebaküdooniaraamat”\, “Väike lodjapuuraamat”). Tänasel päeval on ta ettevõtja ja marjakasvatustalu perenaine (Heamari OÜ\, Facebookis Mulgimaa Marid). \n \nKoht: \nKoolitus toimub nii Arensburg Boutique Hotel & Spa seminariruumis kohapeal kui veebi vahendusel Zoomi keskkonnas. Seega on võimalik valida\, kuidas osaleda soovite – palun lisage kohaeelistus registreerides. Koolituse hind on 15 eurot. \nLisaks on soovijatel võimalik valida järelvaatamise võimalus. Sel juhul saadame pärast koolituse toimumist teile salvestuse\, mida saate 2 nädala jooksul järelvaadata. Koolituse hind koos salvestusega on 20 eurot. \nVeebis osalejatele saadetakse enne koolituse toimumist veebilink\, millega saab koolitusega liituda. Osalemiseks on vaja stabiilset internetiühendust\, kõlareid või kõrvaklappe ning soovi korral kaamerat ja mikrofoni. \nVäljastatav dokument \nKoolituse läbimisel väljastatakse soovi korral Kuressaare Rahvaülikooli tõend. \n\n\nKontakt:  Krista Hallik\, rahvaylikool@ktg.edu.ee\, +372 526 9690
URL:https://test.pikk.ee/sundmus/marjad-koduaias/
LOCATION:Veebis\, Eesti
CATEGORIES:Aiandus
END:VEVENT
BEGIN:VEVENT
DTSTART;TZID=Europe/Tallinn:20240326T090000
DTEND;TZID=Europe/Tallinn:20240326T170000
DTSTAMP:20260425T164519
CREATED:20240318T054730Z
LAST-MODIFIED:20240318T054730Z
UID:10011042-1711443600-1711472400@test.pikk.ee
SUMMARY:Taimekaitse täienduskoolitus professionaalsele taimekaitsevahendite kasutajale
DESCRIPTION:Teisipäeval\, 26.märtsil veebikeskkonnas MS Teams „Taimekaitse täienduskoolitus professionaalsele taimekaitsevahendite kasutajale“ (12h) algusega kell 9.00 Ootame koolitusele eelkõige neid\, kelle taimekaitse tunnistus aegub aprillis 2024\, kuid neidki\, kelle tunnistus aegub mais-juunis 2024. Koolitus on tasuline. \nTäpsem info ja kursusele registreerumine aianduskooli kodulehel https://www.aianduskool.ee/taimekaitse-veebikoolitus/ \n  \nEda Gross \nRäpia Aianduskooli \ntäienduskoolituse metoodik \ntel.: 7961 549 \nGSM 5346 1209
URL:https://test.pikk.ee/sundmus/taimekaitse-taienduskoolitus-professionaalsele-taimekaitsevahendite-kasutajale-25/
LOCATION:Veebis\, Eesti
CATEGORIES:Aiandus,Taimekaitse,Taimekasvatus
END:VEVENT
END:VCALENDAR