BEGIN:VCALENDAR
VERSION:2.0
PRODID:-//METK nõuandeteenistus - ECPv6.15.13//NONSGML v1.0//EN
CALSCALE:GREGORIAN
METHOD:PUBLISH
X-WR-CALNAME:METK nõuandeteenistus
X-ORIGINAL-URL:https://test.pikk.ee
X-WR-CALDESC:Events for METK nõuandeteenistus
REFRESH-INTERVAL;VALUE=DURATION:PT1H
X-Robots-Tag:noindex
X-PUBLISHED-TTL:PT1H
BEGIN:VTIMEZONE
TZID:Europe/Tallinn
BEGIN:DAYLIGHT
TZOFFSETFROM:+0200
TZOFFSETTO:+0300
TZNAME:EEST
DTSTART:20220327T010000
END:DAYLIGHT
BEGIN:STANDARD
TZOFFSETFROM:+0300
TZOFFSETTO:+0200
TZNAME:EET
DTSTART:20221030T010000
END:STANDARD
BEGIN:DAYLIGHT
TZOFFSETFROM:+0200
TZOFFSETTO:+0300
TZNAME:EEST
DTSTART:20230326T010000
END:DAYLIGHT
BEGIN:STANDARD
TZOFFSETFROM:+0300
TZOFFSETTO:+0200
TZNAME:EET
DTSTART:20231029T010000
END:STANDARD
BEGIN:DAYLIGHT
TZOFFSETFROM:+0200
TZOFFSETTO:+0300
TZNAME:EEST
DTSTART:20240331T010000
END:DAYLIGHT
BEGIN:STANDARD
TZOFFSETFROM:+0300
TZOFFSETTO:+0200
TZNAME:EET
DTSTART:20241027T010000
END:STANDARD
END:VTIMEZONE
BEGIN:VEVENT
DTSTART;TZID=Europe/Tallinn:20231011T100000
DTEND;TZID=Europe/Tallinn:20231011T150000
DTSTAMP:20260424T145834
CREATED:20230920T110308Z
LAST-MODIFIED:20231017T091104Z
UID:10010806-1697018400-1697036400@test.pikk.ee
SUMMARY:EPKK konverents “Maheturg 2023”
DESCRIPTION:11.10.2023 toimub EPKK konverents “Maheturg 2023”   \nMaheturg 2023 on informatiivne konverents\, mis annab osalejatele ülevaate mahetootmise ja mahepõllumajanduse hetkeseisust ning tulevikuväljavaadetest Eestis ning pakub võimalust aruteluks selles olulises valdkonnas.  \n Aeg: 11. oktoober\, kell 10.00-15.30  \nKoht: EPA messi raames Tartus ERM-i  teatrisaalis (B-osa)\, Muuseumi tee 2\, 60532 Tartu.  \nKonverents on järelvaadatav: https://video.saundland.ee/maheturg23/ \nPÄEVAKAVAS*:  \n9.30 – 10.00 Kogunemine ja tervituskohv  \n10.00-10.10 Avasõnad. Ants Noot\, Eesti Põllumajandus-Kaubanduskoja juhatuse esimees  \n10.10-10.40 Uued aretustehnikad ja mahe – sõbrad või igavesed vaenlased? Liina Jakobson\, METK Taimebiotehnoloogia osakond\, vanemteadur-juhataja  \n10.40-11.10 Uute aretustehnoloogiate võimalused mahesektorile Euroopa vaatest. Dominique Deojonckheere\, Copa Cogeca poliitikanõunik  \n11.10-11.35 Ülevaade mahesektori hetkeseisust\, toetustest ja rikkumistest. Kadri Koel\, PRIA\, Eelarve- ja analüüsiosakonna juhataja  \n11.35-12.00 Eesti mahepõllumajanduse edendamise tegevuskava aastateks 2023-2030. Marika Ruberg\, REM\, mahepõllumajanduse valdkonnajuht  \n12.00-12.30 Rohumaaveisekasvatuse seostest kliimamuutustega. Airi Külvet\, Puutsa talu perenaine  \n13.30-14.00 Mahe koolitoidu väljavaated riigi silmis. Marika Ruberg\, REM\, mahepõllumajanduse valdkonnajuht  \n14.00-14.30 Mahe koolitoidu peaprobleemid ja võimalused. Aaro Lode\, Baltic Restaurants Estonia AS\, tegevdirektor    \n14.30-15.30 Arutelupaneel. Mahetoidu positsiooni kindlustamine eestlaste toidulaual.  \nPäeva modereerib: Elen Peetsmann  \nLisainfo: Marge Mänd\, EPKK projektijuht\, e-post: marge@epkk.ee\, tel: 53009034  \nSündmus toimub MAK 2014-2020 „Teadmussiirde pikaajaline programm põllumajanduse\, toidu ja maamajanduse tegevusvaldkonnas“ raames. Rahastamisallikas: Euroopa Maaelu Põllumajandusfond (EAFRD).   
URL:https://test.pikk.ee/sundmus/maheturg2023/
LOCATION:Tartu\, Eesti
CATEGORIES:Keskkond,Maaettevõtlus,Mahemajandus,Süsinik,Taimekasvatus,Tootmine ja kvaliteet
ATTACH;FMTTYPE=image/jpeg:https://test.pikk.ee/wp-content/uploads/2023/09/litchi-2352567_1280-jpg.webp
ORGANIZER;CN="Eesti P%C3%B5llumajandus-Kaubanduskoda":MAILTO:info@epkk.ee
END:VEVENT
BEGIN:VEVENT
DTSTART;VALUE=DATE:20231016
DTEND;VALUE=DATE:20231019
DTSTAMP:20260424T145834
CREATED:20231003T155751Z
LAST-MODIFIED:20231014T183647Z
UID:10010833-1697414400-1697673599@test.pikk.ee
SUMMARY:Mahelambakasvatuse õppereis Rootsi ja Norra
DESCRIPTION:Mahepõllumajanduse Koostöökogu korraldab 16.-18. oktoobril 2023 kolmepäevase mahelambakasvatuse õppereisi Rootsi ja Norra.  \nÕppereisi käigus külastatakse mahelambakasvatusega tegelevaid talusid Rootsis ja Norras ning toimub arutelu otseturunduse ja tootjate koostöö teemal. \nOsalemiseks on kindlasti vajalik eelregistreerumine hiljemalt 22. septembriks e-maili maheteave@gmail.com teel. Kohtade arv on piiratud\, registreerimine lõpetatakse kohtade täitumisel enne tähtaega. NB! KOHAD ON TÄIS! \nÕppereisil osaleja omaosalus on 300 eurot\, mis tuleb maksta vähemalt 14 päeva enne reisi toimumist. \nLisainfo: maheteave@gmail.com \nÕppereis toimub MAK 2014-2020 meetme „Teadmussiirde pikaajaline programm põllumajanduse\, toidu ja maamajanduse tegevusvaldkonnas“ mahemajanduse valdkonna raames\, toetab Euroopa Liit.
URL:https://test.pikk.ee/sundmus/mahelambakasvatuse-oppereis-rootsi-ja-norra/
LOCATION:Muu\, Eesti
CATEGORIES:Loomakasvatus,Mahemajandus
GEO:58.595272;25.0136071
END:VEVENT
BEGIN:VEVENT
DTSTART;TZID=Europe/Tallinn:20231018T100000
DTEND;TZID=Europe/Tallinn:20231018T144500
DTSTAMP:20260424T145834
CREATED:20231003T153715Z
LAST-MODIFIED:20231003T153715Z
UID:10010828-1697623200-1697640300@test.pikk.ee
SUMMARY:Mahepõllumajanduslik aiandus alustajatele
DESCRIPTION:Alustajatele mahetootjale toimuvad oktoobri teises pooles kaks taimekasvatuse ja kaks loomakasvatuse veebipõhist õppepäeva. \n18. oktoober 10:00-14:45\, keskkonnas Zoom \nMahepõllumajanduslik aiandus alustajatele \n\nPeamised mahepõllumajanduse nõuded aianduses\nKöögiviljade kasvatamine mahetootmises\nPuuviljade ja marjade kasvatamine mahetootmises\n\nLektorid: Priit Põldma\, Kersti Kahu\, Airi Vetemaa \nRegistreerumine: https://forms.gle/e1kTHn1LJpXQTWhR9 \n19. oktoober 10:00-14:45\, keskkonnas Zoom \nMahepõllumajanduslik põllukultuuride kasvatus alustajatele \n\nPeamised mahepõllumajanduse nõuded põllukultuuride kasvatamisel\nPõllukultuuride kasvatamine mahetootmises – külvikord kui tootmissüsteemi alussammas\, huumusbilanss\, vahekultuurid ja haljasväetised\, umbrohtude kontrolli all hoidmine\, väetamine\nOlulisemad tingimuslikkuse nõuded taimekasvatajale\n\nLektorid: Liina Talgre\, Lilia Kulli\, Airi Vetemaa \nRegistreerumine: https://forms.gle/5jep7ZGB4AeQPZ5bA \n23. oktoober 9:30-14:15\, keskkonnas Zoom \nMahepõllumajanduslik lihaveisekasvatus alustajatele \n\nLoomade karjatamine ja söödatootmine\, sh maaressurss; talvine pidamine\nLoomade fikseerimise võimalused\, ohutus\nLoomade tervis/haigused\, tiinestamine\, poegimine\n\nLektorid: Airi Külvet\, Alar Onoper \nRegistreerumine: https://forms.gle/EhiSL9L6kSKHCZGT9 \n24. oktoober 10:00-14:45\, keskkonnas Zoom \nMahepõllumajanduslik loomakasvatus alustajatele \n\nPeamised maheloomakasvatuse nõuded ja põhimõtted\nOlulisemad tingimuslikkuse nõuded loomakasvatajale\nMaheloomakasvatajate võimalused erinevate toetuste taotlemisel\n\nLektorid: Ell Sellis\, Airi Vetemaa \nRegistreerumine: https://forms.gle/sTWFqfpK3jAe31zL6 \nInfopäevad on tasuta. \nInfopäevad korraldab Mahepõllumajanduse Koostöökogu koostöös Eesti Mahepõllumajanduse Sihtasutusega. \nInfopäevad toimuvad MAK 2014-2020 meetme „Teadmussiirde pikaajaline programm põllumajanduse\, toidu ja maamajanduse tegevusvaldkonnas“ raames\, toetab Euroopa Liit.
URL:https://test.pikk.ee/sundmus/mahepollumajanduslik-aiandus-alustajatele/
LOCATION:Veebis\, Eesti
CATEGORIES:Aiandus,Mahemajandus
END:VEVENT
BEGIN:VEVENT
DTSTART;TZID=Europe/Tallinn:20231019T100000
DTEND;TZID=Europe/Tallinn:20231019T144500
DTSTAMP:20260424T145834
CREATED:20231003T154035Z
LAST-MODIFIED:20231003T154035Z
UID:10010829-1697709600-1697726700@test.pikk.ee
SUMMARY:Mahepõllumajanduslik põllukultuuride kasvatus alustajatele
DESCRIPTION:Alustajatele mahetootjale toimuvad oktoobri teises pooles kaks taimekasvatuse ja kaks loomakasvatuse veebipõhist õppepäeva. \n18. oktoober 10:00-14:45\, keskkonnas Zoom \nMahepõllumajanduslik aiandus alustajatele \n\nPeamised mahepõllumajanduse nõuded aianduses\nKöögiviljade kasvatamine mahetootmises\nPuuviljade ja marjade kasvatamine mahetootmises\n\nLektorid: Priit Põldma\, Kersti Kahu\, Airi Vetemaa \nRegistreerumine: https://forms.gle/e1kTHn1LJpXQTWhR9 \n  \n19. oktoober 10:00-14:45\, keskkonnas Zoom \nMahepõllumajanduslik põllukultuuride kasvatus alustajatele \n\nPeamised mahepõllumajanduse nõuded põllukultuuride kasvatamisel\nPõllukultuuride kasvatamine mahetootmises – külvikord kui tootmissüsteemi alussammas\, huumusbilanss\, vahekultuurid ja haljasväetised\, umbrohtude kontrolli all hoidmine\, väetamine\nOlulisemad tingimuslikkuse nõuded taimekasvatajale\n\nLektorid: Liina Talgre\, Lilia Kulli\, Airi Vetemaa \nRegistreerumine: https://forms.gle/5jep7ZGB4AeQPZ5bA \n  \n23. oktoober 9:30-14:15\, keskkonnas Zoom \nMahepõllumajanduslik lihaveisekasvatus alustajatele \n\nLoomade karjatamine ja söödatootmine\, sh maaressurss; talvine pidamine\nLoomade fikseerimise võimalused\, ohutus\nLoomade tervis/haigused\, tiinestamine\, poegimine\n\nLektorid: Airi Külvet\, Alar Onoper \nRegistreerumine: https://forms.gle/EhiSL9L6kSKHCZGT9 \n  \n24. oktoober 10:00-14:45\, keskkonnas Zoom \nMahepõllumajanduslik loomakasvatus alustajatele \n\nPeamised maheloomakasvatuse nõuded ja põhimõtted\nOlulisemad tingimuslikkuse nõuded loomakasvatajale\nMaheloomakasvatajate võimalused erinevate toetuste taotlemisel\n\nLektorid: Ell Sellis\, Airi Vetemaa \nRegistreerumine: https://forms.gle/sTWFqfpK3jAe31zL6 \nInfopäevad on tasuta. \nInfopäevad korraldab Mahepõllumajanduse Koostöökogu koostöös Eesti Mahepõllumajanduse Sihtasutusega. \nInfopäevad toimuvad MAK 2014-2020 meetme „Teadmussiirde pikaajaline programm põllumajanduse\, toidu ja maamajanduse tegevusvaldkonnas“ raames\, toetab Euroopa Liit.
URL:https://test.pikk.ee/sundmus/mahepollumajanduslik-pollukultuuride-kasvatus-alustajatele/
LOCATION:Veebis\, Eesti
CATEGORIES:Mahemajandus,Taimekasvatus
END:VEVENT
BEGIN:VEVENT
DTSTART;TZID=Europe/Tallinn:20231020T143000
DTEND;TZID=Europe/Tallinn:20231020T170000
DTSTAMP:20260424T145834
CREATED:20231014T074656Z
LAST-MODIFIED:20231014T074734Z
UID:10010854-1697812200-1697821200@test.pikk.ee
SUMMARY:Uute aretustehnoloogiate infopäev mahetaimekasvatajatele
DESCRIPTION:Mahepõllumajanduse Koostöökogu korraldab 20. oktoobril kl 14:30 – 17:00 välislektoriga infopäeva: Uute aretustehnoloogiate infopäev mahetaimekasvatajatele \n  \nKavas: \n\nMahepõllumajanduse katusorganisatsiooni IFOAM vaade uutele aretustehnikatele – Jan Plagge (IFOAM president) ja Helena Schmutzler (IFOAM)\nUute aretustehnikate ja sellega seotud määruse eelnõu tutvustus\n\n  \nInfopäev toimub Zoomi keskkonnas\, registreerunud osalejatele saadetakse link hiljemalt kaks päeva enne üritust. Välislektori ettekanne tõlgitakse eesti keelde. \nInfopäev on tasuta. Osalemiseks on kindlasti vaja registreeruda hiljemalt 18. oktoobriks siin: https://forms.gle/7tjELqMy5MT66Y7P9 \n  \nLisainfo: maheteave@gmail.com \nInfopäev toimub MAK 2014-2020 „Teadmussiirde programm põllumajanduse\, toidu ja maamajanduse tegevusvaldkonnas“ raames\, toetab Euroopa Liit.
URL:https://test.pikk.ee/sundmus/aretustehnoloogia-mahetaimekavatus/
LOCATION:Veebis\, Eesti
CATEGORIES:Mahemajandus,Taimekasvatus
END:VEVENT
BEGIN:VEVENT
DTSTART;TZID=Europe/Tallinn:20231023T093000
DTEND;TZID=Europe/Tallinn:20231023T141500
DTSTAMP:20260424T145834
CREATED:20231003T154213Z
LAST-MODIFIED:20231003T154213Z
UID:10010830-1698053400-1698070500@test.pikk.ee
SUMMARY:Mahepõllumajanduslik lihaveisekasvatus alustajatele
DESCRIPTION:Alustajatele mahetootjale toimuvad oktoobri teises pooles kaks taimekasvatuse ja kaks loomakasvatuse veebipõhist õppepäeva. \n18. oktoober 10:00-14:45\, keskkonnas Zoom \nMahepõllumajanduslik aiandus alustajatele \n\nPeamised mahepõllumajanduse nõuded aianduses\nKöögiviljade kasvatamine mahetootmises\nPuuviljade ja marjade kasvatamine mahetootmises\n\nLektorid: Priit Põldma\, Kersti Kahu\, Airi Vetemaa \nRegistreerumine: https://forms.gle/e1kTHn1LJpXQTWhR9 \n  \n19. oktoober 10:00-14:45\, keskkonnas Zoom \nMahepõllumajanduslik põllukultuuride kasvatus alustajatele \n\nPeamised mahepõllumajanduse nõuded põllukultuuride kasvatamisel\nPõllukultuuride kasvatamine mahetootmises – külvikord kui tootmissüsteemi alussammas\, huumusbilanss\, vahekultuurid ja haljasväetised\, umbrohtude kontrolli all hoidmine\, väetamine\nOlulisemad tingimuslikkuse nõuded taimekasvatajale\n\nLektorid: Liina Talgre\, Lilia Kulli\, Airi Vetemaa \nRegistreerumine: https://forms.gle/5jep7ZGB4AeQPZ5bA \n  \n23. oktoober 9:30-14:15\, keskkonnas Zoom \nMahepõllumajanduslik lihaveisekasvatus alustajatele \n\nLoomade karjatamine ja söödatootmine\, sh maaressurss; talvine pidamine\nLoomade fikseerimise võimalused\, ohutus\nLoomade tervis/haigused\, tiinestamine\, poegimine\n\nLektorid: Airi Külvet\, Alar Onoper \nRegistreerumine: https://forms.gle/EhiSL9L6kSKHCZGT9 \n  \n24. oktoober 10:00-14:45\, keskkonnas Zoom \nMahepõllumajanduslik loomakasvatus alustajatele \n\nPeamised maheloomakasvatuse nõuded ja põhimõtted\nOlulisemad tingimuslikkuse nõuded loomakasvatajale\nMaheloomakasvatajate võimalused erinevate toetuste taotlemisel\n\nLektorid: Ell Sellis\, Airi Vetemaa \nRegistreerumine: https://forms.gle/sTWFqfpK3jAe31zL6 \nInfopäevad on tasuta. \nInfopäevad korraldab Mahepõllumajanduse Koostöökogu koostöös Eesti Mahepõllumajanduse Sihtasutusega. \nInfopäevad toimuvad MAK 2014-2020 meetme „Teadmussiirde pikaajaline programm põllumajanduse\, toidu ja maamajanduse tegevusvaldkonnas“ raames\, toetab Euroopa Liit.
URL:https://test.pikk.ee/sundmus/mahepollumajanduslik-lihaveisekasvatus-alustajatele/
LOCATION:Veebis\, Eesti
CATEGORIES:Loomakasvatus,Mahemajandus
END:VEVENT
BEGIN:VEVENT
DTSTART;TZID=Europe/Tallinn:20231023T140000
DTEND;TZID=Europe/Tallinn:20231023T170000
DTSTAMP:20260424T145834
CREATED:20231014T074145Z
LAST-MODIFIED:20231014T074145Z
UID:10010853-1698069600-1698080400@test.pikk.ee
SUMMARY:Maheettevõtte külastusega infopäev Saaremaal
DESCRIPTION:Mahepõllumajanduse Koostöökogu korraldab 23. oktoobril k 14:00 – 17:00 ettevõtte külastusega infopäeva Saaremaal. \n  \nKavas:  \n\nRiido Ökotalu mahetaimekasvatuse tutvustus. Arutelu mahepõllukultuuride kasvatamise teemal;\nKSM toetusega seonduvad aspektid.\n\nLektorid: Jaan Kiider (Riido Ökotalu)\, Veeve Kaasik (konsulent)\, Merit Mikk (Mahepõllumajanduse Koostöökogu). \nInfopäev toimub Vaivere Seltsimajas (Vaivere\, Saaremaa) ja Riido Ökotalu OÜ põldudel. \n  \nInfopäev on tasuta. Osalemiseks on kindlasti vaja registreeruda hiljemalt 13. oktoobriks siin: https://forms.gle/ZyQsyz19jArB3JWb9 \nOsalejate arv on piiratud\, registreerimine lõpetatakse kohtade täitumisel. \n  \nÜritus läheb arvesse KSM toetuse kohustusliku koolitusena. \n  \nLisainfo: maheteave@gmail.com \nInfopäev toimub MAK 2014-2020 meetme „Teadmussiirde programm põllumajanduse\, toidu ja maamajanduse tegevusvaldkonnas“ mahemajanduse valdkonna raames\, toetab Euroopa Liit.
URL:https://test.pikk.ee/sundmus/mahe-saaremaal/
LOCATION:Saaremaa\, Saaremaa
CATEGORIES:Mahemajandus,Taimekasvatus
GEO:58.3705526;22.6876383
END:VEVENT
BEGIN:VEVENT
DTSTART;TZID=Europe/Tallinn:20231024T100000
DTEND;TZID=Europe/Tallinn:20231024T144500
DTSTAMP:20260424T145834
CREATED:20231003T154313Z
LAST-MODIFIED:20231003T154313Z
UID:10010831-1698141600-1698158700@test.pikk.ee
SUMMARY:Mahepõllumajanduslik loomakasvatus alustajatele
DESCRIPTION:Alustajatele mahetootjale toimuvad oktoobri teises pooles kaks taimekasvatuse ja kaks loomakasvatuse veebipõhist õppepäeva. \n18. oktoober 10:00-14:45\, keskkonnas Zoom \nMahepõllumajanduslik aiandus alustajatele \n\nPeamised mahepõllumajanduse nõuded aianduses\nKöögiviljade kasvatamine mahetootmises\nPuuviljade ja marjade kasvatamine mahetootmises\n\nLektorid: Priit Põldma\, Kersti Kahu\, Airi Vetemaa \nRegistreerumine: https://forms.gle/e1kTHn1LJpXQTWhR9 \n  \n19. oktoober 10:00-14:45\, keskkonnas Zoom \nMahepõllumajanduslik põllukultuuride kasvatus alustajatele \n\nPeamised mahepõllumajanduse nõuded põllukultuuride kasvatamisel\nPõllukultuuride kasvatamine mahetootmises – külvikord kui tootmissüsteemi alussammas\, huumusbilanss\, vahekultuurid ja haljasväetised\, umbrohtude kontrolli all hoidmine\, väetamine\nOlulisemad tingimuslikkuse nõuded taimekasvatajale\n\nLektorid: Liina Talgre\, Lilia Kulli\, Airi Vetemaa \nRegistreerumine: https://forms.gle/5jep7ZGB4AeQPZ5bA \n  \n23. oktoober 9:30-14:15\, keskkonnas Zoom \nMahepõllumajanduslik lihaveisekasvatus alustajatele \n\nLoomade karjatamine ja söödatootmine\, sh maaressurss; talvine pidamine\nLoomade fikseerimise võimalused\, ohutus\nLoomade tervis/haigused\, tiinestamine\, poegimine\n\nLektorid: Airi Külvet\, Alar Onoper \nRegistreerumine: https://forms.gle/EhiSL9L6kSKHCZGT9 \n  \n24. oktoober 10:00-14:45\, keskkonnas Zoom \nMahepõllumajanduslik loomakasvatus alustajatele \n\nPeamised maheloomakasvatuse nõuded ja põhimõtted\nOlulisemad tingimuslikkuse nõuded loomakasvatajale\nMaheloomakasvatajate võimalused erinevate toetuste taotlemisel\n\nLektorid: Ell Sellis\, Airi Vetemaa \nRegistreerumine: https://forms.gle/sTWFqfpK3jAe31zL6 \nInfopäevad on tasuta. \nInfopäevad korraldab Mahepõllumajanduse Koostöökogu koostöös Eesti Mahepõllumajanduse Sihtasutusega. \nInfopäevad toimuvad MAK 2014-2020 meetme „Teadmussiirde pikaajaline programm põllumajanduse\, toidu ja maamajanduse tegevusvaldkonnas“ raames\, toetab Euroopa Liit.
URL:https://test.pikk.ee/sundmus/mahepollumajanduslik-loomakasvatus-alustajatele-2/
LOCATION:Veebis\, Eesti
CATEGORIES:Loomakasvatus,Mahemajandus
END:VEVENT
BEGIN:VEVENT
DTSTART;VALUE=DATE:20231025
DTEND;VALUE=DATE:20231028
DTSTAMP:20260424T145834
CREATED:20231003T154830Z
LAST-MODIFIED:20231003T154830Z
UID:10010832-1698192000-1698451199@test.pikk.ee
SUMMARY:Mahelihaveisekasvatuse õppereis Soome
DESCRIPTION:Mahepõllumajanduse Koostöökogu korraldab 25.-27. oktoobril 2023 kolmepäevase mahelihaveisekasvatuse õppereisi Soome.  \nÕppereisi käigus külastatakse mahelihaveisekasvatuse tegelevaid ettevõtteid (Hirvilammen Luomu\, Hongola Gard\, Kankaanpään tila\, Kestilän tila\, üks ettevõte  kinnitamisel) Hämeenlinna-Forssa-Tampere piirkonnas ja toimub arutelu jätkusuutliku karjatamise teemadel Johanna Jahkolaga. \nOsalemiseks on kindlasti vajalik eelregistreerumine hiljemalt 27. septembriks e-maili maheteave@gmail.com teel. Kohtade arv on piiratud\, registreerimine lõpetatakse kohtade täitumisel enne tähtaega. NB! KOHAD ON TÄIS! \nÕppereisil osaleja omaosalus on 300 eurot\, mis tuleb maksta vähemalt 14 päeva enne reisi toimumist. \nLisainfo: maheteave@gmail.com \nÕppereis toimub MAK 2014-2020 meetme „Teadmussiirde pikaajaline programm põllumajanduse\, toidu ja maamajanduse tegevusvaldkonnas“ mahemajanduse valdkonna raames\, toetab Euroopa Liit.
URL:https://test.pikk.ee/sundmus/mahelihaveisekasvatuse-oppereis-soome-2/
CATEGORIES:Loomakasvatus,Mahemajandus
END:VEVENT
BEGIN:VEVENT
DTSTART;TZID=Europe/Tallinn:20231031T100000
DTEND;TZID=Europe/Tallinn:20231031T130000
DTSTAMP:20260424T145834
CREATED:20231025T194906Z
LAST-MODIFIED:20231025T194906Z
UID:10010887-1698746400-1698757200@test.pikk.ee
SUMMARY:Ettevõtte külastus: Mahe Eeriksaare OÜ
DESCRIPTION:Mahepõllumajanduse Koostöökogu korraldab 31. oktoobril k 10:00 – 13:00 ettevõtte külastuse ettevõttesse Mahe Eeriksaare OÜ: Viljandimaa\, Viljandi vald\, Vissuvere küla\, Eeriksaare \nKavas:  \nMahe Eeriksaare OÜ tegevuse tutvustus – maitse- ja ravimtaimede kasvatamine\, töötlemine  ja ladustamine\, koostöövõimalused. Põldude ja tootmishoonete külastus https://www.eeriksaare.ee/. \nEttevõtet tutvustab Martin Laansalu \nEttevõtte külastus on tasuta. Registreerimine on lõppenud!  \nLisainfo: maheteave@gmail.com \nEttevõtte külastus toimub koostöös Eesti Mahepõllumajanduse Sihtasutusega. \nEttevõtte külastus toimub MAK 2014-2020 meetme „Teadmussiirde programm põllumajanduse\, toidu ja maamajanduse tegevusvaldkonnas“ mahemajanduse valdkonna raames\, toetab Euroopa Liit.
URL:https://test.pikk.ee/sundmus/ettevotte-kulastus-mahe-eeriksaare-ou/
LOCATION:Viljandimaa\, Viljandimaa\, Eesti
CATEGORIES:Aiandus,Mahemajandus,Taimekasvatus,Tootmine ja kvaliteet
GEO:58.2821746;25.5752233
END:VEVENT
END:VCALENDAR