BEGIN:VCALENDAR
VERSION:2.0
PRODID:-//METK nõuandeteenistus - ECPv6.15.13//NONSGML v1.0//EN
CALSCALE:GREGORIAN
METHOD:PUBLISH
X-WR-CALNAME:METK nõuandeteenistus
X-ORIGINAL-URL:https://test.pikk.ee
X-WR-CALDESC:Events for METK nõuandeteenistus
REFRESH-INTERVAL;VALUE=DURATION:PT1H
X-Robots-Tag:noindex
X-PUBLISHED-TTL:PT1H
BEGIN:VTIMEZONE
TZID:Europe/Tallinn
BEGIN:DAYLIGHT
TZOFFSETFROM:+0200
TZOFFSETTO:+0300
TZNAME:EEST
DTSTART:20220327T010000
END:DAYLIGHT
BEGIN:STANDARD
TZOFFSETFROM:+0300
TZOFFSETTO:+0200
TZNAME:EET
DTSTART:20221030T010000
END:STANDARD
BEGIN:DAYLIGHT
TZOFFSETFROM:+0200
TZOFFSETTO:+0300
TZNAME:EEST
DTSTART:20230326T010000
END:DAYLIGHT
BEGIN:STANDARD
TZOFFSETFROM:+0300
TZOFFSETTO:+0200
TZNAME:EET
DTSTART:20231029T010000
END:STANDARD
BEGIN:DAYLIGHT
TZOFFSETFROM:+0200
TZOFFSETTO:+0300
TZNAME:EEST
DTSTART:20240331T010000
END:DAYLIGHT
BEGIN:STANDARD
TZOFFSETFROM:+0300
TZOFFSETTO:+0200
TZNAME:EET
DTSTART:20241027T010000
END:STANDARD
END:VTIMEZONE
BEGIN:VEVENT
DTSTART;TZID=Europe/Tallinn:20231201T123000
DTEND;TZID=Europe/Tallinn:20231201T173000
DTSTAMP:20260425T063357
CREATED:20231123T185056Z
LAST-MODIFIED:20231123T185056Z
UID:10010935-1701433800-1701451800@test.pikk.ee
SUMMARY:Mahemajanduse infopäev
DESCRIPTION:Mahepõllumajanduse Koostöökogu korraldab 1. detsembril k 12.30 – 17.30 Tallinnas (Nooda tee 8) mahemajanduse infopäeva. \nInfopäeva peamiseks teemaks on mahetoodete turundus (eristumine\, sõnumite olulisus jm). Lektoriks on Tartu Ülikooli turunduse professor Andres Kuusik. \nEttekannetele järgneb arutelu aktuaalsetel mahemajanduse teemadel. \nInfopäev on tasuta\, osalemiseks on vajalik eelregistreerumine e-maili aadressil maheteave@gmail.com hiljemalt 23.11.2023. \nNB! Kohtade arv on piiratud\, registreerumine lõpetatakse kohtade täitumisel enne registreerimistähtaega. \nInfopäev toimub MAK 2014-2020 meetme „Teadmussiirde programm põllumajanduse\, toidu ja maamajanduse tegevusvaldkonnas“ mahemajanduse valdkonna raames\, toetab Euroopa Liit.
URL:https://test.pikk.ee/sundmus/mahemajanduse-infopaev-3/
LOCATION:Tallinn
CATEGORIES:Mahemajandus
END:VEVENT
BEGIN:VEVENT
DTSTART;TZID=Europe/Tallinn:20231202T093000
DTEND;TZID=Europe/Tallinn:20231202T143000
DTSTAMP:20260425T063357
CREATED:20231123T185725Z
LAST-MODIFIED:20231123T185725Z
UID:10010936-1701509400-1701527400@test.pikk.ee
SUMMARY:Mahemesinduse infopäev välislektoriga
DESCRIPTION:Mahepõllumajanduse Koostöökogu korraldab 2. detsembril k 9.30 – 14.30 Tallinnas (Nooda tee 8) välislektoriga mahemesinduse infopäeva. \nLektoriteks on pikaajalise kogemusega Soome mahemesinikud Ari Seppälä (https://www.mielihyvinhunaja.fi/) ja Marja Komppa. \nPeamised teemad: \n\nSoome mahemesindussektori ülevaade:\nPlaneerimine ja efektiivsed töövõtted mesinduses;\nTootearendus ja turundus\n\nEttekannetele järgneb arutelu. \nEttekanded tõlgitakse eesti keelde. \nInfopäev on tasuta\, osalemiseks on vajalik eelregistreerumine e-maili aadressil maheteave@gmail.com hiljemalt 23.11.2023. \nNB! Kohtade arv on piiratud\, registreerumine lõpetatakse kohtade täitumisel enne registreerimistähtaega. \nInfopäev toimub MAK 2014-2020 meetme „Teadmussiirde programm põllumajanduse\, toidu ja maamajanduse tegevusvaldkonnas“ mahemajanduse valdkonna raames\, toetab Euroopa Liit.
URL:https://test.pikk.ee/sundmus/mahemesinduse-infopaev-valislektoriga/
LOCATION:Tallinn
CATEGORIES:Mahemajandus,Mesindus
END:VEVENT
BEGIN:VEVENT
DTSTART;TZID=Europe/Tallinn:20231202T110000
DTEND;TZID=Europe/Tallinn:20231202T140000
DTSTAMP:20260425T063357
CREATED:20231123T123244Z
LAST-MODIFIED:20231123T123244Z
UID:10010932-1701514800-1701525600@test.pikk.ee
SUMMARY:Ettevõtte külastus Tartumaal
DESCRIPTION:Mahepõllumajanduse Koostöökogu korraldab 2. detsembril k 11:00 – 14:00 ettevõtte külastuse ettevõttesse Erto Talu OÜ\, Kõrenduse küla\, Tartumaa \nKavas:  \nErto Talu OÜ tutvustus – köögivilja ja põllukultuuride kasvatus\, lihaveised. Mullaviljakuse säilitamise praktilised võtted. \nEttevõtet tutvustab Margo Mansberg \nInfopäev on tasuta. Osalemiseks on kindlasti vaja registreeruda hiljemalt 27. novembriks siin: https://forms.gle/6JbmQ29E16cBDzUN7 \nOsalejate arv on piiratud\, registreerimine lõpetatakse kohtade täitumisel. \n  \nLisainfo: maheteave@gmail.com \nInfopäev toimub koostöös Eesti Mahepõllumajanduse Sihtasutusega. \nInfopäev toimub MAK 2014-2020 meetme „Teadmussiirde programm põllumajanduse\, toidu ja maamajanduse tegevusvaldkonnas“ mahemajanduse valdkonna raames\, toetab Euroopa Liit.
URL:https://test.pikk.ee/sundmus/ettevotte-kulastus-tartumaal/
LOCATION:Tartumaa\, Eesti
CATEGORIES:Mahemajandus
GEO:58.4057128;26.801576
END:VEVENT
BEGIN:VEVENT
DTSTART;TZID=Europe/Tallinn:20231205T150000
DTEND;TZID=Europe/Tallinn:20231205T180000
DTSTAMP:20260425T063357
CREATED:20231123T122928Z
LAST-MODIFIED:20231123T191125Z
UID:10010931-1701788400-1701799200@test.pikk.ee
SUMMARY:Ettevõtte külastus Pärnumaal
DESCRIPTION:Mahepõllumajanduse Koostöökogu korraldab 5. detsembril k 15:00 – 18:00 ettevõtte külastuse ettevõttesse Piesta Kuusikaru OÜ\, Kullimaa küla\, 87611 Pärnumaa\, https://www.piesta.ee/meist/ \nKavas:  \nPiesta Kuusikaru OÜ tutvustus – mahepõllumajanduslik puuviljakasvatus\, toodangu väärindamine ja turundamine. \nEttevõtet tutvustab Külli Eller \nEttevõtte külastus on tasuta. Osalemiseks on kindlasti vaja registreeruda hiljemalt 3. detsembriks siin: maheteave@gmail.com \nOsalejate arv on piiratud\, registreerimine lõpetatakse kohtade täitumisel varem. \nLisainfo: maheteave@gmail.com \nEttevõtte külastus toimub koostöös Eesti Mahepõllumajanduse Sihtasutusega. \nEttevõtte külastus toimub MAK 2014-2020 meetme „Teadmussiirde programm põllumajanduse\, toidu ja maamajanduse tegevusvaldkonnas“ mahemajanduse valdkonna raames\, toetab Euroopa Liit.
URL:https://test.pikk.ee/sundmus/ettevotte-kulastus-3/
LOCATION:Pärnumaa\, Pärnumaa\, Eesti
CATEGORIES:Mahemajandus
END:VEVENT
BEGIN:VEVENT
DTSTART;TZID=Europe/Tallinn:20231206T093000
DTEND;TZID=Europe/Tallinn:20231206T123000
DTSTAMP:20260425T063357
CREATED:20231123T124355Z
LAST-MODIFIED:20231123T124355Z
UID:10010933-1701855000-1701865800@test.pikk.ee
SUMMARY:Mahetaimekasvatuse infopäev
DESCRIPTION:Mahepõllumajanduse Koostöökogu korraldab 6. detsembril k 9:30 – 12:30 mahetaimekasvatuse infopäeva veebis\, keskkonnas zoom. \nKava 9:30-12:30  \n– Keskkonna jalajälje mõõtmine taimekasvatuses – süsinik\, aga mitte ainult! Eri tootmistüüpide keskkonnajalajälje võrdlused. Sirli Pehme\, keskkonnaekspert \n– Agrotehnoloogiliste külvikorrakatsete tulemustest mahe- ja tavaviljeluse võrdluses (erinev mullaharimine\, väetamine\, umbrohtumus\, mulla toitainete sisaldus\, saagid\, kattetulu jm). Kuusiku pikaajalise katsete tulemused ja praktilised agrotehnoloogilised nõuanded põllumehele külvikordade majandamisel. Karli Sepp\, METK peaspetsialist \nInfopäev on tasuta. Osalemiseks on kindlasti vaja registreeruda 5. detsembriks SIIN: https://forms.gle/no1nReEMRJeeiop77 \nInfopäev läheb arvesse KSM ja mahe alustajate toetuste kohustusliku koolitusena. \n  \nLisainfo: maheteave@gmail.com \nInfopäev toimub koostöös Eesti Mahepõllumajanduse Sihtasutusega. \nInfopäev toimub MAK 2014-2020 meetme „Teadmussiirde programm põllumajanduse\, toidu ja maamajanduse tegevusvaldkonnas“ mahemajanduse valdkonna raames\, toetab Euroopa Liit.
URL:https://test.pikk.ee/sundmus/mahetaimekasvatuse-infopaev-7/
LOCATION:Veebis\, Eesti
CATEGORIES:Keskkond,Mahemajandus,Süsinik,Taimekasvatus
END:VEVENT
BEGIN:VEVENT
DTSTART;TZID=Europe/Tallinn:20231206T100000
DTEND;TZID=Europe/Tallinn:20231206T170000
DTSTAMP:20260425T063357
CREATED:20231107T082510Z
LAST-MODIFIED:20231208T125158Z
UID:10010914-1701856800-1701882000@test.pikk.ee
SUMMARY:EPKK hübriidkonverents "Teraviljafoorum 2023"
DESCRIPTION:Eesti Põllumajandus-Kaubanduskoda kutsub osalema hübriidkonverentsil “Teraviljafoorum 2023”  \nKonverents “Teraviljafoorum 2023″ on oodatud sündmus põllumajandusvaldkonna spetsialistide\, huviliste ja ekspertide jaoks. Sellel konverentsil tulevad kokku põllumajandussektori erinevad osalised\, sealhulgas ministeeriumi esindajad\, põllumehed\, teadlased ning ettevõtjad\, et arutada ja jagada uusimaid teadmisi\, parimaid praktikaid ning tulevikusuundumusi.  \n Toimumisaeg: 06. detsember kell 10.00-16.40  \nToimumiskoht:  Toosikannu puhkekeskus (Toosikannu\, Jõeküla küla\, Türi vald\, Järvamaa) ja veebiülekanne  \nKonverentsi saab järelvaadata SIIN. \nPäevakavas:   \n09.30-10.00 Registreerimine ja hommikukohv   \n10.00-12.00 Konverentsipäeva I osa   \n\nKonverentsipäeva avamine.  \nTeraviljasektori ülevaade. Madis Pärtel\, Regionaal- ja Põllumajandusministeeriumi asekantsler  \nÜlevaade teraviljasektori tulemustest 2023 hooajal. Timo Sildvee\, Baltic Agro\, viljaäri tootejuht \nOlukorrast majanduses. Mihkel Nestor\, SEB\, majandusanalüütik \n\n12:15-13:15 Lõuna   \n13.15-16.40 Konverentsipäeva II osa   \n\nTaimekaitse suunad. Evelin Hillep\, Eesti Taimekaitse Assotsiatsioon\, tegevjuht  \nUued aretustehnoloogiad. Thor Gunnar Kofoed\, Taani Põllumajandus- ja toidunõukogu\, aseesimees \nTeraviljasektor EL-s. Gabor Zsugyelik\, DG Agri\, turuametnik \n\n15.00-15.30 sirutuspaus  \n15:30-16:30 Aruteluring “Põllumajandus kui äritegevus või võitlus ellujäämise nimel?  \n\nHannes Prits\, Põllumeeste ühistu KEVILI juhatuse liige \nTimo Sildvee\, Baltic Agro\, viljaäri tootejuht \nHanno Marrandi\, Kasti Teravili OÜ\, juhatuse liige\nAhti Kalde\, Sadala Agro juhatuse liige\nModereerib Mihkel Hang\, Linas Agro\, tegevjuht \n\n16:30-16:40 Päeva kokkuvõte  \nKonverentsi modereerib: Ragnar Viikoja\, Eesti Põllumajandus-Kaubanduskoja põllumajandusvaldkonna juht  \n  \nLisainfo: Marge Mänd\, EPKK projektijuht\, e-post: marge@epkk.ee\, tel: 53009034  \nSündmus toimub MAK 2014-2020 „Teadmussiirde pikaajaline programm põllumajanduse\, toidu ja maamajanduse tegevusvaldkonnas“ raames. Rahastamisallikas: Euroopa Maaelu Põllumajandusfond (EAFRD).   
URL:https://test.pikk.ee/sundmus/teraviljafoorum2023/
LOCATION:Järvamaa\, Järvamaa\, Eesti
CATEGORIES:Aiandus,Finantsmajandus,Keskkond,Maaettevõtlus,Mahemajandus,Taimekaitse,Taimekasvatus,Toiduainete tootmine,Tootmine ja kvaliteet
ATTACH;FMTTYPE=image/jpeg:https://test.pikk.ee/wp-content/uploads/2023/11/wheat-3506758_1280-jpg.webp
ORGANIZER;CN="Eesti P%C3%B5llumajandus-Kaubanduskoda":MAILTO:info@epkk.ee
GEO:58.8866713;25.5000624
END:VEVENT
BEGIN:VEVENT
DTSTART;TZID=Europe/Tallinn:20231207T130000
DTEND;TZID=Europe/Tallinn:20231207T180000
DTSTAMP:20260425T063357
CREATED:20231203T160833Z
LAST-MODIFIED:20231203T160931Z
UID:10010947-1701954000-1701972000@test.pikk.ee
SUMMARY:Mahemajanduse infopäev
DESCRIPTION:Mahepõllumajanduse Koostöökogu korraldab 7. detsembril k 13:00 – 18:00 mahemajanduse infopäeva Järvamaal Hindreku talus (Valgma küla\, Paide linn\, Järvamaa) \n  \nKäsitletavad teemad: \n\nMahejärelevalve korraldus ja sellega seotud küsimused. Arutelu\nKeskkonnanõuetega seotud aspektid mahetootmises. Arutelu\n\nLektorid on Airi Vetemaa ja Merit Mikk. \n  \nInfopäev on tasuta. Osalemiseks on kindlasti vaja registreeruda 27. novembriks aadressil: maheteave@gmail.com Osalejate arv on piiratud ning registreerimine lõpetatakse kohtade täitumisel. \nInfopäev toimub MAK 2014-2020 meetme „Teadmussiirde programm põllumajanduse\, toidu ja maamajanduse tegevusvaldkonnas“ mahemajanduse valdkonna raames\, toetab Euroopa Liit. Hankeleping  257107 _1 lisa 1.
URL:https://test.pikk.ee/sundmus/mahemajanduse-infopaev-4/
LOCATION:Järvamaa\, Järvamaa\, Eesti
CATEGORIES:Mahemajandus
GEO:58.8866713;25.5000624
END:VEVENT
BEGIN:VEVENT
DTSTART;TZID=Europe/Tallinn:20231208T093000
DTEND;TZID=Europe/Tallinn:20231208T120000
DTSTAMP:20260425T063357
CREATED:20231203T160458Z
LAST-MODIFIED:20231229T131534Z
UID:10010946-1702027800-1702036800@test.pikk.ee
SUMMARY:Ettevõtte külastus
DESCRIPTION:Mahepõllumajanduse Koostöökogu korraldab 8. detsembril k 9:30 – 12:00 infopäeva ettevõtte külastusega Järvamaal Hindreku talus (Valgma küla\, Paide linn\, Järvamaa) \n  \nTeemad 9:30-12:00 \n\n Taime- ja loomakasvatussaaduste tootmine ja väärindamine. Mahetoidu kasutamine töötlemisel ja toitlustuses. Nõuded. Arutelu\n Hindreku talu tutvustus\, võimalused mahetooraine väärindamiseks turismitalus\n\nLektorid Airi Vetemaa\, Mahepõllumajanduse Koostöökogu; Tuuli Klementa\, Hindreku talu \n  \nInfopäev on tasuta. Osalemiseks on kindlasti vaja registreeruda 28. novembriks aadressil: maheteave@gmail.com Osalejate arv on piiratud ning registreerimine lõpetatakse kohtade täitumisel. \nInfopäev toimub MAK 2014-2020 meetme „Teadmussiirde programm põllumajanduse\, toidu ja maamajanduse tegevusvaldkonnas“ mahemajanduse valdkonna raames\, toetab Euroopa Liit. \n 
URL:https://test.pikk.ee/sundmus/maheettevotte-kulastus/
LOCATION:Järvamaa\, Järvamaa\, Eesti
CATEGORIES:Mahemajandus
GEO:58.8866713;25.5000624
END:VEVENT
BEGIN:VEVENT
DTSTART;VALUE=DATE:20231211
DTEND;VALUE=DATE:20231214
DTSTAMP:20260425T063357
CREATED:20231105T064724Z
LAST-MODIFIED:20231116T225758Z
UID:10010903-1702252800-1702511999@test.pikk.ee
SUMMARY:Mahelinnukasvatuse õppereis
DESCRIPTION:Mahepõllumajanduse Koostöökogu korraldab 11.12-13.12 2023 õppereisi Rootsi\, kus tutvutakse  mahelinnukasvatusega (munakanakasvatus) tegelevate ettevõtete ja neis kasutusel olevate tehnoloogiatega. \n\nSisukord täiendamisel\n\nOsalemiseks on kindlasti vajalik eelregistreerumine hiljemalt 10. novembriks e-maili maheteave@gmail.com teel. Kohtade arv on piiratud\, registreerimine lõpetatakse kohtade täitumisel enne tähtaega. Osalustasu on 300 eurot. \nLisainfo: maheteave@gmail.com \n  \nÕppereis toimub MAK 2014-2020 „Teadmussiirde pikaajaline programm põllumajanduse\, toidu ja maamajanduse tegevusvaldkonnas“ mahemajanduse valdkonna raames\, toetab Euroopa Liit. \n 
URL:https://test.pikk.ee/sundmus/mahelinnukasvatuse-oppereis/
LOCATION:Muu\, Eesti
CATEGORIES:Mahemajandus
GEO:58.595272;25.0136071
END:VEVENT
BEGIN:VEVENT
DTSTART;TZID=Europe/Tallinn:20231211T100000
DTEND;TZID=Europe/Tallinn:20231211T121500
DTSTAMP:20260425T063357
CREATED:20231127T205251Z
LAST-MODIFIED:20231127T205251Z
UID:10010942-1702288800-1702296900@test.pikk.ee
SUMMARY:Maheloomakasvatuse infopäev
DESCRIPTION:Mahepõllumajanduse Koostöökogu korraldab 11. detsembril k 10:00 – 12:15 maheloomakasvatuse infopäeva veebis (keskkonnas Zoom). \nKavas: \n\nKeskkonnamõjude hindamine loomakasvatuses. Sirli Pehme\, keskkonnaekspert\nSüsiniku jalajälje hindamine ja panus elurikkuse edendamisse Puutsa talu näitel. Airi Külvet\, Puutsa talu\, MTÜ Liivimaa Lihaveis\n\nInfopäev on tasuta. Osalemiseks on kindlasti vaja registreeruda 8. detsembriks SIIN: https://forms.gle/BLMPs1AhYV6v71wr9  \nRegistreerunud osalejatele saadetakse Zoomi link kaks päeva enne infopäeva. \nLisainfo: maheteave[A]gmail.com \nInfopäev toimub koostöös Ökoloogiliste Tehnoloogiate Keskusega. \nInfopäev toimub MAK 2014-2020 meetme „Teadmussiirde programm põllumajanduse\, toidu ja maamajanduse tegevusvaldkonnas“ mahemajanduse valdkonna raames\, toetab Euroopa Liit.
URL:https://test.pikk.ee/sundmus/maheloomakasvatuse-infopaev-3/
LOCATION:Veebis\, Eesti
CATEGORIES:Keskkond,Loomakasvatus,Mahemajandus
END:VEVENT
BEGIN:VEVENT
DTSTART;TZID=Europe/Tallinn:20231214T110000
DTEND;TZID=Europe/Tallinn:20231214T170000
DTSTAMP:20260425T063357
CREATED:20231129T212013Z
LAST-MODIFIED:20231211T105520Z
UID:10010945-1702551600-1702573200@test.pikk.ee
SUMMARY:Mahetaimekasvatuse infopäev välislektoriga: taastava põllumajanduse võtted
DESCRIPTION:Mahepõllumajanduse Koostöökogu korraldab 14. detsembril k 11:00 – 17:00 mahetaimekasvatuse infopäeva – taastava põllumajanduse võtted. Infopäev toimub veebis\, keskkonnas zoom. \nPeamised teemad \n\nTaastava põllumajanduse põhimõtted ja praktikad. Mullaelustiku ja taimede vahelised seosed\, huumus ja mulla süsinik\, mulla struktuur\nPraktilised näited – taastava põllumajanduse võtete rakendamine teraviljakasvatuses kergemaltel ja raskematel muldadel.\n\nLektor Dietmar Näser on tunnustatud taastava põllumajanduse liikumise spetsialist Saksamaalt. Ta on kirjutanud raamatu taastavast põllumajandusest  “Regenerative Landwirtschaft: Bodenleben und Pflanzenstoffwechsel verstehen”. Vt ka https://www.regenerative-landwirtschaft.de/ \nInfopäeval on tõlge eesti keelde. \nInfopäev on tasuta. Osalemiseks on kindlasti vaja registreeruda 10. detsembriks SIIN: https://forms.gle/Yytjk5bE5oM54rS87 \n  \nLisainfo: maheteave[A]gmail.com \nInfopäev toimub koostöös Eesti Mahepõllumajanduse Sihtasutusega. \nInfopäev toimub MAK 2014-2020 meetme „Teadmussiirde programm põllumajanduse\, toidu ja maamajanduse tegevusvaldkonnas“ mahemajanduse valdkonna raames\, toetab Euroopa Liit.
URL:https://test.pikk.ee/sundmus/mahetaimekasvatuse-infopaev-valislektoriga-taastava-pollumajanduse-votted/
LOCATION:Veebis\, Eesti
CATEGORIES:Keskkond,Mahemajandus,Taimekasvatus
END:VEVENT
BEGIN:VEVENT
DTSTART;TZID=Europe/Tallinn:20231215T130000
DTEND;TZID=Europe/Tallinn:20231215T153000
DTSTAMP:20260425T063357
CREATED:20231213T144137Z
LAST-MODIFIED:20231213T144137Z
UID:10010950-1702645200-1702654200@test.pikk.ee
SUMMARY:Ettevõtte külastus Saaremaal
DESCRIPTION:Mahepõllumajanduse Koostöökogu korraldab 15. detsembril k 13:00 – 15:30 ettevõtte külastuse Koplimäe mahetallu (Uuemõisa küla\, Saaremaa). \nKavas:  \n\nKoplimäe mahetalu tutvustus – maheteravilja kasvatamine ja väärindamine (oma veski ja toitlustuse ökomärgiga kohvik).\nEttevõtte tutvustusele järgneb arutelu mahenõuete täitmisega seotud paberimajanduse üle.\n\nInfopäev on tasuta. Osalemiseks on kindlasti vaja registreeruda hiljemalt 5. detsembriks e-maili aadressil: maheteave@gmail.com \nOsalejate arv on piiratud\, registreerimine lõpetatakse kohtade täitumisel varem. \nLisainfo: maheteave@gmail.com \nInfopäev toimub koostöös Ökoloogiliste Tehnoloogiate Keskusega. \nInfopäev toimub MAK 2014-2020 meetme „Teadmussiirde programm põllumajanduse\, toidu ja maamajanduse tegevusvaldkonnas“ mahemajanduse valdkonna raames\, toetab Euroopa Liit.
URL:https://test.pikk.ee/sundmus/ettevotte-kulastus-saaremaal/
LOCATION:Saaremaa\, Saaremaa
CATEGORIES:Mahemajandus,Taimekasvatus
GEO:58.3705526;22.6876383
END:VEVENT
BEGIN:VEVENT
DTSTART;TZID=Europe/Tallinn:20231219T120000
DTEND;TZID=Europe/Tallinn:20231219T170000
DTSTAMP:20260425T063357
CREATED:20231213T145924Z
LAST-MODIFIED:20231213T145924Z
UID:10010954-1702987200-1703005200@test.pikk.ee
SUMMARY:Infopäev ettevõtte külastusega
DESCRIPTION:Mahepõllumajanduse Koostöökogu korraldab 19. detsembril kell 12:00 – 17:00 mahepõllumajanduse infopäeva ettevõtte külastusega Tartumaal \nEMÜ Mahekeskuses https://mahekeskus.emu.ee/uldinfo/kontakt/ (algus) ja ettevõttes Fiirels OÜ. \nTeemad: \n\nMahetaime- ja loomakasvatus – mahepõllumajanduse põhimõtete tutvustamine avalikkusele – Harald Lepisk\nEttevõtte külastus – Fiirels OÜ\, maheaiandusettevõtet tutvustab Alice Hiie\n\nInfopäev on tasuta. Osalemiseks on kindlasti vaja registreeruda 14. detsembriks aadressil: maheteave@gmail.com Osalejate arv on piiratud ning registreerimine lõpetatakse kohtade täitumisel. \nInfopäev toimub MAK 2014-2020 meetme „Teadmussiirde programm põllumajanduse\, toidu ja maamajanduse tegevusvaldkonnas“ mahemajanduse valdkonna raames\, toetab Euroopa Liit.
URL:https://test.pikk.ee/sundmus/infopaev-ettevotte-kulastusega/
LOCATION:Tartu\, Eesti
CATEGORIES:Mahemajandus
END:VEVENT
BEGIN:VEVENT
DTSTART;TZID=Europe/Tallinn:20231220T100000
DTEND;TZID=Europe/Tallinn:20231220T123000
DTSTAMP:20260425T063357
CREATED:20231213T145301Z
LAST-MODIFIED:20231213T145538Z
UID:10010953-1703066400-1703075400@test.pikk.ee
SUMMARY:Mahemajanduse infopäev I
DESCRIPTION:Mahepõllumajanduse Koostöökogu korraldab 20. detsembril k 10:00 – 12:30 mahemajanduse infopäeva – mahenõuete ja kontrolli aspektid käitlemises. Infopäev toimub PTAs\, Teaduse 2\, Saku\, koos veebiga. \nPeamised teemad: \n\nÜlevaade mahekäitlemise erinevate valdkondade olukorrast\, peamised probleemid. Arutelu.\n\nLektorid Airi Vetemaa\, Pille Edovald \nInfopäeval osalemiseks on kindlasti vaja registreeruda 14. detsembriks meilile: maheteave@gmail.com \nLisainfo: maheteave@gmail.com \nInfopäev toimub koostöös Eesti Mahepõllumajanduse Sihtasutusega. \nInfopäev toimub MAK 2014-2020 meetme „Teadmussiirde programm põllumajanduse\, toidu ja maamajanduse tegevusvaldkonnas“ mahemajanduse valdkonna raames\, toetab Euroopa Liit.
URL:https://test.pikk.ee/sundmus/mahemajanduse-infopaev-mahekaitlemine/
LOCATION:Harjumaa\, Harjumaa\, Eesti
CATEGORIES:Mahemajandus
END:VEVENT
BEGIN:VEVENT
DTSTART;TZID=Europe/Tallinn:20231221T100000
DTEND;TZID=Europe/Tallinn:20231221T130000
DTSTAMP:20260425T063357
CREATED:20231213T144852Z
LAST-MODIFIED:20231213T145607Z
UID:10010952-1703152800-1703163600@test.pikk.ee
SUMMARY:Mahemajanduse infopäev II
DESCRIPTION:Mahepõllumajanduse Koostöökogu korraldab 21. detsembril kell 10:00 – 13:00 mahemajanduse infopäeva. Infopäev toimub PTAs\, Teaduse 2\, Saku\, koos veebiga. \nPeamised teemad: \n\nÜlevaade mahetaimekasvatuse ja -loomakasvatuse olukorrast.\nMahenõuete ja kontrolli aspektid taime- ja loomakasvatuses.\nArutelu.\n\nLektorid Airi Vetemaa\, Ruth Lauk\, Reet Roosimägi \nInfopäeval osalemiseks on kindlasti vaja registreeruda 14. detsembriks meilile: maheteave@gmail.com \nLisainfo: maheteave@gmail.com \nInfopäev toimub koostöös Eesti Mahepõllumajanduse Sihtasutusega. \nInfopäev toimub MAK 2014-2020 meetme „Teadmussiirde programm põllumajanduse\, toidu ja maamajanduse tegevusvaldkonnas“ mahemajanduse valdkonna raames\, toetab Euroopa Liit.
URL:https://test.pikk.ee/sundmus/mahemajanduse-infopaev-5/
LOCATION:Harjumaa\, Harjumaa\, Eesti
CATEGORIES:Loomakasvatus,Mahemajandus,Taimekasvatus
END:VEVENT
BEGIN:VEVENT
DTSTART;VALUE=DATE:20231227
DTEND;VALUE=DATE:20231229
DTSTAMP:20260425T063357
CREATED:20231213T144525Z
LAST-MODIFIED:20231213T144525Z
UID:10010951-1703635200-1703807999@test.pikk.ee
SUMMARY:Piimakarjakasvatuse õppereis Eestis
DESCRIPTION:Mahepõllumajanduse Koostöökogu korraldab 27.12-28.12 2023 õppereisi Võrumaale\, kus tutvutakse  piimakarjakasvatusega tegelevate ettevõtete ja neis kasutusel olevate tehnoloogiatega ning piima väärindamise ja turundamise erinevate võtetega. Külastatakse Kõrgemäe talu ja Nopri talu. \nOsalemiseks on kindlasti vajalik eelregistreerumine hiljemalt 20. detsembriks e-maili maheteave@gmail.com teel. Kohtade arv on piiratud\, registreerimine lõpetatakse kohtade täitumisel enne tähtaega. \nLisainfo: maheteave@gmail.com \nÕppereis toimub MAK 2014-2020 meetme „Teadmussiirde pikaajaline programm põllumajanduse\, toidu ja maamajanduse tegevusvaldkonnas“ mahemajanduse valdkonna raames\, toetab Euroopa Liit.
URL:https://test.pikk.ee/sundmus/piimakarjakasvatuse-oppereis-eestis/
LOCATION:Võrumaa\, Võrumaa
CATEGORIES:Loomakasvatus,Mahemajandus
GEO:57.7377372;27.1398938
END:VEVENT
END:VCALENDAR