BEGIN:VCALENDAR
VERSION:2.0
PRODID:-//METK nõuandeteenistus - ECPv6.15.13//NONSGML v1.0//EN
CALSCALE:GREGORIAN
METHOD:PUBLISH
X-WR-CALNAME:METK nõuandeteenistus
X-ORIGINAL-URL:https://test.pikk.ee
X-WR-CALDESC:Events for METK nõuandeteenistus
REFRESH-INTERVAL;VALUE=DURATION:PT1H
X-Robots-Tag:noindex
X-PUBLISHED-TTL:PT1H
BEGIN:VTIMEZONE
TZID:Europe/Tallinn
BEGIN:DAYLIGHT
TZOFFSETFROM:+0200
TZOFFSETTO:+0300
TZNAME:EEST
DTSTART:20230326T010000
END:DAYLIGHT
BEGIN:STANDARD
TZOFFSETFROM:+0300
TZOFFSETTO:+0200
TZNAME:EET
DTSTART:20231029T010000
END:STANDARD
BEGIN:DAYLIGHT
TZOFFSETFROM:+0200
TZOFFSETTO:+0300
TZNAME:EEST
DTSTART:20240331T010000
END:DAYLIGHT
BEGIN:STANDARD
TZOFFSETFROM:+0300
TZOFFSETTO:+0200
TZNAME:EET
DTSTART:20241027T010000
END:STANDARD
BEGIN:DAYLIGHT
TZOFFSETFROM:+0200
TZOFFSETTO:+0300
TZNAME:EEST
DTSTART:20250330T010000
END:DAYLIGHT
BEGIN:STANDARD
TZOFFSETFROM:+0300
TZOFFSETTO:+0200
TZNAME:EET
DTSTART:20251026T010000
END:STANDARD
END:VTIMEZONE
BEGIN:VEVENT
DTSTART;TZID=Europe/Tallinn:20240409T100000
DTEND;TZID=Europe/Tallinn:20240409T140000
DTSTAMP:20260423T091212
CREATED:20240313T104329Z
LAST-MODIFIED:20240322T075743Z
UID:10011041-1712656800-1712671200@test.pikk.ee
SUMMARY:Pindala ja loomatoetused 2024
DESCRIPTION:Pärnumaa Talupidajate Liit korraldab infopäeva teemal ” Pindala ja loomatoetused 2024″ 9 aprillil 2024\,  Pärnus Roheline tn 1 ( Nooruse maja)\,  algusega kell 10 00. Planeeritud lõpp 14 00 \n\nMillest räägime: \n1. Ülevaade 2024 avanevatest pindala ja loomatoetustest. \n2. Tingimuslikkuse nõuded. \n3. Otsetoetused. \n4. MAK pindala ja loomatoetused \nInfopäeval käsitleme 2024 avanevaid pindalatoetusi ja 2023 aasta taotlemise kogemusi. Taotlejate kogemused PRIA toetuste taotlemisel 2023 ja hilisemaid järelvalve toiminguid. Mida õppida neist! \nÜks vaheaeg väikese kohvipausiga! \nLektorid \nOlavy Sülla \nHillar Lilleste \nInfopäev on tasuline \nPärnumaa Talupidajate Liidu liikmele  hind 30€ +km \nTeistele osalejatele hind 50€ +km \nRegistreerimine on kohustuslik järgmisel lingil  siin \nOsalejatele väljastatakse registreerimise alusel arve  enne infopäeva toimumist.   Sularahas tasumise võimalus puudub ! \nInfo telefoni numbril 56605964
URL:https://test.pikk.ee/sundmus/pindala-ja-loomatoetused-2024/
CATEGORIES:Keskkond,Maaettevõtlus,Mahemajandus
END:VEVENT
BEGIN:VEVENT
DTSTART;TZID=Europe/Tallinn:20240422T090000
DTEND;TZID=Europe/Tallinn:20240422T140000
DTSTAMP:20260423T091212
CREATED:20240406T154918Z
LAST-MODIFIED:20240409T184753Z
UID:10011091-1713776400-1713794400@test.pikk.ee
SUMMARY:Tootjate pindala- ja loomatoetuste infopäev Ida-Virumaal
DESCRIPTION:Infopäev toimub 22. aprillil 2024 Ida-Virumaal\, Maidla Rahvamajas. Registreerimine kuni eelneva tööpäeva kella 16.00. \nRegistreerinine SIIN \nInfopäev toimub kell 9.00-14.00 \nInfopäeva teemakava: \n\nÜlevaade toetustest\nToetusõiguslik maa\nTingimuslikkus\nOtsetoetused\nMaaelu arengukava toetused\nPRIA-s toetuste taotlemine ja kontroll\n\nInfopäevade lektoriteks konsulendid Heiki Unt ja Kaie Ilves \nInfopäev viiakse läbi „Teadmussiirde pikaajaline programm põllumajanduse\, toidu ja maamajanduse tegevusvaldkonnas“ raames ja on osalejale tasuta.
URL:https://test.pikk.ee/sundmus/tootjate-pindala-ja-loomatoetuste-infopaev-ida-virumaal/
LOCATION:Ida-Virumaa\, Ida-Virumaa\, Eesti
CATEGORIES:Aiandus,Loomakasvatus,Mahemajandus,Mesindus,Taimekasvatus
ORGANIZER;CN="Eesti Maaelu N%C3%B5uandeteenistus MT%C3%9C":MAILTO:maanouanne@gmail.com
GEO:59.2592663;27.4136535
END:VEVENT
BEGIN:VEVENT
DTSTART;TZID=Europe/Tallinn:20240423T100000
DTEND;TZID=Europe/Tallinn:20240423T150000
DTSTAMP:20260423T091212
CREATED:20240406T145726Z
LAST-MODIFIED:20240419T042223Z
UID:10011084-1713866400-1713884400@test.pikk.ee
SUMMARY:Tootjate pindala- ja loomatoetuste infopäev Tartumaal
DESCRIPTION:Infopäev toimub 23. aprillil 2024 Tartumaal\, Waide Motellis. \nRegistreerimine on lõppenud. Grupp on täis! \n  \nInfopäev toimub kell 10.00-15.00 \nInfopäeva teemakava: \n\nÜlevaade toetustest\nToetusõiguslik maa\nTingimuslikkus\nOtsetoetused\nMaaelu arengukava toetused\nPRIA-s toetuste taotlemine ja kontroll\n\nInfopäevade lektoriteks konsulendid Ulvi Ajalik\, Toomas Tõrra ja Merry Aart \nInfopäev viiakse läbi „Teadmussiirde pikaajaline programm põllumajanduse\, toidu ja maamajanduse tegevusvaldkonnas“ raames ja on osalejale tasuta.
URL:https://test.pikk.ee/sundmus/tootjate-pindala-ja-loomatoetuste-infopaev-tartumaal/
LOCATION:Tartumaa\, Eesti
CATEGORIES:Aiandus,Keskkond,Loomakasvatus,Mahemajandus,Mesindus
ORGANIZER;CN="Eesti Maaelu N%C3%B5uandeteenistus MT%C3%9C":MAILTO:maanouanne@gmail.com
GEO:58.4057128;26.801576
END:VEVENT
BEGIN:VEVENT
DTSTART;TZID=Europe/Tallinn:20240423T100000
DTEND;TZID=Europe/Tallinn:20240423T150000
DTSTAMP:20260423T091212
CREATED:20240406T150705Z
LAST-MODIFIED:20240422T101929Z
UID:10011085-1713866400-1713884400@test.pikk.ee
SUMMARY:Tootjate pindala- ja loomatoetuste infopäev Raplamaal
DESCRIPTION:Infopäev toimub 23. aprillil 2024 Raplamaal Märjamaa Rahvamajas. \nRegistreerimine on lõppenud. Grupp on täis! \nInfopäev toimub kell 10.00-15.00 \nInfopäeva teemakava: \n\nÜlevaade toetustest\nToetusõiguslik maa\nTingimuslikkus\nOtsetoetused\nMaaelu arengukava toetused\nPRIA-s toetuste taotlemine ja kontroll\n\nInfopäevade lektoriteks konsulendid Lilia Kulli ja Vaike Nõu \nInfopäev viiakse läbi „Teadmussiirde pikaajaline programm põllumajanduse\, toidu ja maamajanduse tegevusvaldkonnas“ raames ja on osalejale tasuta.
URL:https://test.pikk.ee/sundmus/tootjate-pindala-ja-loomatoetuste-infopaev-raplamaal/
LOCATION:Raplamaa\, Raplamaa
CATEGORIES:Aiandus,Keskkond,Loomakasvatus,Mahemajandus,Mesindus,Taimekasvatus
ORGANIZER;CN="Eesti Maaelu N%C3%B5uandeteenistus MT%C3%9C":MAILTO:maanouanne@gmail.com
GEO:58.8492625;24.7346569
END:VEVENT
BEGIN:VEVENT
DTSTART;TZID=Europe/Tallinn:20240425T100000
DTEND;TZID=Europe/Tallinn:20240425T150000
DTSTAMP:20260423T091212
CREATED:20240406T151525Z
LAST-MODIFIED:20240409T184244Z
UID:10011086-1714039200-1714057200@test.pikk.ee
SUMMARY:Tootjate pindala- ja loomatoetuste infopäev Viljandimaal
DESCRIPTION:Infopäev toimub 25. aprillil 2024 Viljandimaal\, Viljandi (endine) MV saal. Registreerimine kuni eelneva tööpäeva kella 16.00. \nRegistreerinine SIIN \nInfopäev toimub kell 10.00-15.00 \nInfopäeva teemakava: \n\nÜlevaade toetustest\nToetusõiguslik maa\nTingimuslikkus\nOtsetoetused\nMaaelu arengukava toetused\nPRIA-s toetuste taotlemine ja kontroll\n\nInfopäevade lektoriteks konsulendid Olavy Sülla ja Hillar Lilleste \nInfopäev viiakse läbi „Teadmussiirde pikaajaline programm põllumajanduse\, toidu ja maamajanduse tegevusvaldkonnas“ raames ja on osalejale tasuta.
URL:https://test.pikk.ee/sundmus/tootjate-pindala-ja-loomatoetuste-infopaev-viljandimaal/
LOCATION:Viljandimaa\, Viljandimaa\, Eesti
CATEGORIES:Aiandus,Keskkond,Loomakasvatus,Mahemajandus,Mesindus,Taimekasvatus
ORGANIZER;CN="Eesti Maaelu N%C3%B5uandeteenistus MT%C3%9C":MAILTO:maanouanne@gmail.com
GEO:58.2821746;25.5752233
END:VEVENT
BEGIN:VEVENT
DTSTART;TZID=Europe/Tallinn:20240426T100000
DTEND;TZID=Europe/Tallinn:20240426T150000
DTSTAMP:20260423T091212
CREATED:20240406T153202Z
LAST-MODIFIED:20240409T184611Z
UID:10011088-1714125600-1714143600@test.pikk.ee
SUMMARY:Tootjate pindala- ja loomatoetuste infopäev Saaremaal
DESCRIPTION:Infopäev toimub 26. aprillil 2024 Saaremaal\, Kuressaare Ametikooli aulas. Registreerimine kuni eelneva tööpäeva kella 16.00. \nRegistreerinine SIIN \nInfopäev toimub kell 10.00-15.00 \nInfopäeva teemakava: \n\nÜlevaade toetustest\nToetusõiguslik maa\nTingimuslikkus\nOtsetoetused\nMaaelu arengukava toetused\nPRIA-s toetuste taotlemine ja kontroll\n\nInfopäevade lektoriteks konsulendid Jekaterina Näälik\, Lea Toompuu \nInfopäev viiakse läbi „Teadmussiirde pikaajaline programm põllumajanduse\, toidu ja maamajanduse tegevusvaldkonnas“ raames ja on osalejale tasuta.
URL:https://test.pikk.ee/sundmus/tootjate-pindala-ja-loomatoetuste-infopaev-saaremaal/
LOCATION:Saaremaa\, Saaremaa
CATEGORIES:Aiandus,Loomakasvatus,Mahemajandus,Mesindus,Taimekasvatus
ORGANIZER;CN="Eesti Maaelu N%C3%B5uandeteenistus MT%C3%9C":MAILTO:maanouanne@gmail.com
GEO:58.3705526;22.6876383
END:VEVENT
BEGIN:VEVENT
DTSTART;TZID=Europe/Tallinn:20240426T100000
DTEND;TZID=Europe/Tallinn:20240426T150000
DTSTAMP:20260423T091212
CREATED:20240406T154233Z
LAST-MODIFIED:20240409T183837Z
UID:10011090-1714125600-1714143600@test.pikk.ee
SUMMARY:Tootjate pindala- ja loomatoetuste infopäev Võrumaal
DESCRIPTION:Infopäev toimub 26. aprillil 2024 Võrumaal\, Navi Seltsimajas. Registreerimine kuni eelneva tööpäeva kella 16.00. \nRegistreerinine SIIN \nInfopäev toimub kell 10.00-15.00 \nInfopäeva teemakava: \n\nÜlevaade toetustest\nToetusõiguslik maa\nTingimuslikkus\nOtsetoetused\nMaaelu arengukava toetused\nPRIA-s toetuste taotlemine ja kontroll\n\nInfopäevade lektoriteks konsulendid Ulvi Ajalik\, Toomas Tõrra ja Merry Aart \nInfopäev viiakse läbi „Teadmussiirde pikaajaline programm põllumajanduse\, toidu ja maamajanduse tegevusvaldkonnas“ raames ja on osalejale tasuta.
URL:https://test.pikk.ee/sundmus/tootjate-pindala-ja-loomatoetuste-infopaev-vorumaal/
LOCATION:Võrumaa\, Võrumaa
CATEGORIES:Aiandus,Loomakasvatus,Mahemajandus,Mesindus,Taimekasvatus
ORGANIZER;CN="Eesti Maaelu N%C3%B5uandeteenistus MT%C3%9C":MAILTO:maanouanne@gmail.com
GEO:57.7377372;27.1398938
END:VEVENT
BEGIN:VEVENT
DTSTART;TZID=Europe/Tallinn:20240429T113000
DTEND;TZID=Europe/Tallinn:20240429T163000
DTSTAMP:20260423T091212
CREATED:20240406T153711Z
LAST-MODIFIED:20240409T183653Z
UID:10011089-1714390200-1714408200@test.pikk.ee
SUMMARY:Tootjate pindala- ja loomatoetuste infopäev Hiiumaal
DESCRIPTION:Infopäev toimub 29. aprillil 2024 Hiiumaal\, Kärdla (endine) MV saal. Registreerimine kuni eelneva tööpäeva kella 16.00. \nRegistreerinine SIIN \nInfopäev toimub kell 11.30-16.30 \nInfopäeva teemakava: \n\nÜlevaade toetustest\nToetusõiguslik maa\nTingimuslikkus\nOtsetoetused\nMaaelu arengukava toetused\nPRIA-s toetuste taotlemine ja kontroll\n\nInfopäevade lektoriteks konsulendid Jekaterina Näälik\, Lea Toompuu \nInfopäev viiakse läbi „Teadmussiirde pikaajaline programm põllumajanduse\, toidu ja maamajanduse tegevusvaldkonnas“ raames ja on osalejale tasuta. \n\n\n\n\n\n\n\n\n 
URL:https://test.pikk.ee/sundmus/tootjate-pindala-ja-loomatoetuste-infopaev-hiiumaal/
LOCATION:Hiiumaa\, Hiiumaa\, Eesti
CATEGORIES:Aiandus,Loomakasvatus,Mahemajandus,Mesindus,Taimekasvatus
ORGANIZER;CN="Eesti Maaelu N%C3%B5uandeteenistus MT%C3%9C":MAILTO:maanouanne@gmail.com
END:VEVENT
BEGIN:VEVENT
DTSTART;TZID=Europe/Tallinn:20240430T100000
DTEND;TZID=Europe/Tallinn:20240430T150000
DTSTAMP:20260423T091212
CREATED:20240406T152541Z
LAST-MODIFIED:20240409T183106Z
UID:10011087-1714471200-1714489200@test.pikk.ee
SUMMARY:Tootjate pindala- ja loomatoetuste infopäev Järvamaal
DESCRIPTION:Infopäev toimub 30. aprillil 2024 Järvamaal\, Türi Kultuurimajas. Registreerimine kuni eelneva tööpäeva kella 16.00. \nRegistreerinine SIIN \nInfopäev toimub kell 10.00-15.00 \nInfopäeva teemakava: \n\nÜlevaade toetustest\nToetusõiguslik maa\nTingimuslikkus\nOtsetoetused\nMaaelu arengukava toetused\nPRIA-s toetuste taotlemine ja kontroll\n\nInfopäevade lektoriteks konsulendid Liia Lust ja Helle Rohtla \nInfopäev viiakse läbi „Teadmussiirde pikaajaline programm põllumajanduse\, toidu ja maamajanduse tegevusvaldkonnas“ raames ja on osalejale tasuta.
URL:https://test.pikk.ee/sundmus/tootjate-pindala-ja-loomatoetuste-infopaev-jarvamaal/
LOCATION:Järvamaa\, Järvamaa\, Eesti
CATEGORIES:Aiandus,Keskkond,Loomakasvatus,Mahemajandus,Mesindus,Taimekasvatus,Veemajandus
ORGANIZER;CN="Eesti Maaelu N%C3%B5uandeteenistus MT%C3%9C":MAILTO:maanouanne@gmail.com
GEO:58.8866713;25.5000624
END:VEVENT
END:VCALENDAR