BEGIN:VCALENDAR
VERSION:2.0
PRODID:-//METK nõuandeteenistus - ECPv6.15.13//NONSGML v1.0//EN
CALSCALE:GREGORIAN
METHOD:PUBLISH
X-ORIGINAL-URL:https://test.pikk.ee
X-WR-CALDESC:Events for METK nõuandeteenistus
REFRESH-INTERVAL;VALUE=DURATION:PT1H
X-Robots-Tag:noindex
X-PUBLISHED-TTL:PT1H
BEGIN:VTIMEZONE
TZID:Europe/Tallinn
BEGIN:DAYLIGHT
TZOFFSETFROM:+0200
TZOFFSETTO:+0300
TZNAME:EEST
DTSTART:20220327T010000
END:DAYLIGHT
BEGIN:STANDARD
TZOFFSETFROM:+0300
TZOFFSETTO:+0200
TZNAME:EET
DTSTART:20221030T010000
END:STANDARD
BEGIN:DAYLIGHT
TZOFFSETFROM:+0200
TZOFFSETTO:+0300
TZNAME:EEST
DTSTART:20230326T010000
END:DAYLIGHT
BEGIN:STANDARD
TZOFFSETFROM:+0300
TZOFFSETTO:+0200
TZNAME:EET
DTSTART:20231029T010000
END:STANDARD
BEGIN:DAYLIGHT
TZOFFSETFROM:+0200
TZOFFSETTO:+0300
TZNAME:EEST
DTSTART:20240331T010000
END:DAYLIGHT
BEGIN:STANDARD
TZOFFSETFROM:+0300
TZOFFSETTO:+0200
TZNAME:EET
DTSTART:20241027T010000
END:STANDARD
END:VTIMEZONE
BEGIN:VEVENT
DTSTART;TZID=Europe/Tallinn:20230616T090000
DTEND;TZID=Europe/Tallinn:20230616T160000
DTSTAMP:20260426T062240
CREATED:20230607T065719Z
LAST-MODIFIED:20230608T083432Z
UID:10010696-1686906000-1686931200@test.pikk.ee
SUMMARY:Teabepäev „Hobimesinikust saab ettevõtja“
DESCRIPTION:Toimub Teadmussiirde ja teavituse toetusega (MAK 2014-2020 meede 1\, alameede 1.3) \n16.juunil 2023 VILJANDIS\, Centrum hotelli konverentsisaalis. \n  \nOsalemine teabepäeval (k.a. kohvipausid)  on TASUTA.  \n  \nOsalemine ainult eelregistreerimisega. \nOotame infopäevale mesinikke ja mesindushuvilisi\, kes tahavad süsteemselt mesindusega tegeleda.  Lektorid jagavad  nõuandeid\, mida on vaja selleks teha. Samuti põhjalik info toetusvõimalustest. \nInfopäevale ootame kõiki ettevõtlikke inimesi\, ei pea olema ettevõtjaks registreeritud mesinik\, aga võite selleks kindlasti saada. \nLektoriteks on oma ala asjatundjad. \n  \nPÄEVAKAVA    \n9:00 – 9:30     Kogunemine. Hommikukohvi koos omavahelise „sumisemisega“\n9:30                  Teabepäeva avamine\n9:30 – 10:15    Korjealade rajamine. /Marju Kaasik – agronoom/\n10:15 – 11:00  Mee ja mesindussaaduste turundamise praktilisest kogemusest. /Sirje Mölder – mesilaste pidamise ja mesindussaaduste müügiga tegelenud üle paarikümne aasta/\n11:00 – 11:15   Seljasirutuspaus\n11:15  – 12:30  Varroatoosi ravi sipelghappe lappidega. Lihtne ja efektiivne. Diskussioon /Tarmo Eres – kogemustega mesinik/\n12:30  – 13:15  Kohvipaus piruka ja koogiga\n13:15 – 14:00   Mesinduse kulud-tulud. /Riina Kirber – mahemesinik\, mesinik IV tase/\n14:00 – 15:30  Toetusvõimalustest mesinikele. /Ulvi Ajalik – kutsetunnistust omav konsulent maaettevõtluses. Mesinik/\n15.30 – 16:00  Omavaheline diskussioon\n16.00                 Teabepäev on lõppenud.  Head koduteed! \n  \nTeabepäeva sihtrühm:  Põllumajandussektoris hõivatud isikud (mesinikud)\, kes tegutsevad maapiirkondades  või kes soovivad alustada tegevust mesinikuna. \nInfopäeva kulud:  Lektorite tasud\, ruumi ja tehnika rent\, infomaterjalid\, kohvipausid on Teadmussiirde ja teavituse toetusega (MAK 2014-2020 meede 1\, alameede 1.3). Osalejad  sõidavad infopäevale  kohale iseseisvalt – sõidukulusid ei kompenseerita. \nInfopäeva  toimumise koht:  Centrum hotell\, Viljandi\, Tallinna 24 (Bussijaama läheduses) \nInfopäevale  oodatakse  huvilisi – mesinikke üle Eestimaa. \nInfopäeva korraldaja: MTÜ Alustame Algusest \nTäpsem info telefoni teel  50 29 006 – Marianne Rosenfeld
URL:https://test.pikk.ee/sundmus/teabepaev-hobimesinikust-saab-ettevotja/
CATEGORIES:Mesindus
ORGANIZER;CN="MT%C3%9C Alustame Algusest":MAILTO:alustamealgusest@gmail.com
END:VEVENT
BEGIN:VEVENT
DTSTART;TZID=Europe/Tallinn:20230628T100000
DTEND;TZID=Europe/Tallinn:20230628T150000
DTSTAMP:20260426T062240
CREATED:20230526T144753Z
LAST-MODIFIED:20230622T083534Z
UID:10010672-1687946400-1687964400@test.pikk.ee
SUMMARY:Esitluspäev praktikaga: Põllumajandus ja tolmeldamine  
DESCRIPTION:Esitlusel tutvume mesilastele võimalike atraktiivsete korjetaimedega. Õpime tundma korjetaimi ja nende seemneid ning koostama seemnesegusid.Kogunemis koht: Rannu Seeme OÜ kontori juures aadressil Annikoru küla\, Elva vald\,  Tartu maakond. \nPäevakava\n10:00 – 10:30   Korjetaimede kasvatamise toetus (Toomas Tõrra\, EMÜ) \n10:30 – 11:30   Põllumehe ja mesiniku kogemused korjetaimede kasvatamisel (Madis Ajaots\, Pilsu talu ja Jaan Eensaar\, Lõuna-Eesti Mesi). \n11:30 – 13:00   Mesinike ja põllumeeste infovälja parendamise rakendus – MaaeluGIS (Jaan Liira\, TÜ\, Horisont2020 EFFECT). \n13:00 – 14:00   Atraktiivsed korjetaimed ja nende tundma õppimine (Peeter Lääniste\, EMÜ). \n14:00  – 15:00  Korjetaimede seemned ja seemnesegude koostamine (Peeter Lääniste\, EMÜ) \nInfopäeval osalemiseks palume eelnevalt registreeruda: https://forms.gle/yVhstzRwBMhYRJAC7 \n  \nTäiendav info tel: 501 8038 (Toomas Tõrra) \nEsitluspäev “Teadmussiirde pikaajaline programm põllumajanduse\, toidu ja maamajanduse tegevusvaldkonnas” raames\, toetab Euroopa Maaelu Arengu Põllumajandusfond.
URL:https://test.pikk.ee/sundmus/infopaev-praktikaga-tolmeldajad-tootmispoldudel/
CATEGORIES:Keskkond,Mesindus,Taimekasvatus
END:VEVENT
END:VCALENDAR