BEGIN:VCALENDAR
VERSION:2.0
PRODID:-//METK nõuandeteenistus - ECPv6.15.13//NONSGML v1.0//EN
CALSCALE:GREGORIAN
METHOD:PUBLISH
X-WR-CALNAME:METK nõuandeteenistus
X-ORIGINAL-URL:https://test.pikk.ee
X-WR-CALDESC:Events for METK nõuandeteenistus
REFRESH-INTERVAL;VALUE=DURATION:PT1H
X-Robots-Tag:noindex
X-PUBLISHED-TTL:PT1H
BEGIN:VTIMEZONE
TZID:Europe/Tallinn
BEGIN:DAYLIGHT
TZOFFSETFROM:+0200
TZOFFSETTO:+0300
TZNAME:EEST
DTSTART:20220327T010000
END:DAYLIGHT
BEGIN:STANDARD
TZOFFSETFROM:+0300
TZOFFSETTO:+0200
TZNAME:EET
DTSTART:20221030T010000
END:STANDARD
BEGIN:DAYLIGHT
TZOFFSETFROM:+0200
TZOFFSETTO:+0300
TZNAME:EEST
DTSTART:20230326T010000
END:DAYLIGHT
BEGIN:STANDARD
TZOFFSETFROM:+0300
TZOFFSETTO:+0200
TZNAME:EET
DTSTART:20231029T010000
END:STANDARD
BEGIN:DAYLIGHT
TZOFFSETFROM:+0200
TZOFFSETTO:+0300
TZNAME:EEST
DTSTART:20240331T010000
END:DAYLIGHT
BEGIN:STANDARD
TZOFFSETFROM:+0300
TZOFFSETTO:+0200
TZNAME:EET
DTSTART:20241027T010000
END:STANDARD
END:VTIMEZONE
BEGIN:VEVENT
DTSTART;TZID=Europe/Tallinn:20230828T090000
DTEND;TZID=Europe/Tallinn:20230830T160000
DTSTAMP:20260422T063827
CREATED:20230113T081400Z
LAST-MODIFIED:20230116T092749Z
UID:10008474-1693213200-1693411200@test.pikk.ee
SUMMARY:Toiduhügieen ja -ohutus\, keskaste (veebipõhine kursus)
DESCRIPTION:Täpsem info ja registreerumine SIIT \nLektorid: Mati Roasto ja Katrin Laikoja \nKoolituse sisu:  \nEnesekontrolli rakendamine:\n– Toidualastest õigusaktidest;\n– Keemilised ohud toidus;\n– Füüsikalised ohud toidus;\n– Enesekontrollisüsteemi eeltingimusprogrammid;\n– Toiduohutuse juhtimissüsteemid\, sh HACCP\, ISO:22000\, FSSC 22000\, IFS\, BRC;\n– Ohtude analüüs ja riskihindamise põhimõtted;\n– Kriitilised kontrollpunktid toidu käitlemisel;\n– Toiduohutuse juhtimissüsteemide juurutamine ja ajakohastamine. \nPraktilised ülesanded (120 min):\n– Auditi ettevalmistusel töö dokumentidega\n– Seire lehe koostamine\n– Test \nToiduhügieen:\n– Toiduhügieeni põhimõtted;\n– Toidu bioloogiline saastumine;\n– Mikroorganismid ning nende kasvu ja paljunemist mõjutavad tegurid;\n– Toiduainete kaudu levivad haigused\, toidumürgistused ja -infektsioonid;\n– Toidu säilitamise viisid\, tingimused ning temperatuuri kontroll;\n– Isikliku hügieeni nõuded;\n– Hügieenikoolituste planeerimine ja läbiviimine. \nPraktilised ülesanded (120 min):\n– Isikliku hügieeni juhendi koostamine;\n– Eurlexist\, Riigi Teatajast ja VTA kodulehelt infot leidmine;\n– Test \nTootmishügieen:\n– Tootmisruumide ehituslikud aspektid ja nende seos ettevõtte toidu- ja tootmishügieeniga;\n– Hügieenitsoonide vajalikkus ja selle seos personalihügieeniga;\n– Toidu saastumise\, sh ristsaastumise võimalused ja selle vältimine;\n– Käitlemisettevõtte sanitatsiooni põhimõtted\, puhastamine ja desinfitseerimine;\n– Biokilede teke\, avastamine ja likvideerimine;\n– Listeria monocytogenes tootmishügieeni enim mõjutava faktorina. Probleemi ennetamise ja likvideerimise võimalused;\n– Kahjuritõrje\, jäätmekäitlus. \nPraktilised ülesanded (120 min):\n– Listeria monocytogenes’e juhtumanalüüs;\n– Praktilised näited reaalsete testidega (praktiline pinnaproovi võtmine);\n– Test \nTäienduskoolitusest võivad osa võtta: \n\npõllumajandustoodete töötlemise või turustamisega tegelev füüsilisest isikust ettevõtja ja tema töötaja ning eraõigusliku juriidilise isiku osanik\, aktsionär\, liige\, juhtorgani liige ja tema töötaja;\npõllumajandustoodetest mittepõllumajandustoodete töötlemise sh toidu valmistamise või töötlemisega tegelev füüsilisest isikust ettevõtja ja tema töötaja ning eraõigusliku juriidilise isiku osanik\, aktsionär\, liige\, juhtorgani liige ja tema töötaja;\ntoidu valmistamise või töötlemisega tegelev avalik-õigusliku juriidilise isiku juhtorgani liige või töötaja;\npõllumajandustootjate valdkonda teenindavad isikud (nt kokkuostuga tegelevate ettevõtete töötajad);\nisikud (FIE-d või ettevõtte esindajad)\, kes koguvad teadmisi uue tegevusvaldkonna kohta;\npõllumajanduslike esindus- ja erialaorganisatsioonide (MTÜ-d\, mille liikmeteks on põllumajandussaaduste töötlejad) juhatuse liikmed ja töötajad.\n\nFüüsiliste isikute ja riigiametnike täienduskoolitusel osalemine ei ole toetatav! \nPS. Selle programmi raames ei toetata tegevusi kalandustoodete tootmise ja töötlemise valdkonnas\, kuna kalandus- ja vesiviljelustooteid ei loeta põllumajandustooteks ning nendega seotud tegevusi toetatakse Euroopa kalandusfondi raames. \nKoolitus toimub MAK 2014-2020 meetme “Teadmussiirde pikaajaline programm põllumajanduse\, toidu ja maamajanduse tegevusvaldkonnas” toidu ja toiduohutuse valdkonna raames\, toetab Euroopa Liit. \nKoolitusel osalemine on vähese tähtsusega abi (VTA). Abisumma ühe osavõtja kohta arvutatakse osavõtjate lõpliku arvu järgi\, kuid see ei ületa 520 eurot. \nEttevõtte VTA vaba jääki saab kontrollida veebilehelt: https://www.rahandusministeerium.ee/et/riigiabi. \nKui osaleja ettevõttel ei ole piisavalt VTA vaba jääki\, siis on osalemise eest antav toetus riigiabi ning sellisel juhul tuleb ettevõttel esitada enne tegevuse toimumist riigiabi taotlus (vormi saab korraldajalt).\nKeskmise suurusega ettevõtja korral toetatakse infopäeval või koolitusel osalemist 60%\, mikro-ja väikeettevõtja korral 70% ning suurettevõtja korral 50% ulatuses osaleja kohta.\nPuudujääv osa tuleb osalejal/ettevõttel endal tasuda. \n  \nKoolituse korraldaja:\nEesti Maaülikooli avatud ülikool\nFr. R. Kreutzwaldi 56/1\n51006 Tartu\,\ntel 731 3275\ne-post: avayl@emu.ee\nhttp://avatudylikool.emu.ee/
URL:https://test.pikk.ee/sundmus/toiduhugieen-ja-ohutus-keskaste-veebipohine-kursus-5-koopia/
LOCATION:Veebis\, Eesti
CATEGORIES:Maaettevõtlus,Mesindus,Toiduainete tootmine,Toit ja toiduohutus,Tootmine ja kvaliteet
ORGANIZER;CN="Eesti Maa%C3%BClikooli avatud %C3%BClikool":MAILTO:avayl@emu.ee
END:VEVENT
END:VCALENDAR